| Back to Multiple platform build/check report for BioC 3.9 | 
 | 
This page was generated on 2019-04-09 12:21:13 -0400 (Tue, 09 Apr 2019).
| Package 493/1703 | Hostname | OS / Arch | INSTALL | BUILD | CHECK | BUILD BIN | ||||||
| EnrichmentBrowser 2.13.2 Ludwig Geistlinger 
 | malbec2 | Linux (Ubuntu 18.04.2 LTS) / x86_64 | OK | OK | OK |  | ||||||
| tokay2 | Windows Server 2012 R2 Standard / x64 | OK | OK | OK | [ OK ] |  | ||||||
| celaya2 | OS X 10.11.6 El Capitan / x86_64 | OK | OK | OK | OK |  | ||||||
| merida2 | OS X 10.11.6 El Capitan / x86_64 | OK | OK | OK | OK | 
| Package: EnrichmentBrowser | 
| Version: 2.13.2 | 
| Command: rm -rf EnrichmentBrowser.buildbin-libdir && mkdir EnrichmentBrowser.buildbin-libdir && C:\Users\biocbuild\bbs-3.9-bioc\R\bin\R.exe CMD INSTALL --merge-multiarch --build --library=EnrichmentBrowser.buildbin-libdir EnrichmentBrowser_2.13.2.tar.gz | 
| StartedAt: 2019-04-09 07:51:24 -0400 (Tue, 09 Apr 2019) | 
| EndedAt: 2019-04-09 07:52:02 -0400 (Tue, 09 Apr 2019) | 
| EllapsedTime: 37.7 seconds | 
| RetCode: 0 | 
| Status: OK | 
| PackageFile: EnrichmentBrowser_2.13.2.zip | 
| PackageFileSize: 1.395 MiB | 
##############################################################################
##############################################################################
###
### Running command:
###
###   rm -rf EnrichmentBrowser.buildbin-libdir && mkdir EnrichmentBrowser.buildbin-libdir && C:\Users\biocbuild\bbs-3.9-bioc\R\bin\R.exe CMD INSTALL --merge-multiarch --build --library=EnrichmentBrowser.buildbin-libdir EnrichmentBrowser_2.13.2.tar.gz
###
##############################################################################
##############################################################################
install for i386
* installing *source* package 'EnrichmentBrowser' ...
** R
** inst
** byte-compile and prepare package for lazy loading
** help
*** installing help indices
  converting help for package 'EnrichmentBrowser'
    finding HTML links ... done
    combResults                             html  
    compileGRN                              html  
    finding level-2 HTML links ... done
    configEBrowser                          html  
    deAna                                   html  
    downloadPathways                        html  
    eaBrowse                                html  
    ebrowser                                html  
    getGenesets                             html  
    ggeaGraph                               html  
    idMap                                   html  
    isAvailable                             html  
    makeExampleData                         html  
    nbea                                    html  
    normalize                               html  
    plots                                   html  
    probe2gene                              html  
    readSE                                  html  
    sbea                                    html  
** building package indices
** installing vignettes
** testing if installed package can be loaded from temporary location
** testing if installed package can be loaded from final location
** testing if installed package keeps a record of temporary installation path
install for x64
* installing *source* package 'EnrichmentBrowser' ...
** testing if installed package can be loaded
* MD5 sums
packaged installation of 'EnrichmentBrowser' as EnrichmentBrowser_2.13.2.zip
* DONE (EnrichmentBrowser)