| Back to Multiple platform build/check report for BioC 3.9 | 
 | 
This page was generated on 2019-04-09 12:24:57 -0400 (Tue, 09 Apr 2019).
| Package 492/1703 | Hostname | OS / Arch | INSTALL | BUILD | CHECK | BUILD BIN | ||||||
| EnrichedHeatmap 1.13.2 Zuguang Gu 
 | malbec2 | Linux (Ubuntu 18.04.2 LTS) / x86_64 | OK | OK | OK |  | ||||||
| tokay2 | Windows Server 2012 R2 Standard / x64 | OK | OK | OK | [ OK ] |  | ||||||
| celaya2 | OS X 10.11.6 El Capitan / x86_64 | OK | OK | OK | OK |  | ||||||
| merida2 | OS X 10.11.6 El Capitan / x86_64 | OK | OK | OK | OK | 
| Package: EnrichedHeatmap | 
| Version: 1.13.2 | 
| Command: rm -rf EnrichedHeatmap.buildbin-libdir && mkdir EnrichedHeatmap.buildbin-libdir && C:\Users\biocbuild\bbs-3.9-bioc\R\bin\R.exe CMD INSTALL --merge-multiarch --build --library=EnrichedHeatmap.buildbin-libdir EnrichedHeatmap_1.13.2.tar.gz | 
| StartedAt: 2019-04-09 07:51:21 -0400 (Tue, 09 Apr 2019) | 
| EndedAt: 2019-04-09 07:51:58 -0400 (Tue, 09 Apr 2019) | 
| EllapsedTime: 37.5 seconds | 
| RetCode: 0 | 
| Status: OK | 
| PackageFile: EnrichedHeatmap_1.13.2.zip | 
| PackageFileSize: 6.926 MiB | 
##############################################################################
##############################################################################
###
### Running command:
###
###   rm -rf EnrichedHeatmap.buildbin-libdir && mkdir EnrichedHeatmap.buildbin-libdir && C:\Users\biocbuild\bbs-3.9-bioc\R\bin\R.exe CMD INSTALL --merge-multiarch --build --library=EnrichedHeatmap.buildbin-libdir EnrichedHeatmap_1.13.2.tar.gz
###
##############################################################################
##############################################################################
install for i386
* installing *source* package 'EnrichedHeatmap' ...
** libs
C:/Rtools/mingw_32/bin/g++  -I"C:/Users/BIOCBU˜1/BBS-3˜1.9-B/R/include" -DNDEBUG  -I"C:/Users/biocbuild/bbs-3.9-bioc/R/library/Rcpp/include"   -I"C:/extsoft/include"     -O2 -Wall  -mtune=generic -c RcppExports.cpp -o RcppExports.o
C:/Rtools/mingw_32/bin/g++  -I"C:/Users/BIOCBU˜1/BBS-3˜1.9-B/R/include" -DNDEBUG  -I"C:/Users/biocbuild/bbs-3.9-bioc/R/library/Rcpp/include"   -I"C:/extsoft/include"     -O2 -Wall  -mtune=generic -c dist_by_closeness.cpp -o dist_by_closeness.o
C:/Rtools/mingw_32/bin/g++ -shared -s -static-libgcc -o EnrichedHeatmap.dll tmp.def RcppExports.o dist_by_closeness.o -LC:/extsoft/lib/i386 -LC:/extsoft/lib -LC:/Users/BIOCBU˜1/BBS-3˜1.9-B/R/bin/i386 -lR
installing to C:/Users/biocbuild/bbs-3.9-bioc/meat/EnrichedHeatmap.buildbin-libdir/00LOCK-EnrichedHeatmap/00new/EnrichedHeatmap/libs/i386
** R
** inst
** byte-compile and prepare package for lazy loading
** help
*** installing help indices
  converting help for package 'EnrichedHeatmap'
    finding HTML links ... done
    EnrichedHeatmap                         html  
    finding level-2 HTML links ... done
    Extract.normalizedMatrix                html  
    anno_enriched                           html  
    as.normalizedMatrix                     html  
    copyAttr                                html  
    default_smooth_fun                      html  
    discretize                              html  
    dist_by_closeness                       html  
    enriched_score                          html  
    extract_anno_enriched                   html  
    failed_rows                             html  
    getSignalsFromList                      html  
    makeWindows                             html  
    normalizeToMatrix                       html  
    print.normalizedMatrix                  html  
    rbind.normalizedMatrix                  html  
** building package indices
** installing vignettes
** testing if installed package can be loaded from temporary location
** testing if installed package can be loaded from final location
** testing if installed package keeps a record of temporary installation path
install for x64
* installing *source* package 'EnrichedHeatmap' ...
** libs
C:/Rtools/mingw_64/bin/g++  -I"C:/Users/BIOCBU˜1/BBS-3˜1.9-B/R/include" -DNDEBUG  -I"C:/Users/biocbuild/bbs-3.9-bioc/R/library/Rcpp/include"   -I"C:/extsoft/include"     -O2 -Wall  -mtune=generic -c RcppExports.cpp -o RcppExports.o
C:/Rtools/mingw_64/bin/g++  -I"C:/Users/BIOCBU˜1/BBS-3˜1.9-B/R/include" -DNDEBUG  -I"C:/Users/biocbuild/bbs-3.9-bioc/R/library/Rcpp/include"   -I"C:/extsoft/include"     -O2 -Wall  -mtune=generic -c dist_by_closeness.cpp -o dist_by_closeness.o
C:/Rtools/mingw_64/bin/g++ -shared -s -static-libgcc -o EnrichedHeatmap.dll tmp.def RcppExports.o dist_by_closeness.o -LC:/extsoft/lib/x64 -LC:/extsoft/lib -LC:/Users/BIOCBU˜1/BBS-3˜1.9-B/R/bin/x64 -lR
installing to C:/Users/biocbuild/bbs-3.9-bioc/meat/EnrichedHeatmap.buildbin-libdir/EnrichedHeatmap/libs/x64
** testing if installed package can be loaded
* MD5 sums
packaged installation of 'EnrichedHeatmap' as EnrichedHeatmap_1.13.2.zip
* DONE (EnrichedHeatmap)