| Back to Multiple platform build/check report for BioC 3.9 |
|
This page was generated on 2019-04-09 12:41:59 -0400 (Tue, 09 Apr 2019).
| Package 509/1703 | Hostname | OS / Arch | INSTALL | BUILD | CHECK | BUILD BIN | ||||||
| ERSSA 1.1.1 Zixuan Shao
| malbec2 | Linux (Ubuntu 18.04.2 LTS) / x86_64 | OK | OK | OK | |||||||
| tokay2 | Windows Server 2012 R2 Standard / x64 | OK | OK | OK | [ OK ] | |||||||
| celaya2 | OS X 10.11.6 El Capitan / x86_64 | OK | OK | OK | OK | |||||||
| merida2 | OS X 10.11.6 El Capitan / x86_64 | OK | OK | OK | OK |
| Package: ERSSA |
| Version: 1.1.1 |
| Command: rm -rf ERSSA.buildbin-libdir && mkdir ERSSA.buildbin-libdir && C:\Users\biocbuild\bbs-3.9-bioc\R\bin\R.exe CMD INSTALL --merge-multiarch --build --library=ERSSA.buildbin-libdir ERSSA_1.1.1.tar.gz |
| StartedAt: 2019-04-09 07:52:23 -0400 (Tue, 09 Apr 2019) |
| EndedAt: 2019-04-09 07:53:25 -0400 (Tue, 09 Apr 2019) |
| EllapsedTime: 62.8 seconds |
| RetCode: 0 |
| Status: OK |
| PackageFile: ERSSA_1.1.1.zip |
| PackageFileSize: 2.573 MiB |
##############################################################################
##############################################################################
###
### Running command:
###
### rm -rf ERSSA.buildbin-libdir && mkdir ERSSA.buildbin-libdir && C:\Users\biocbuild\bbs-3.9-bioc\R\bin\R.exe CMD INSTALL --merge-multiarch --build --library=ERSSA.buildbin-libdir ERSSA_1.1.1.tar.gz
###
##############################################################################
##############################################################################
install for i386
* installing *source* package 'ERSSA' ...
** R
** data
*** moving datasets to lazyload DB
** inst
** byte-compile and prepare package for lazy loading
** help
*** installing help indices
converting help for package 'ERSSA'
finding HTML links ... done
comb_gen html
combinations.partial html
condition_table.full html
condition_table.partial html
count_filter html
count_table.filtered.partial html
count_table.full html
count_table.partial html
deg.partial html
erssa html
erssa_deseq2 html
erssa_deseq2_parallel html
erssa_edger html
erssa_edger_parallel html
ggplot2_TPR_FPRPlot html
ggplot2_dotplot html
ggplot2_intersectPlot html
ggplot2_marginPlot html
** building package indices
** installing vignettes
** testing if installed package can be loaded from temporary location
** testing if installed package can be loaded from final location
** testing if installed package keeps a record of temporary installation path
install for x64
* installing *source* package 'ERSSA' ...
** testing if installed package can be loaded
* MD5 sums
packaged installation of 'ERSSA' as ERSSA_1.1.1.zip
* DONE (ERSSA)