| Back to Multiple platform build/check report for BioC 3.9 | 
 | 
This page was generated on 2019-04-09 13:16:17 -0400 (Tue, 09 Apr 2019).
| Package 481/1703 | Hostname | OS / Arch | INSTALL | BUILD | CHECK | BUILD BIN | ||||||
| EGAD 1.11.0 Sara Ballouz 
 | malbec2 | Linux (Ubuntu 18.04.2 LTS) / x86_64 | OK | OK | OK |  | ||||||
| tokay2 | Windows Server 2012 R2 Standard / x64 | OK | OK | OK | OK |  | ||||||
| celaya2 | OS X 10.11.6 El Capitan / x86_64 | ERROR | [ ERROR ] | skipped | skipped | |||||||
| merida2 | OS X 10.11.6 El Capitan / x86_64 | ERROR | ERROR | skipped | skipped | 
| Package: EGAD | 
| Version: 1.11.0 | 
| Command: /Library/Frameworks/R.framework/Versions/Current/Resources/bin/R CMD build --keep-empty-dirs --no-resave-data EGAD | 
| StartedAt: 2019-04-08 21:58:45 -0400 (Mon, 08 Apr 2019) | 
| EndedAt: 2019-04-08 21:58:48 -0400 (Mon, 08 Apr 2019) | 
| EllapsedTime: 2.5 seconds | 
| RetCode: 1 | 
| Status: ERROR | 
| PackageFile: None | 
| PackageFileSize: NA | 
##############################################################################
##############################################################################
###
### Running command:
###
###   /Library/Frameworks/R.framework/Versions/Current/Resources/bin/R CMD build --keep-empty-dirs --no-resave-data EGAD
###
##############################################################################
##############################################################################
* checking for file ‘EGAD/DESCRIPTION’ ... OK
* preparing ‘EGAD’:
* checking DESCRIPTION meta-information ... OK
* installing the package to build vignettes
      -----------------------------------
ERROR: dependency ‘arrayQualityMetrics’ is not available for package ‘EGAD’
* removing ‘/private/tmp/RtmpVeAnU0/Rinsta11c7e5404c/EGAD’
      -----------------------------------
ERROR: package installation failed