| Back to Multiple platform build/check report for BioC 3.9 |
|
This page was generated on 2019-04-09 13:29:46 -0400 (Tue, 09 Apr 2019).
| Package 463/1703 | Hostname | OS / Arch | INSTALL | BUILD | CHECK | BUILD BIN | ||||||
| DupChecker 1.21.0 "Quanhu SHENG"
| malbec2 | Linux (Ubuntu 18.04.2 LTS) / x86_64 | OK | OK | OK | |||||||
| tokay2 | Windows Server 2012 R2 Standard / x64 | OK | OK | OK | OK | |||||||
| celaya2 | OS X 10.11.6 El Capitan / x86_64 | OK | OK | OK | OK | |||||||
| merida2 | OS X 10.11.6 El Capitan / x86_64 | OK | OK | OK | [ OK ] |
| Package: DupChecker |
| Version: 1.21.0 |
| Command: rm -rf DupChecker.buildbin-libdir && mkdir DupChecker.buildbin-libdir && /Users/biocbuild/BBS/utils/build-universal.sh DupChecker_1.21.0.tar.gz /Library/Frameworks/R.framework/Versions/Current/Resources/bin/R DupChecker.buildbin-libdir |
| StartedAt: 2019-04-09 05:13:10 -0400 (Tue, 09 Apr 2019) |
| EndedAt: 2019-04-09 05:14:26 -0400 (Tue, 09 Apr 2019) |
| EllapsedTime: 75.3 seconds |
| RetCode: 0 |
| Status: OK |
| PackageFile: DupChecker_1.21.0.tgz |
| PackageFileSize: 166.3 KiB |
############################################################################## ############################################################################## ### ### Running command: ### ### rm -rf DupChecker.buildbin-libdir && mkdir DupChecker.buildbin-libdir && /Users/biocbuild/BBS/utils/build-universal.sh DupChecker_1.21.0.tar.gz /Library/Frameworks/R.framework/Versions/Current/Resources/bin/R DupChecker.buildbin-libdir ### ############################################################################## ############################################################################## >>>>>>> >>>>>>> INSTALLATION WITH 'R CMD INSTALL --preclean --no-multiarch --library=DupChecker.buildbin-libdir DupChecker_1.21.0.tar.gz' >>>>>>> * installing *source* package ‘DupChecker’ ... ** R ** inst ** byte-compile and prepare package for lazy loading ** help *** installing help indices ** building package indices ** installing vignettes ** testing if installed package can be loaded * DONE (DupChecker)