| Back to Multiple platform build/check report for BioC 3.9 | 
 | 
This page was generated on 2019-04-09 12:36:32 -0400 (Tue, 09 Apr 2019).
| Package 448/1703 | Hostname | OS / Arch | INSTALL | BUILD | CHECK | BUILD BIN | ||||||
| DominoEffect 1.3.1 Marija Buljan 
 | malbec2 | Linux (Ubuntu 18.04.2 LTS) / x86_64 | OK | OK | OK |  | ||||||
| tokay2 | Windows Server 2012 R2 Standard / x64 | OK | OK | OK | [ OK ] |  | ||||||
| celaya2 | OS X 10.11.6 El Capitan / x86_64 | OK | OK | OK | OK |  | ||||||
| merida2 | OS X 10.11.6 El Capitan / x86_64 | OK | OK | OK | OK | 
| Package: DominoEffect | 
| Version: 1.3.1 | 
| Command: rm -rf DominoEffect.buildbin-libdir && mkdir DominoEffect.buildbin-libdir && C:\Users\biocbuild\bbs-3.9-bioc\R\bin\R.exe CMD INSTALL --merge-multiarch --build --library=DominoEffect.buildbin-libdir DominoEffect_1.3.1.tar.gz | 
| StartedAt: 2019-04-09 07:48:49 -0400 (Tue, 09 Apr 2019) | 
| EndedAt: 2019-04-09 07:50:04 -0400 (Tue, 09 Apr 2019) | 
| EllapsedTime: 75.0 seconds | 
| RetCode: 0 | 
| Status: OK | 
| PackageFile: DominoEffect_1.3.1.zip | 
| PackageFileSize: 597.8 KiB | 
##############################################################################
##############################################################################
###
### Running command:
###
###   rm -rf DominoEffect.buildbin-libdir && mkdir DominoEffect.buildbin-libdir && C:\Users\biocbuild\bbs-3.9-bioc\R\bin\R.exe CMD INSTALL --merge-multiarch --build --library=DominoEffect.buildbin-libdir DominoEffect_1.3.1.tar.gz
###
##############################################################################
##############################################################################
install for i386
* installing *source* package 'DominoEffect' ...
** R
** data
*** moving datasets to lazyload DB
** inst
** byte-compile and prepare package for lazy loading
** help
*** installing help indices
  converting help for package 'DominoEffect'
    finding HTML links ... done
    DominoEffect                            html  
    GPo_of_hotspots                         html  
    align_to_unip                           html  
    calculate_boundary                      html  
    data                                    html  
    identify_hotspots                       html  
    import_txdb                             html  
    map_to_func_elem                        html  
** building package indices
** installing vignettes
** testing if installed package can be loaded from temporary location
** testing if installed package can be loaded from final location
** testing if installed package keeps a record of temporary installation path
install for x64
* installing *source* package 'DominoEffect' ...
** testing if installed package can be loaded
* MD5 sums
packaged installation of 'DominoEffect' as DominoEffect_1.3.1.zip
* DONE (DominoEffect)