| Back to Multiple platform build/check report for BioC 3.9 | 
 | 
This page was generated on 2019-04-09 12:00:36 -0400 (Tue, 09 Apr 2019).
| Package 434/1703 | Hostname | OS / Arch | INSTALL | BUILD | CHECK | BUILD BIN | ||||||
| DirichletMultinomial 1.25.1 Martin Morgan 
 | malbec2 | Linux (Ubuntu 18.04.2 LTS) / x86_64 | OK | OK | OK |  | ||||||
| tokay2 | Windows Server 2012 R2 Standard / x64 | OK | OK | [ OK ] | OK |  | ||||||
| celaya2 | OS X 10.11.6 El Capitan / x86_64 | OK | OK | OK | OK |  | ||||||
| merida2 | OS X 10.11.6 El Capitan / x86_64 | OK | OK | OK | OK | 
| Package: DirichletMultinomial | 
| Version: 1.25.1 | 
| Command: C:\Users\biocbuild\bbs-3.9-bioc\R\bin\R.exe CMD check --force-multiarch --install=check:DirichletMultinomial.install-out.txt --library=C:\Users\biocbuild\bbs-3.9-bioc\R\library --no-vignettes --timings DirichletMultinomial_1.25.1.tar.gz | 
| StartedAt: 2019-04-09 02:20:20 -0400 (Tue, 09 Apr 2019) | 
| EndedAt: 2019-04-09 02:21:53 -0400 (Tue, 09 Apr 2019) | 
| EllapsedTime: 92.8 seconds | 
| RetCode: 0 | 
| Status: OK | 
| CheckDir: DirichletMultinomial.Rcheck | 
| Warnings: 0 | 
############################################################################## ############################################################################## ### ### Running command: ### ### C:\Users\biocbuild\bbs-3.9-bioc\R\bin\R.exe CMD check --force-multiarch --install=check:DirichletMultinomial.install-out.txt --library=C:\Users\biocbuild\bbs-3.9-bioc\R\library --no-vignettes --timings DirichletMultinomial_1.25.1.tar.gz ### ############################################################################## ############################################################################## * using log directory 'C:/Users/biocbuild/bbs-3.9-bioc/meat/DirichletMultinomial.Rcheck' * using R Under development (unstable) (2019-03-09 r76216) * using platform: x86_64-w64-mingw32 (64-bit) * using session charset: ISO8859-1 * using option '--no-vignettes' * checking for file 'DirichletMultinomial/DESCRIPTION' ... OK * checking extension type ... Package * this is package 'DirichletMultinomial' version '1.25.1' * checking package namespace information ... OK * checking package dependencies ... OK * checking if this is a source package ... OK * checking if there is a namespace ... OK * checking for hidden files and directories ... OK * checking for portable file names ... OK * checking whether package 'DirichletMultinomial' can be installed ... OK * checking installed package size ... OK * checking package directory ... OK * checking 'build' directory ... OK * checking DESCRIPTION meta-information ... OK * checking top-level files ... OK * checking for left-over files ... OK * checking index information ... OK * checking package subdirectories ... OK * checking R files for non-ASCII characters ... OK * checking R files for syntax errors ... OK * loading checks for arch 'i386' ** checking whether the package can be loaded ... OK ** checking whether the package can be loaded with stated dependencies ... OK ** checking whether the package can be unloaded cleanly ... OK ** checking whether the namespace can be loaded with stated dependencies ... OK ** checking whether the namespace can be unloaded cleanly ... OK * loading checks for arch 'x64' ** checking whether the package can be loaded ... OK ** checking whether the package can be loaded with stated dependencies ... OK ** checking whether the package can be unloaded cleanly ... OK ** checking whether the namespace can be loaded with stated dependencies ... OK ** checking whether the namespace can be unloaded cleanly ... OK * checking dependencies in R code ... OK * checking S3 generic/method consistency ... OK * checking replacement functions ... OK * checking foreign function calls ... OK * checking R code for possible problems ... OK * checking Rd files ... OK * checking Rd metadata ... OK * checking Rd cross-references ... OK * checking for missing documentation entries ... OK * checking for code/documentation mismatches ... OK * checking Rd \usage sections ... OK * checking Rd contents ... OK * checking for unstated dependencies in examples ... OK * checking contents of 'data' directory ... OK * checking data for non-ASCII characters ... OK * checking data for ASCII and uncompressed saves ... OK * checking line endings in C/C++/Fortran sources/headers ... OK * checking line endings in Makefiles ... OK * checking compilation flags in Makevars ... OK * checking for GNU extensions in Makefiles ... OK * checking for portable use of $(BLAS_LIBS) and $(LAPACK_LIBS) ... OK * checking compiled code ... NOTE Note: information on .o files for i386 is not available Note: information on .o files for x64 is not available File 'C:/Users/biocbuild/bbs-3.9-bioc/R/library/DirichletMultinomial/libs/i386/DirichletMultinomial.dll': Found 'abort', possibly from 'abort' (C), 'runtime' (Fortran) Found 'printf', possibly from 'printf' (C) File 'C:/Users/biocbuild/bbs-3.9-bioc/R/library/DirichletMultinomial/libs/x64/DirichletMultinomial.dll': Found 'abort', possibly from 'abort' (C), 'runtime' (Fortran) Found 'printf', possibly from 'printf' (C) Compiled code should not call entry points which might terminate R nor write to stdout/stderr instead of to the console, nor use Fortran I/O nor system RNGs. The detected symbols are linked into the code but might come from libraries and not actually be called. See 'Writing portable packages' in the 'Writing R Extensions' manual. * checking files in 'vignettes' ... OK * checking examples ... ** running examples for arch 'i386' ... OK ** running examples for arch 'x64' ... OK * checking for unstated dependencies in vignettes ... OK * checking package vignettes in 'inst/doc' ... OK * checking running R code from vignettes ... SKIPPED * checking re-building of vignette outputs ... SKIPPED * checking PDF version of manual ... OK * DONE Status: 1 NOTE See 'C:/Users/biocbuild/bbs-3.9-bioc/meat/DirichletMultinomial.Rcheck/00check.log' for details.
DirichletMultinomial.Rcheck/00install.out
##############################################################################
##############################################################################
###
### Running command:
###
###   C:\cygwin\bin\curl.exe -O https://malbec2.bioconductor.org/BBS/3.9/bioc/src/contrib/DirichletMultinomial_1.25.1.tar.gz && rm -rf DirichletMultinomial.buildbin-libdir && mkdir DirichletMultinomial.buildbin-libdir && C:\Users\biocbuild\bbs-3.9-bioc\R\bin\R.exe CMD INSTALL --merge-multiarch --build --library=DirichletMultinomial.buildbin-libdir DirichletMultinomial_1.25.1.tar.gz && C:\Users\biocbuild\bbs-3.9-bioc\R\bin\R.exe CMD INSTALL DirichletMultinomial_1.25.1.zip && rm DirichletMultinomial_1.25.1.tar.gz DirichletMultinomial_1.25.1.zip
###
##############################################################################
##############################################################################
  % Total    % Received % Xferd  Average Speed   Time    Time     Time  Current
                                 Dload  Upload   Total   Spent    Left  Speed
  0     0    0     0    0     0      0      0 --:--:-- --:--:-- --:--:--     0
100  196k  100  196k    0     0  2690k      0 --:--:-- --:--:-- --:--:-- 2982k
install for i386
* installing *source* package 'DirichletMultinomial' ...
** libs
C:/Rtools/mingw_32/bin/gcc  -I"C:/Users/BIOCBU˜1/BBS-3˜1.9-B/R/include" -DNDEBUG -I/src/include -I/i386/include    -I"C:/extsoft/include"     -O3 -Wall  -std=gnu99 -mtune=generic -c R_init_DirichletMultinomial.c -o R_init_DirichletMultinomial.o
C:/Rtools/mingw_32/bin/gcc  -I"C:/Users/BIOCBU˜1/BBS-3˜1.9-B/R/include" -DNDEBUG -I/src/include -I/i386/include    -I"C:/extsoft/include"     -O3 -Wall  -std=gnu99 -mtune=generic -c dirichlet_fit.c -o dirichlet_fit.o
C:/Rtools/mingw_32/bin/gcc  -I"C:/Users/BIOCBU˜1/BBS-3˜1.9-B/R/include" -DNDEBUG -I/src/include -I/i386/include    -I"C:/extsoft/include"     -O3 -Wall  -std=gnu99 -mtune=generic -c dirichlet_fit_main.c -o dirichlet_fit_main.o
dirichlet_fit_main.c: In function 'dirichlet_fit_main':
dirichlet_fit_main.c:542:17: warning: variable 'status' set but not used [-Wunused-but-set-variable]
     int signum, status;
                 ^
C:/Rtools/mingw_32/bin/gcc -shared -s -static-libgcc -o DirichletMultinomial.dll tmp.def R_init_DirichletMultinomial.o dirichlet_fit.o dirichlet_fit_main.o -L/i386/lib -lgsl -lgslcblas -lm -LC:/extsoft/lib/i386 -LC:/extsoft/lib -LC:/Users/BIOCBU˜1/BBS-3˜1.9-B/R/bin/i386 -lR
installing to C:/Users/biocbuild/bbs-3.9-bioc/meat/DirichletMultinomial.buildbin-libdir/00LOCK-DirichletMultinomial/00new/DirichletMultinomial/libs/i386
** R
** data
** inst
** byte-compile and prepare package for lazy loading
** help
*** installing help indices
  converting help for package 'DirichletMultinomial'
    finding HTML links ... done
    DMN-class                               html  
    DMNGroup-class                          html  
    finding level-2 HTML links ... done
    DirichletMultinomial-package            html  
    cvdmngroup                              html  
    dataobjects                             html  
    dmn                                     html  
    dmngroup                                html  
    fitted                                  html  
    heatmapdmn                              html  
    roc                                     html  
    util                                    html  
** building package indices
** installing vignettes
** testing if installed package can be loaded from temporary location
** testing if installed package can be loaded from final location
** testing if installed package keeps a record of temporary installation path
install for x64
* installing *source* package 'DirichletMultinomial' ...
** libs
C:/Rtools/mingw_64/bin/gcc  -I"C:/Users/BIOCBU˜1/BBS-3˜1.9-B/R/include" -DNDEBUG -I/src/include -I/x64/include    -I"C:/extsoft/include"     -O2 -Wall  -std=gnu99 -mtune=generic -c R_init_DirichletMultinomial.c -o R_init_DirichletMultinomial.o
C:/Rtools/mingw_64/bin/gcc  -I"C:/Users/BIOCBU˜1/BBS-3˜1.9-B/R/include" -DNDEBUG -I/src/include -I/x64/include    -I"C:/extsoft/include"     -O2 -Wall  -std=gnu99 -mtune=generic -c dirichlet_fit.c -o dirichlet_fit.o
C:/Rtools/mingw_64/bin/gcc  -I"C:/Users/BIOCBU˜1/BBS-3˜1.9-B/R/include" -DNDEBUG -I/src/include -I/x64/include    -I"C:/extsoft/include"     -O2 -Wall  -std=gnu99 -mtune=generic -c dirichlet_fit_main.c -o dirichlet_fit_main.o
dirichlet_fit_main.c: In function 'dirichlet_fit_main':
dirichlet_fit_main.c:542:17: warning: variable 'status' set but not used [-Wunused-but-set-variable]
     int signum, status;
                 ^
C:/Rtools/mingw_64/bin/gcc -shared -s -static-libgcc -o DirichletMultinomial.dll tmp.def R_init_DirichletMultinomial.o dirichlet_fit.o dirichlet_fit_main.o -L/x64/lib -lgsl -lgslcblas -lm -LC:/extsoft/lib/x64 -LC:/extsoft/lib -LC:/Users/BIOCBU˜1/BBS-3˜1.9-B/R/bin/x64 -lR
installing to C:/Users/biocbuild/bbs-3.9-bioc/meat/DirichletMultinomial.buildbin-libdir/DirichletMultinomial/libs/x64
** testing if installed package can be loaded
* MD5 sums
packaged installation of 'DirichletMultinomial' as DirichletMultinomial_1.25.1.zip
* DONE (DirichletMultinomial)
* installing to library 'C:/Users/biocbuild/bbs-3.9-bioc/R/library'
package 'DirichletMultinomial' successfully unpacked and MD5 sums checked
| DirichletMultinomial.Rcheck/examples_i386/DirichletMultinomial-Ex.timings 
 | DirichletMultinomial.Rcheck/examples_x64/DirichletMultinomial-Ex.timings 
 |