| Back to Multiple platform build/check report for BioC 3.9 |
|
This page was generated on 2019-04-09 13:17:21 -0400 (Tue, 09 Apr 2019).
| Package 403/1703 | Hostname | OS / Arch | INSTALL | BUILD | CHECK | BUILD BIN | ||||||
| DelayedArray 0.9.9 Hervé Pagès
| malbec2 | Linux (Ubuntu 18.04.2 LTS) / x86_64 | OK | OK | WARNINGS | |||||||
| tokay2 | Windows Server 2012 R2 Standard / x64 | OK | OK | WARNINGS | OK | |||||||
| celaya2 | OS X 10.11.6 El Capitan / x86_64 | [ OK ] | OK | WARNINGS | OK | |||||||
| merida2 | OS X 10.11.6 El Capitan / x86_64 | OK | OK | WARNINGS | OK |
| Package: DelayedArray |
| Version: 0.9.9 |
| Command: /Library/Frameworks/R.framework/Versions/Current/Resources/bin/R CMD INSTALL DelayedArray |
| StartedAt: 2019-04-08 18:25:20 -0400 (Mon, 08 Apr 2019) |
| EndedAt: 2019-04-08 18:26:23 -0400 (Mon, 08 Apr 2019) |
| EllapsedTime: 62.9 seconds |
| RetCode: 0 |
| Status: OK |
##############################################################################
##############################################################################
###
### Running command:
###
### /Library/Frameworks/R.framework/Versions/Current/Resources/bin/R CMD INSTALL DelayedArray
###
##############################################################################
##############################################################################
* installing to library ‘/Library/Frameworks/R.framework/Versions/3.6/Resources/library’
* installing *source* package ‘DelayedArray’ ...
** using staged installation
** libs
clang -I"/Library/Frameworks/R.framework/Resources/include" -DNDEBUG -I"/Library/Frameworks/R.framework/Versions/3.6/Resources/library/S4Vectors/include" -I/usr/local/include -fPIC -Wall -g -O2 -c R_init_DelayedArray.c -o R_init_DelayedArray.o
clang -I"/Library/Frameworks/R.framework/Resources/include" -DNDEBUG -I"/Library/Frameworks/R.framework/Versions/3.6/Resources/library/S4Vectors/include" -I/usr/local/include -fPIC -Wall -g -O2 -c S4Vectors_stubs.c -o S4Vectors_stubs.o
clang -I"/Library/Frameworks/R.framework/Resources/include" -DNDEBUG -I"/Library/Frameworks/R.framework/Versions/3.6/Resources/library/S4Vectors/include" -I/usr/local/include -fPIC -Wall -g -O2 -c abind.c -o abind.o
clang -I"/Library/Frameworks/R.framework/Resources/include" -DNDEBUG -I"/Library/Frameworks/R.framework/Versions/3.6/Resources/library/S4Vectors/include" -I/usr/local/include -fPIC -Wall -g -O2 -c compress_atomic_vector.c -o compress_atomic_vector.o
compress_atomic_vector.c:66:9: warning: variable 'ans' is uninitialized when used here [-Wuninitialized]
return ans;
^˜˜
compress_atomic_vector.c:64:10: note: initialize the variable 'ans' to silence this warning
SEXP ans;
^
= NULL
compress_atomic_vector.c:73:9: warning: variable 'ans' is uninitialized when used here [-Wuninitialized]
return ans;
^˜˜
compress_atomic_vector.c:71:10: note: initialize the variable 'ans' to silence this warning
SEXP ans;
^
= NULL
compress_atomic_vector.c:85:9: warning: variable 'ans' is uninitialized when used here [-Wuninitialized]
return ans;
^˜˜
compress_atomic_vector.c:83:10: note: initialize the variable 'ans' to silence this warning
SEXP ans;
^
= NULL
compress_atomic_vector.c:92:9: warning: variable 'ans' is uninitialized when used here [-Wuninitialized]
return ans;
^˜˜
compress_atomic_vector.c:90:10: note: initialize the variable 'ans' to silence this warning
SEXP ans;
^
= NULL
4 warnings generated.
clang -dynamiclib -Wl,-headerpad_max_install_names -undefined dynamic_lookup -single_module -multiply_defined suppress -L/Library/Frameworks/R.framework/Resources/lib -L/usr/local/lib -o DelayedArray.so R_init_DelayedArray.o S4Vectors_stubs.o abind.o compress_atomic_vector.o -F/Library/Frameworks/R.framework/.. -framework R -Wl,-framework -Wl,CoreFoundation
installing to /Library/Frameworks/R.framework/Versions/3.6/Resources/library/00LOCK-DelayedArray/00new/DelayedArray/libs
** R
** inst
** byte-compile and prepare package for lazy loading
Creating a new generic function for ‘aperm’ in package ‘DelayedArray’
Creating a generic function for ‘sweep’ from package ‘base’ in package ‘DelayedArray’
Creating a new generic function for ‘apply’ in package ‘DelayedArray’
Creating a new generic function for ‘rowsum’ in package ‘DelayedArray’
Creating a generic function for ‘dnorm’ from package ‘stats’ in package ‘DelayedArray’
Creating a generic function for ‘pnorm’ from package ‘stats’ in package ‘DelayedArray’
Creating a generic function for ‘qnorm’ from package ‘stats’ in package ‘DelayedArray’
Creating a generic function for ‘dbinom’ from package ‘stats’ in package ‘DelayedArray’
Creating a generic function for ‘pbinom’ from package ‘stats’ in package ‘DelayedArray’
Creating a generic function for ‘qbinom’ from package ‘stats’ in package ‘DelayedArray’
Creating a generic function for ‘dpois’ from package ‘stats’ in package ‘DelayedArray’
Creating a generic function for ‘ppois’ from package ‘stats’ in package ‘DelayedArray’
Creating a generic function for ‘qpois’ from package ‘stats’ in package ‘DelayedArray’
Creating a generic function for ‘dlogis’ from package ‘stats’ in package ‘DelayedArray’
Creating a generic function for ‘plogis’ from package ‘stats’ in package ‘DelayedArray’
Creating a generic function for ‘qlogis’ from package ‘stats’ in package ‘DelayedArray’
Creating a new generic function for ‘rowMaxs’ in package ‘DelayedArray’
Creating a new generic function for ‘colMaxs’ in package ‘DelayedArray’
Creating a new generic function for ‘rowMins’ in package ‘DelayedArray’
Creating a new generic function for ‘colMins’ in package ‘DelayedArray’
Creating a new generic function for ‘rowRanges’ in package ‘DelayedArray’
Creating a new generic function for ‘colRanges’ in package ‘DelayedArray’
** help
*** installing help indices
** building package indices
** installing vignettes
** testing if installed package can be loaded from temporary location
** checking absolute paths in shared objects and dynamic libraries
** testing if installed package can be loaded from final location
** testing if installed package keeps a record of temporary installation path
* DONE (DelayedArray)