| Back to Multiple platform build/check report for BioC 3.9 | 
 | 
This page was generated on 2019-04-09 11:59:43 -0400 (Tue, 09 Apr 2019).
| Package 461/1703 | Hostname | OS / Arch | INSTALL | BUILD | CHECK | BUILD BIN | ||||||
| DTA 2.29.0 Bjoern Schwalb 
 | malbec2 | Linux (Ubuntu 18.04.2 LTS) / x86_64 | OK | OK | OK |  | ||||||
| tokay2 | Windows Server 2012 R2 Standard / x64 | OK | OK | OK | [ OK ] |  | ||||||
| celaya2 | OS X 10.11.6 El Capitan / x86_64 | OK | OK | OK | OK |  | ||||||
| merida2 | OS X 10.11.6 El Capitan / x86_64 | OK | OK | OK | OK | 
| Package: DTA | 
| Version: 2.29.0 | 
| Command: rm -rf DTA.buildbin-libdir && mkdir DTA.buildbin-libdir && C:\Users\biocbuild\bbs-3.9-bioc\R\bin\R.exe CMD INSTALL --merge-multiarch --build --library=DTA.buildbin-libdir DTA_2.29.0.tar.gz | 
| StartedAt: 2019-04-09 07:49:34 -0400 (Tue, 09 Apr 2019) | 
| EndedAt: 2019-04-09 07:50:08 -0400 (Tue, 09 Apr 2019) | 
| EllapsedTime: 33.4 seconds | 
| RetCode: 0 | 
| Status: OK | 
| PackageFile: DTA_2.29.0.zip | 
| PackageFileSize: 11.58 MiB | 
##############################################################################
##############################################################################
###
### Running command:
###
###   rm -rf DTA.buildbin-libdir && mkdir DTA.buildbin-libdir && C:\Users\biocbuild\bbs-3.9-bioc\R\bin\R.exe CMD INSTALL --merge-multiarch --build --library=DTA.buildbin-libdir DTA_2.29.0.tar.gz
###
##############################################################################
##############################################################################
install for i386
* installing *source* package 'DTA' ...
** R
** data
** inst
** byte-compile and prepare package for lazy loading
** help
*** installing help indices
  converting help for package 'DTA'
    finding HTML links ... done
    DTA-package                             html  
    DTA.dynamic.estimate                    html  
    DTA.dynamic.generate                    html  
    DTA.estimate                            html  
    DTA.generate                            html  
    DTA.map.it                              html  
    DTA.normalize                           html  
    DTA.phenomat                            html  
    DTA.plot.it                             html  
    Dm.tnumber                              html  
    Doelken2008                             html  
    Hs.datamat                              html  
    Hs.enst2ensg                            html  
    Hs.phenomat                             html  
    Hs.reliable                             html  
    Hs.tnumber                              html  
    Miller2011                              html  
    Miller2011dynamic                       html  
    Mm.datamat                              html  
    Mm.enst2ensg                            html  
    Mm.phenomat                             html  
    Mm.reliable                             html  
    Mm.tnumber                              html  
    Pol.phenomat                            html  
    Raw.datamat                             html  
    Sc.affy2ensg                            html  
    Sc.datamat                              html  
    Sc.datamat.dynamic                      html  
    Sc.ensg.reliable                        html  
    Sc.phenomat                             html  
    Sc.phenomat.dynamic                     html  
    Sc.reliable                             html  
    Sc.reliable.dynamic                     html  
    Sc.ribig.ensg                           html  
    Sc.rpg.ensg                             html  
    Sc.stress.ensg                          html  
    Sc.tf.ensg                              html  
    Sc.tnumber                              html  
    Sp.affy.reliable                        html  
    Sp.tnumber                              html  
    Sun2011                                 html  
    Wt.phenomat                             html  
    tls                                     html  
** building package indices
** installing vignettes
** testing if installed package can be loaded from temporary location
** testing if installed package can be loaded from final location
** testing if installed package keeps a record of temporary installation path
install for x64
* installing *source* package 'DTA' ...
** testing if installed package can be loaded
* MD5 sums
packaged installation of 'DTA' as DTA_2.29.0.zip
* DONE (DTA)