| Back to Multiple platform build/check report for BioC 3.9 |
|
This page was generated on 2019-04-09 13:15:51 -0400 (Tue, 09 Apr 2019).
| Package 455/1703 | Hostname | OS / Arch | INSTALL | BUILD | CHECK | BUILD BIN | ||||||
| DRIMSeq 1.11.2 Malgorzata Nowicka
| malbec2 | Linux (Ubuntu 18.04.2 LTS) / x86_64 | OK | OK | OK | |||||||
| tokay2 | Windows Server 2012 R2 Standard / x64 | OK | OK | WARNINGS | OK | |||||||
| celaya2 | OS X 10.11.6 El Capitan / x86_64 | OK | OK | [ OK ] | OK | |||||||
| merida2 | OS X 10.11.6 El Capitan / x86_64 | OK | OK | OK | OK |
| Package: DRIMSeq |
| Version: 1.11.2 |
| Command: /Library/Frameworks/R.framework/Versions/Current/Resources/bin/R CMD check --install=check:DRIMSeq.install-out.txt --library=/Library/Frameworks/R.framework/Versions/Current/Resources/library --no-vignettes --timings DRIMSeq_1.11.2.tar.gz |
| StartedAt: 2019-04-09 01:32:22 -0400 (Tue, 09 Apr 2019) |
| EndedAt: 2019-04-09 01:38:58 -0400 (Tue, 09 Apr 2019) |
| EllapsedTime: 395.9 seconds |
| RetCode: 0 |
| Status: OK |
| CheckDir: DRIMSeq.Rcheck |
| Warnings: 0 |
##############################################################################
##############################################################################
###
### Running command:
###
### /Library/Frameworks/R.framework/Versions/Current/Resources/bin/R CMD check --install=check:DRIMSeq.install-out.txt --library=/Library/Frameworks/R.framework/Versions/Current/Resources/library --no-vignettes --timings DRIMSeq_1.11.2.tar.gz
###
##############################################################################
##############################################################################
* using log directory ‘/Users/biocbuild/bbs-3.9-bioc/meat/DRIMSeq.Rcheck’
* using R Under development (unstable) (2019-03-18 r76245)
* using platform: x86_64-apple-darwin15.6.0 (64-bit)
* using session charset: UTF-8
* using option ‘--no-vignettes’
* checking for file ‘DRIMSeq/DESCRIPTION’ ... OK
* checking extension type ... Package
* this is package ‘DRIMSeq’ version ‘1.11.2’
* checking package namespace information ... OK
* checking package dependencies ... OK
* checking if this is a source package ... OK
* checking if there is a namespace ... OK
* checking for hidden files and directories ... OK
* checking for portable file names ... OK
* checking for sufficient/correct file permissions ... OK
* checking whether package ‘DRIMSeq’ can be installed ... OK
* checking installed package size ... OK
* checking package directory ... OK
* checking ‘build’ directory ... OK
* checking DESCRIPTION meta-information ... OK
* checking top-level files ... OK
* checking for left-over files ... OK
* checking index information ... OK
* checking package subdirectories ... OK
* checking R files for non-ASCII characters ... OK
* checking R files for syntax errors ... OK
* checking whether the package can be loaded ... OK
* checking whether the package can be loaded with stated dependencies ... OK
* checking whether the package can be unloaded cleanly ... OK
* checking whether the namespace can be loaded with stated dependencies ... OK
* checking whether the namespace can be unloaded cleanly ... OK
* checking dependencies in R code ... OK
* checking S3 generic/method consistency ... OK
* checking replacement functions ... OK
* checking foreign function calls ... OK
* checking R code for possible problems ... OK
* checking Rd files ... OK
* checking Rd metadata ... OK
* checking Rd cross-references ... OK
* checking for missing documentation entries ... OK
* checking for code/documentation mismatches ... OK
* checking Rd \usage sections ... OK
* checking Rd contents ... OK
* checking for unstated dependencies in examples ... OK
* checking sizes of PDF files under ‘inst/doc’ ... OK
* checking files in ‘vignettes’ ... OK
* checking examples ... OK
Examples with CPU or elapsed time > 5s
user system elapsed
dmSQTLtest-class 202.715 3.645 208.437
dmDStest-class 15.616 0.181 15.841
* checking for unstated dependencies in ‘tests’ ... OK
* checking tests ...
Running ‘testthat.R’
OK
* checking for unstated dependencies in vignettes ... OK
* checking package vignettes in ‘inst/doc’ ... OK
* checking running R code from vignettes ... SKIPPED
* checking re-building of vignette outputs ... SKIPPED
* checking PDF version of manual ... OK
* DONE
Status: OK
DRIMSeq.Rcheck/00install.out
############################################################################## ############################################################################## ### ### Running command: ### ### /Library/Frameworks/R.framework/Versions/Current/Resources/bin/R CMD INSTALL DRIMSeq ### ############################################################################## ############################################################################## * installing to library ‘/Library/Frameworks/R.framework/Versions/3.6/Resources/library’ * installing *source* package ‘DRIMSeq’ ... ** using staged installation ** R ** inst ** preparing package for lazy loading ** help *** installing help indices ** building package indices ** installing vignettes ** testing if installed package can be loaded from temporary location ** testing if installed package can be loaded from final location ** testing if installed package keeps a record of temporary installation path * DONE (DRIMSeq)
DRIMSeq.Rcheck/tests/testthat.Rout
R Under development (unstable) (2019-03-18 r76245) -- "Unsuffered Consequences"
Copyright (C) 2019 The R Foundation for Statistical Computing
Platform: x86_64-apple-darwin15.6.0 (64-bit)
R is free software and comes with ABSOLUTELY NO WARRANTY.
You are welcome to redistribute it under certain conditions.
Type 'license()' or 'licence()' for distribution details.
R is a collaborative project with many contributors.
Type 'contributors()' for more information and
'citation()' on how to cite R or R packages in publications.
Type 'demo()' for some demos, 'help()' for on-line help, or
'help.start()' for an HTML browser interface to help.
Type 'q()' to quit R.
> library(testthat)
> library(DRIMSeq)
>
> test_check("DRIMSeq")
══ testthat results ═══════════════════════════════════════════════════════════
OK: 21 SKIPPED: 0 FAILED: 0
>
> proc.time()
user system elapsed
10.927 0.757 11.629
DRIMSeq.Rcheck/DRIMSeq-Ex.timings
| name | user | system | elapsed | |
| dmDSdata-class | 0.019 | 0.002 | 0.023 | |
| dmDSdata | 0.019 | 0.001 | 0.021 | |
| dmDSfit-class | 0.018 | 0.001 | 0.047 | |
| dmDSprecision-class | 0.018 | 0.001 | 0.020 | |
| dmDStest-class | 15.616 | 0.181 | 15.841 | |
| dmFilter | 0.039 | 0.004 | 0.049 | |
| dmFit | 0.015 | 0.001 | 0.017 | |
| dmPrecision | 0.020 | 0.001 | 0.021 | |
| dmSQTLdata-class | 0.019 | 0.001 | 0.019 | |
| dmSQTLdata | 0.015 | 0.000 | 0.014 | |
| dmSQTLfit-class | 0.018 | 0.000 | 0.018 | |
| dmSQTLprecision-class | 0.019 | 0.001 | 0.019 | |
| dmSQTLtest-class | 202.715 | 3.645 | 208.437 | |
| dmTest | 0.017 | 0.000 | 0.018 | |
| plotData | 0.036 | 0.001 | 0.037 | |
| plotPValues | 0.015 | 0.001 | 0.017 | |
| plotPrecision | 0.014 | 0.001 | 0.015 | |
| plotProportions | 0.014 | 0.000 | 0.015 | |