| Back to Multiple platform build/check report for BioC 3.9 | 
 | 
This page was generated on 2019-04-09 11:59:23 -0400 (Tue, 09 Apr 2019).
| Package 452/1703 | Hostname | OS / Arch | INSTALL | BUILD | CHECK | BUILD BIN | ||||||
| DOSE 3.9.4 Guangchuang Yu 
 | malbec2 | Linux (Ubuntu 18.04.2 LTS) / x86_64 | OK | OK | OK |  | ||||||
| tokay2 | Windows Server 2012 R2 Standard / x64 | OK | OK | OK | [ OK ] |  | ||||||
| celaya2 | OS X 10.11.6 El Capitan / x86_64 | OK | OK | OK | OK |  | ||||||
| merida2 | OS X 10.11.6 El Capitan / x86_64 | OK | OK | OK | OK | 
| Package: DOSE | 
| Version: 3.9.4 | 
| Command: rm -rf DOSE.buildbin-libdir && mkdir DOSE.buildbin-libdir && C:\Users\biocbuild\bbs-3.9-bioc\R\bin\R.exe CMD INSTALL --merge-multiarch --build --library=DOSE.buildbin-libdir DOSE_3.9.4.tar.gz | 
| StartedAt: 2019-04-09 07:49:00 -0400 (Tue, 09 Apr 2019) | 
| EndedAt: 2019-04-09 07:49:45 -0400 (Tue, 09 Apr 2019) | 
| EllapsedTime: 44.9 seconds | 
| RetCode: 0 | 
| Status: OK | 
| PackageFile: DOSE_3.9.4.zip | 
| PackageFileSize: 3.37 MiB | 
##############################################################################
##############################################################################
###
### Running command:
###
###   rm -rf DOSE.buildbin-libdir && mkdir DOSE.buildbin-libdir && C:\Users\biocbuild\bbs-3.9-bioc\R\bin\R.exe CMD INSTALL --merge-multiarch --build --library=DOSE.buildbin-libdir DOSE_3.9.4.tar.gz
###
##############################################################################
##############################################################################
install for i386
* installing *source* package 'DOSE' ...
** R
** data
** inst
** byte-compile and prepare package for lazy loading
** help
*** installing help indices
  converting help for package 'DOSE'
    finding HTML links ... done
    DOSE-package                            html  
    DataSet                                 html  
    EXTID2NAME                              html  
    GSEA_internal                           html  
    clusterSim                              html  
    computeIC                               html  
    doSim                                   html  
    enrichDGN                               html  
    enrichDGNv                              html  
    enrichDO                                html  
    enrichNCG                               html  
    enrichResult-class                      html  
    enricher_internal                       html  
    fortify.enrichResult                    html  
    gene2DO                                 html  
    geneID                                  html  
    geneInCategory                          html  
    geneSim                                 html  
    gseDGN                                  html  
    gseDO                                   html  
    gseNCG                                  html  
    gseaResult-class                        html  
    gsfilter                                html  
    mclusterSim                             html  
    parse_ratio                             html  
    rebuildAnnoData                         html  
    reexports                               html  
    setReadable                             html  
    show-methods                            html  
    simplot                                 html  
    summary-methods                         html  
    theme_dose                              html  
** building package indices
** installing vignettes
** testing if installed package can be loaded from temporary location
** testing if installed package can be loaded from final location
** testing if installed package keeps a record of temporary installation path
install for x64
* installing *source* package 'DOSE' ...
** testing if installed package can be loaded
* MD5 sums
packaged installation of 'DOSE' as DOSE_3.9.4.zip
* DONE (DOSE)