| Back to Multiple platform build/check report for BioC 3.9 |
|
This page was generated on 2019-04-09 11:53:54 -0400 (Tue, 09 Apr 2019).
| Package 446/1703 | Hostname | OS / Arch | INSTALL | BUILD | CHECK | BUILD BIN | ||||||
| DNAcopy 1.57.0 Venkatraman E. Seshan
| malbec2 | Linux (Ubuntu 18.04.2 LTS) / x86_64 | OK | OK | OK | |||||||
| tokay2 | Windows Server 2012 R2 Standard / x64 | OK | OK | OK | [ OK ] | |||||||
| celaya2 | OS X 10.11.6 El Capitan / x86_64 | OK | OK | OK | OK | |||||||
| merida2 | OS X 10.11.6 El Capitan / x86_64 | OK | OK | OK | OK |
| Package: DNAcopy |
| Version: 1.57.0 |
| Command: rm -rf DNAcopy.buildbin-libdir && mkdir DNAcopy.buildbin-libdir && C:\Users\biocbuild\bbs-3.9-bioc\R\bin\R.exe CMD INSTALL --merge-multiarch --build --library=DNAcopy.buildbin-libdir DNAcopy_1.57.0.tar.gz |
| StartedAt: 2019-04-09 07:48:42 -0400 (Tue, 09 Apr 2019) |
| EndedAt: 2019-04-09 07:49:04 -0400 (Tue, 09 Apr 2019) |
| EllapsedTime: 22.5 seconds |
| RetCode: 0 |
| Status: OK |
| PackageFile: DNAcopy_1.57.0.zip |
| PackageFileSize: 719.9 KiB |
##############################################################################
##############################################################################
###
### Running command:
###
### rm -rf DNAcopy.buildbin-libdir && mkdir DNAcopy.buildbin-libdir && C:\Users\biocbuild\bbs-3.9-bioc\R\bin\R.exe CMD INSTALL --merge-multiarch --build --library=DNAcopy.buildbin-libdir DNAcopy_1.57.0.tar.gz
###
##############################################################################
##############################################################################
install for i386
* installing *source* package 'DNAcopy' ...
** libs
C:/Rtools/mingw_32/bin/gfortran -O3 -mtune=generic -c cbsWtstats.f -o cbsWtstats.o
C:/Rtools/mingw_32/bin/gfortran -O3 -mtune=generic -c cbststats.f -o cbststats.o
C:/Rtools/mingw_32/bin/gfortran -O3 -mtune=generic -c changepoints-wtd.f -o changepoints-wtd.o
C:/Rtools/mingw_32/bin/gfortran -O3 -mtune=generic -c changepoints.f -o changepoints.o
C:/Rtools/mingw_32/bin/gfortran -O3 -mtune=generic -c esegment.f -o esegment.o
C:/Rtools/mingw_32/bin/gcc -I"C:/Users/BIOCBU˜1/BBS-3˜1.9-B/R/include" -DNDEBUG -I"C:/extsoft/include" -O3 -Wall -std=gnu99 -mtune=generic -c flchoose.c -o flchoose.o
C:/Rtools/mingw_32/bin/gcc -I"C:/Users/BIOCBU˜1/BBS-3˜1.9-B/R/include" -DNDEBUG -I"C:/extsoft/include" -O3 -Wall -std=gnu99 -mtune=generic -c fphyper.c -o fphyper.o
C:/Rtools/mingw_32/bin/gcc -I"C:/Users/BIOCBU˜1/BBS-3˜1.9-B/R/include" -DNDEBUG -I"C:/extsoft/include" -O3 -Wall -std=gnu99 -mtune=generic -c fpnorm.c -o fpnorm.o
C:/Rtools/mingw_32/bin/gfortran -O3 -mtune=generic -c getbdry.f -o getbdry.o
C:/Rtools/mingw_32/bin/gfortran -O3 -mtune=generic -c prune.f -o prune.o
C:/Rtools/mingw_32/bin/gcc -I"C:/Users/BIOCBU˜1/BBS-3˜1.9-B/R/include" -DNDEBUG -I"C:/extsoft/include" -O3 -Wall -std=gnu99 -mtune=generic -c rshared.c -o rshared.o
C:/Rtools/mingw_32/bin/gfortran -O3 -mtune=generic -c segmentp.f -o segmentp.o
C:/Rtools/mingw_32/bin/gfortran -O3 -mtune=generic -c smoothCNA.f -o smoothCNA.o
C:/Rtools/mingw_32/bin/gfortran -O3 -mtune=generic -c tailprobs.f -o tailprobs.o
C:/Rtools/mingw_32/bin/gcc -shared -s -static-libgcc -o DNAcopy.dll tmp.def cbsWtstats.o cbststats.o changepoints-wtd.o changepoints.o esegment.o flchoose.o fphyper.o fpnorm.o getbdry.o prune.o rshared.o segmentp.o smoothCNA.o tailprobs.o -LC:/extsoft/lib/i386 -LC:/extsoft/lib -lgfortran -lm -lquadmath -LC:/Users/BIOCBU˜1/BBS-3˜1.9-B/R/bin/i386 -lR
installing to C:/Users/biocbuild/bbs-3.9-bioc/meat/DNAcopy.buildbin-libdir/00LOCK-DNAcopy/00new/DNAcopy/libs/i386
** R
** data
*** moving datasets to lazyload DB
** demo
** inst
** byte-compile and prepare package for lazy loading
** help
*** installing help indices
converting help for package 'DNAcopy'
finding HTML links ... done
CNA html
DNAcopy-internal html
DNAcopy html
coriell html
cytoBand html
exon.segment html
getbdry html
glFrequency html
plot.DNAcopy html
plotSample html
segment html
segments.p html
segments.summary html
smooth.CNA html
subset.CNA html
subset.DNAcopy html
zoomIntoRegion html
** building package indices
** installing vignettes
** testing if installed package can be loaded from temporary location
** testing if installed package can be loaded from final location
** testing if installed package keeps a record of temporary installation path
install for x64
* installing *source* package 'DNAcopy' ...
** libs
C:/Rtools/mingw_64/bin/gfortran -O2 -mtune=generic -c cbsWtstats.f -o cbsWtstats.o
C:/Rtools/mingw_64/bin/gfortran -O2 -mtune=generic -c cbststats.f -o cbststats.o
C:/Rtools/mingw_64/bin/gfortran -O2 -mtune=generic -c changepoints-wtd.f -o changepoints-wtd.o
C:/Rtools/mingw_64/bin/gfortran -O2 -mtune=generic -c changepoints.f -o changepoints.o
C:/Rtools/mingw_64/bin/gfortran -O2 -mtune=generic -c esegment.f -o esegment.o
C:/Rtools/mingw_64/bin/gcc -I"C:/Users/BIOCBU˜1/BBS-3˜1.9-B/R/include" -DNDEBUG -I"C:/extsoft/include" -O2 -Wall -std=gnu99 -mtune=generic -c flchoose.c -o flchoose.o
C:/Rtools/mingw_64/bin/gcc -I"C:/Users/BIOCBU˜1/BBS-3˜1.9-B/R/include" -DNDEBUG -I"C:/extsoft/include" -O2 -Wall -std=gnu99 -mtune=generic -c fphyper.c -o fphyper.o
C:/Rtools/mingw_64/bin/gcc -I"C:/Users/BIOCBU˜1/BBS-3˜1.9-B/R/include" -DNDEBUG -I"C:/extsoft/include" -O2 -Wall -std=gnu99 -mtune=generic -c fpnorm.c -o fpnorm.o
C:/Rtools/mingw_64/bin/gfortran -O2 -mtune=generic -c getbdry.f -o getbdry.o
C:/Rtools/mingw_64/bin/gfortran -O2 -mtune=generic -c prune.f -o prune.o
C:/Rtools/mingw_64/bin/gcc -I"C:/Users/BIOCBU˜1/BBS-3˜1.9-B/R/include" -DNDEBUG -I"C:/extsoft/include" -O2 -Wall -std=gnu99 -mtune=generic -c rshared.c -o rshared.o
C:/Rtools/mingw_64/bin/gfortran -O2 -mtune=generic -c segmentp.f -o segmentp.o
C:/Rtools/mingw_64/bin/gfortran -O2 -mtune=generic -c smoothCNA.f -o smoothCNA.o
C:/Rtools/mingw_64/bin/gfortran -O2 -mtune=generic -c tailprobs.f -o tailprobs.o
C:/Rtools/mingw_64/bin/gcc -shared -s -static-libgcc -o DNAcopy.dll tmp.def cbsWtstats.o cbststats.o changepoints-wtd.o changepoints.o esegment.o flchoose.o fphyper.o fpnorm.o getbdry.o prune.o rshared.o segmentp.o smoothCNA.o tailprobs.o -LC:/extsoft/lib/x64 -LC:/extsoft/lib -lgfortran -lm -lquadmath -LC:/Users/BIOCBU˜1/BBS-3˜1.9-B/R/bin/x64 -lR
installing to C:/Users/biocbuild/bbs-3.9-bioc/meat/DNAcopy.buildbin-libdir/DNAcopy/libs/x64
** testing if installed package can be loaded
* MD5 sums
packaged installation of 'DNAcopy' as DNAcopy_1.57.0.zip
* DONE (DNAcopy)