| Back to Multiple platform build/check report for BioC 3.9 |
|
This page was generated on 2019-04-09 12:24:57 -0400 (Tue, 09 Apr 2019).
| Package 445/1703 | Hostname | OS / Arch | INSTALL | BUILD | CHECK | BUILD BIN | ||||||
| DNABarcodes 1.13.0 Tilo Buschmann
| malbec2 | Linux (Ubuntu 18.04.2 LTS) / x86_64 | OK | OK | OK | |||||||
| tokay2 | Windows Server 2012 R2 Standard / x64 | OK | OK | OK | [ OK ] | |||||||
| celaya2 | OS X 10.11.6 El Capitan / x86_64 | OK | OK | OK | OK | |||||||
| merida2 | OS X 10.11.6 El Capitan / x86_64 | OK | OK | OK | OK |
| Package: DNABarcodes |
| Version: 1.13.0 |
| Command: rm -rf DNABarcodes.buildbin-libdir && mkdir DNABarcodes.buildbin-libdir && C:\Users\biocbuild\bbs-3.9-bioc\R\bin\R.exe CMD INSTALL --merge-multiarch --build --library=DNABarcodes.buildbin-libdir DNABarcodes_1.13.0.tar.gz |
| StartedAt: 2019-04-09 07:48:38 -0400 (Tue, 09 Apr 2019) |
| EndedAt: 2019-04-09 07:51:36 -0400 (Tue, 09 Apr 2019) |
| EllapsedTime: 177.4 seconds |
| RetCode: 0 |
| Status: OK |
| PackageFile: DNABarcodes_1.13.0.zip |
| PackageFileSize: 1.097 MiB |
##############################################################################
##############################################################################
###
### Running command:
###
### rm -rf DNABarcodes.buildbin-libdir && mkdir DNABarcodes.buildbin-libdir && C:\Users\biocbuild\bbs-3.9-bioc\R\bin\R.exe CMD INSTALL --merge-multiarch --build --library=DNABarcodes.buildbin-libdir DNABarcodes_1.13.0.tar.gz
###
##############################################################################
##############################################################################
install for i386
* installing *source* package 'DNABarcodes' ...
** libs
C:/Rtools/mingw_32/bin/gcc -I"C:/Users/BIOCBU˜1/BBS-3˜1.9-B/R/include" -DNDEBUG -I"C:/Users/biocbuild/bbs-3.9-bioc/R/library/Rcpp/include" -I"C:/Users/biocbuild/bbs-3.9-bioc/R/library/BH/include" -I"C:/extsoft/include" -fopenmp -O3 -Wall -std=gnu99 -mtune=generic -c DNABarcodes_init.c -o DNABarcodes_init.o
C:/Rtools/mingw_32/bin/g++ -I"C:/Users/BIOCBU˜1/BBS-3˜1.9-B/R/include" -DNDEBUG -I"C:/Users/biocbuild/bbs-3.9-bioc/R/library/Rcpp/include" -I"C:/Users/biocbuild/bbs-3.9-bioc/R/library/BH/include" -I"C:/extsoft/include" -fopenmp -O2 -Wall -mtune=generic -c RcppExports.cpp -o RcppExports.o
C:/Rtools/mingw_32/bin/g++ -I"C:/Users/BIOCBU˜1/BBS-3˜1.9-B/R/include" -DNDEBUG -I"C:/Users/biocbuild/bbs-3.9-bioc/R/library/Rcpp/include" -I"C:/Users/biocbuild/bbs-3.9-bioc/R/library/BH/include" -I"C:/extsoft/include" -fopenmp -O2 -Wall -mtune=generic -c analyse_barcodes.cpp -o analyse_barcodes.o
C:/Rtools/mingw_32/bin/g++ -I"C:/Users/BIOCBU˜1/BBS-3˜1.9-B/R/include" -DNDEBUG -I"C:/Users/biocbuild/bbs-3.9-bioc/R/library/Rcpp/include" -I"C:/Users/biocbuild/bbs-3.9-bioc/R/library/BH/include" -I"C:/extsoft/include" -fopenmp -O2 -Wall -mtune=generic -c barcode_set_distances.cpp -o barcode_set_distances.o
C:/Rtools/mingw_32/bin/g++ -I"C:/Users/BIOCBU˜1/BBS-3˜1.9-B/R/include" -DNDEBUG -I"C:/Users/biocbuild/bbs-3.9-bioc/R/library/Rcpp/include" -I"C:/Users/biocbuild/bbs-3.9-bioc/R/library/BH/include" -I"C:/extsoft/include" -fopenmp -O2 -Wall -mtune=generic -c cachedistance.cpp -o cachedistance.o
C:/Rtools/mingw_32/bin/g++ -I"C:/Users/BIOCBU˜1/BBS-3˜1.9-B/R/include" -DNDEBUG -I"C:/Users/biocbuild/bbs-3.9-bioc/R/library/Rcpp/include" -I"C:/Users/biocbuild/bbs-3.9-bioc/R/library/BH/include" -I"C:/extsoft/include" -fopenmp -O2 -Wall -mtune=generic -c chromosome.cpp -o chromosome.o
In file included from C:/Users/biocbuild/bbs-3.9-bioc/R/library/BH/include/boost/random/detail/integer_log2.hpp:19:0,
from C:/Users/biocbuild/bbs-3.9-bioc/R/library/BH/include/boost/random/detail/large_arithmetic.hpp:19,
from C:/Users/biocbuild/bbs-3.9-bioc/R/library/BH/include/boost/random/detail/const_mod.hpp:23,
from C:/Users/biocbuild/bbs-3.9-bioc/R/library/BH/include/boost/random/detail/seed_impl.hpp:26,
from C:/Users/biocbuild/bbs-3.9-bioc/R/library/BH/include/boost/random/mersenne_twister.hpp:30,
from chromosome.h:8,
from chromosome.cpp:3:
C:/Users/biocbuild/bbs-3.9-bioc/R/library/BH/include/boost/pending/integer_log2.hpp:7:89: note: #pragma message: This header is deprecated. Use <boost/integer/integer_log2.hpp> instead.
BOOST_HEADER_DEPRECATED("<boost/integer/integer_log2.hpp>");
^
C:/Rtools/mingw_32/bin/g++ -I"C:/Users/BIOCBU˜1/BBS-3˜1.9-B/R/include" -DNDEBUG -I"C:/Users/biocbuild/bbs-3.9-bioc/R/library/Rcpp/include" -I"C:/Users/biocbuild/bbs-3.9-bioc/R/library/BH/include" -I"C:/extsoft/include" -fopenmp -O2 -Wall -mtune=generic -c code_falsification.cpp -o code_falsification.o
In file included from C:/Users/biocbuild/bbs-3.9-bioc/R/library/BH/include/boost/random/detail/integer_log2.hpp:19:0,
from C:/Users/biocbuild/bbs-3.9-bioc/R/library/BH/include/boost/random/detail/large_arithmetic.hpp:19,
from C:/Users/biocbuild/bbs-3.9-bioc/R/library/BH/include/boost/random/detail/const_mod.hpp:23,
from C:/Users/biocbuild/bbs-3.9-bioc/R/library/BH/include/boost/random/detail/seed_impl.hpp:26,
from C:/Users/biocbuild/bbs-3.9-bioc/R/library/BH/include/boost/random/mersenne_twister.hpp:30,
from chromosome.h:8,
from code_falsification.cpp:11:
C:/Users/biocbuild/bbs-3.9-bioc/R/library/BH/include/boost/pending/integer_log2.hpp:7:89: note: #pragma message: This header is deprecated. Use <boost/integer/integer_log2.hpp> instead.
BOOST_HEADER_DEPRECATED("<boost/integer/integer_log2.hpp>");
^
C:/Rtools/mingw_32/bin/g++ -I"C:/Users/BIOCBU˜1/BBS-3˜1.9-B/R/include" -DNDEBUG -I"C:/Users/biocbuild/bbs-3.9-bioc/R/library/Rcpp/include" -I"C:/Users/biocbuild/bbs-3.9-bioc/R/library/BH/include" -I"C:/extsoft/include" -fopenmp -O2 -Wall -mtune=generic -c conway.cpp -o conway.o
C:/Rtools/mingw_32/bin/g++ -I"C:/Users/BIOCBU˜1/BBS-3˜1.9-B/R/include" -DNDEBUG -I"C:/Users/biocbuild/bbs-3.9-bioc/R/library/Rcpp/include" -I"C:/Users/biocbuild/bbs-3.9-bioc/R/library/BH/include" -I"C:/extsoft/include" -fopenmp -O2 -Wall -mtune=generic -c create_distance_func.cpp -o create_distance_func.o
C:/Rtools/mingw_32/bin/g++ -I"C:/Users/BIOCBU˜1/BBS-3˜1.9-B/R/include" -DNDEBUG -I"C:/Users/biocbuild/bbs-3.9-bioc/R/library/Rcpp/include" -I"C:/Users/biocbuild/bbs-3.9-bioc/R/library/BH/include" -I"C:/extsoft/include" -fopenmp -O2 -Wall -mtune=generic -c create_dnabarcodes.cpp -o create_dnabarcodes.o
In file included from C:/Users/biocbuild/bbs-3.9-bioc/R/library/BH/include/boost/random/detail/integer_log2.hpp:19:0,
from C:/Users/biocbuild/bbs-3.9-bioc/R/library/BH/include/boost/random/detail/large_arithmetic.hpp:19,
from C:/Users/biocbuild/bbs-3.9-bioc/R/library/BH/include/boost/random/detail/const_mod.hpp:23,
from C:/Users/biocbuild/bbs-3.9-bioc/R/library/BH/include/boost/random/detail/seed_impl.hpp:26,
from C:/Users/biocbuild/bbs-3.9-bioc/R/library/BH/include/boost/random/mersenne_twister.hpp:30,
from create_dnabarcodes.cpp:11:
C:/Users/biocbuild/bbs-3.9-bioc/R/library/BH/include/boost/pending/integer_log2.hpp:7:89: note: #pragma message: This header is deprecated. Use <boost/integer/integer_log2.hpp> instead.
BOOST_HEADER_DEPRECATED("<boost/integer/integer_log2.hpp>");
^
C:/Rtools/mingw_32/bin/g++ -I"C:/Users/BIOCBU˜1/BBS-3˜1.9-B/R/include" -DNDEBUG -I"C:/Users/biocbuild/bbs-3.9-bioc/R/library/Rcpp/include" -I"C:/Users/biocbuild/bbs-3.9-bioc/R/library/BH/include" -I"C:/extsoft/include" -fopenmp -O2 -Wall -mtune=generic -c create_pool.cpp -o create_pool.o
C:/Rtools/mingw_32/bin/g++ -I"C:/Users/BIOCBU˜1/BBS-3˜1.9-B/R/include" -DNDEBUG -I"C:/Users/biocbuild/bbs-3.9-bioc/R/library/Rcpp/include" -I"C:/Users/biocbuild/bbs-3.9-bioc/R/library/BH/include" -I"C:/extsoft/include" -fopenmp -O2 -Wall -mtune=generic -c demultiplex.cpp -o demultiplex.o
C:/Rtools/mingw_32/bin/g++ -I"C:/Users/BIOCBU˜1/BBS-3˜1.9-B/R/include" -DNDEBUG -I"C:/Users/biocbuild/bbs-3.9-bioc/R/library/Rcpp/include" -I"C:/Users/biocbuild/bbs-3.9-bioc/R/library/BH/include" -I"C:/extsoft/include" -fopenmp -O2 -Wall -mtune=generic -c distance_for_R.cpp -o distance_for_R.o
C:/Rtools/mingw_32/bin/g++ -I"C:/Users/BIOCBU˜1/BBS-3˜1.9-B/R/include" -DNDEBUG -I"C:/Users/biocbuild/bbs-3.9-bioc/R/library/Rcpp/include" -I"C:/Users/biocbuild/bbs-3.9-bioc/R/library/BH/include" -I"C:/extsoft/include" -fopenmp -O2 -Wall -mtune=generic -c genericchromosome.cpp -o genericchromosome.o
C:/Rtools/mingw_32/bin/g++ -I"C:/Users/BIOCBU˜1/BBS-3˜1.9-B/R/include" -DNDEBUG -I"C:/Users/biocbuild/bbs-3.9-bioc/R/library/Rcpp/include" -I"C:/Users/biocbuild/bbs-3.9-bioc/R/library/BH/include" -I"C:/extsoft/include" -fopenmp -O2 -Wall -mtune=generic -c greedyevolution.cpp -o greedyevolution.o
C:/Rtools/mingw_32/bin/g++ -I"C:/Users/BIOCBU˜1/BBS-3˜1.9-B/R/include" -DNDEBUG -I"C:/Users/biocbuild/bbs-3.9-bioc/R/library/Rcpp/include" -I"C:/Users/biocbuild/bbs-3.9-bioc/R/library/BH/include" -I"C:/extsoft/include" -fopenmp -O2 -Wall -mtune=generic -c hammingdistance.cpp -o hammingdistance.o
C:/Rtools/mingw_32/bin/g++ -I"C:/Users/BIOCBU˜1/BBS-3˜1.9-B/R/include" -DNDEBUG -I"C:/Users/biocbuild/bbs-3.9-bioc/R/library/Rcpp/include" -I"C:/Users/biocbuild/bbs-3.9-bioc/R/library/BH/include" -I"C:/extsoft/include" -fopenmp -O2 -Wall -mtune=generic -c helpers.cpp -o helpers.o
C:/Rtools/mingw_32/bin/g++ -I"C:/Users/BIOCBU˜1/BBS-3˜1.9-B/R/include" -DNDEBUG -I"C:/Users/biocbuild/bbs-3.9-bioc/R/library/Rcpp/include" -I"C:/Users/biocbuild/bbs-3.9-bioc/R/library/BH/include" -I"C:/extsoft/include" -fopenmp -O2 -Wall -mtune=generic -c levenshteindistance.cpp -o levenshteindistance.o
C:/Rtools/mingw_32/bin/g++ -I"C:/Users/BIOCBU˜1/BBS-3˜1.9-B/R/include" -DNDEBUG -I"C:/Users/biocbuild/bbs-3.9-bioc/R/library/Rcpp/include" -I"C:/Users/biocbuild/bbs-3.9-bioc/R/library/BH/include" -I"C:/extsoft/include" -fopenmp -O2 -Wall -mtune=generic -c maxclique_pattabiraman_heuristic.cpp -o maxclique_pattabiraman_heuristic.o
C:/Rtools/mingw_32/bin/g++ -I"C:/Users/BIOCBU˜1/BBS-3˜1.9-B/R/include" -DNDEBUG -I"C:/Users/biocbuild/bbs-3.9-bioc/R/library/Rcpp/include" -I"C:/Users/biocbuild/bbs-3.9-bioc/R/library/BH/include" -I"C:/extsoft/include" -fopenmp -O2 -Wall -mtune=generic -c phaseshiftdist.cpp -o phaseshiftdist.o
C:/Rtools/mingw_32/bin/g++ -I"C:/Users/BIOCBU˜1/BBS-3˜1.9-B/R/include" -DNDEBUG -I"C:/Users/biocbuild/bbs-3.9-bioc/R/library/Rcpp/include" -I"C:/Users/biocbuild/bbs-3.9-bioc/R/library/BH/include" -I"C:/extsoft/include" -fopenmp -O2 -Wall -mtune=generic -c sequence.cpp -o sequence.o
C:/Rtools/mingw_32/bin/g++ -I"C:/Users/BIOCBU˜1/BBS-3˜1.9-B/R/include" -DNDEBUG -I"C:/Users/biocbuild/bbs-3.9-bioc/R/library/Rcpp/include" -I"C:/Users/biocbuild/bbs-3.9-bioc/R/library/BH/include" -I"C:/extsoft/include" -fopenmp -O2 -Wall -mtune=generic -c sequencelevenshteindistance.cpp -o sequencelevenshteindistance.o
C:/Rtools/mingw_32/bin/g++ -I"C:/Users/BIOCBU˜1/BBS-3˜1.9-B/R/include" -DNDEBUG -I"C:/Users/biocbuild/bbs-3.9-bioc/R/library/Rcpp/include" -I"C:/Users/biocbuild/bbs-3.9-bioc/R/library/BH/include" -I"C:/extsoft/include" -fopenmp -O2 -Wall -mtune=generic -c sequencepool.cpp -o sequencepool.o
C:/Rtools/mingw_32/bin/g++ -shared -s -static-libgcc -o DNABarcodes.dll tmp.def DNABarcodes_init.o RcppExports.o analyse_barcodes.o barcode_set_distances.o cachedistance.o chromosome.o code_falsification.o conway.o create_distance_func.o create_dnabarcodes.o create_pool.o demultiplex.o distance_for_R.o genericchromosome.o greedyevolution.o hammingdistance.o helpers.o levenshteindistance.o maxclique_pattabiraman_heuristic.o phaseshiftdist.o sequence.o sequencelevenshteindistance.o sequencepool.o -fopenmp -LC:/extsoft/lib/i386 -LC:/extsoft/lib -LC:/Users/BIOCBU˜1/BBS-3˜1.9-B/R/bin/i386 -lR
installing to C:/Users/biocbuild/bbs-3.9-bioc/meat/DNABarcodes.buildbin-libdir/00LOCK-DNABarcodes/00new/DNABarcodes/libs/i386
** R
** data
** inst
** byte-compile and prepare package for lazy loading
** help
*** installing help indices
converting help for package 'DNABarcodes'
finding HTML links ... done
DNABarcodes-package html
analyse.barcodes html
barcode.set.distances html
create.dnabarcodes html
create.pool html
demultiplex html
distance html
mutatedReads html
supplierSet html
** building package indices
** installing vignettes
** testing if installed package can be loaded from temporary location
** testing if installed package can be loaded from final location
** testing if installed package keeps a record of temporary installation path
install for x64
* installing *source* package 'DNABarcodes' ...
** libs
C:/Rtools/mingw_64/bin/gcc -I"C:/Users/BIOCBU˜1/BBS-3˜1.9-B/R/include" -DNDEBUG -I"C:/Users/biocbuild/bbs-3.9-bioc/R/library/Rcpp/include" -I"C:/Users/biocbuild/bbs-3.9-bioc/R/library/BH/include" -I"C:/extsoft/include" -fopenmp -O2 -Wall -std=gnu99 -mtune=generic -c DNABarcodes_init.c -o DNABarcodes_init.o
C:/Rtools/mingw_64/bin/g++ -I"C:/Users/BIOCBU˜1/BBS-3˜1.9-B/R/include" -DNDEBUG -I"C:/Users/biocbuild/bbs-3.9-bioc/R/library/Rcpp/include" -I"C:/Users/biocbuild/bbs-3.9-bioc/R/library/BH/include" -I"C:/extsoft/include" -fopenmp -O2 -Wall -mtune=generic -c RcppExports.cpp -o RcppExports.o
C:/Rtools/mingw_64/bin/g++ -I"C:/Users/BIOCBU˜1/BBS-3˜1.9-B/R/include" -DNDEBUG -I"C:/Users/biocbuild/bbs-3.9-bioc/R/library/Rcpp/include" -I"C:/Users/biocbuild/bbs-3.9-bioc/R/library/BH/include" -I"C:/extsoft/include" -fopenmp -O2 -Wall -mtune=generic -c analyse_barcodes.cpp -o analyse_barcodes.o
C:/Rtools/mingw_64/bin/g++ -I"C:/Users/BIOCBU˜1/BBS-3˜1.9-B/R/include" -DNDEBUG -I"C:/Users/biocbuild/bbs-3.9-bioc/R/library/Rcpp/include" -I"C:/Users/biocbuild/bbs-3.9-bioc/R/library/BH/include" -I"C:/extsoft/include" -fopenmp -O2 -Wall -mtune=generic -c barcode_set_distances.cpp -o barcode_set_distances.o
C:/Rtools/mingw_64/bin/g++ -I"C:/Users/BIOCBU˜1/BBS-3˜1.9-B/R/include" -DNDEBUG -I"C:/Users/biocbuild/bbs-3.9-bioc/R/library/Rcpp/include" -I"C:/Users/biocbuild/bbs-3.9-bioc/R/library/BH/include" -I"C:/extsoft/include" -fopenmp -O2 -Wall -mtune=generic -c cachedistance.cpp -o cachedistance.o
C:/Rtools/mingw_64/bin/g++ -I"C:/Users/BIOCBU˜1/BBS-3˜1.9-B/R/include" -DNDEBUG -I"C:/Users/biocbuild/bbs-3.9-bioc/R/library/Rcpp/include" -I"C:/Users/biocbuild/bbs-3.9-bioc/R/library/BH/include" -I"C:/extsoft/include" -fopenmp -O2 -Wall -mtune=generic -c chromosome.cpp -o chromosome.o
In file included from C:/Users/biocbuild/bbs-3.9-bioc/R/library/BH/include/boost/random/detail/integer_log2.hpp:19:0,
from C:/Users/biocbuild/bbs-3.9-bioc/R/library/BH/include/boost/random/detail/large_arithmetic.hpp:19,
from C:/Users/biocbuild/bbs-3.9-bioc/R/library/BH/include/boost/random/detail/const_mod.hpp:23,
from C:/Users/biocbuild/bbs-3.9-bioc/R/library/BH/include/boost/random/detail/seed_impl.hpp:26,
from C:/Users/biocbuild/bbs-3.9-bioc/R/library/BH/include/boost/random/mersenne_twister.hpp:30,
from chromosome.h:8,
from chromosome.cpp:3:
C:/Users/biocbuild/bbs-3.9-bioc/R/library/BH/include/boost/pending/integer_log2.hpp:7:89: note: #pragma message: This header is deprecated. Use <boost/integer/integer_log2.hpp> instead.
BOOST_HEADER_DEPRECATED("<boost/integer/integer_log2.hpp>");
^
C:/Rtools/mingw_64/bin/g++ -I"C:/Users/BIOCBU˜1/BBS-3˜1.9-B/R/include" -DNDEBUG -I"C:/Users/biocbuild/bbs-3.9-bioc/R/library/Rcpp/include" -I"C:/Users/biocbuild/bbs-3.9-bioc/R/library/BH/include" -I"C:/extsoft/include" -fopenmp -O2 -Wall -mtune=generic -c code_falsification.cpp -o code_falsification.o
In file included from C:/Users/biocbuild/bbs-3.9-bioc/R/library/BH/include/boost/random/detail/integer_log2.hpp:19:0,
from C:/Users/biocbuild/bbs-3.9-bioc/R/library/BH/include/boost/random/detail/large_arithmetic.hpp:19,
from C:/Users/biocbuild/bbs-3.9-bioc/R/library/BH/include/boost/random/detail/const_mod.hpp:23,
from C:/Users/biocbuild/bbs-3.9-bioc/R/library/BH/include/boost/random/detail/seed_impl.hpp:26,
from C:/Users/biocbuild/bbs-3.9-bioc/R/library/BH/include/boost/random/mersenne_twister.hpp:30,
from chromosome.h:8,
from code_falsification.cpp:11:
C:/Users/biocbuild/bbs-3.9-bioc/R/library/BH/include/boost/pending/integer_log2.hpp:7:89: note: #pragma message: This header is deprecated. Use <boost/integer/integer_log2.hpp> instead.
BOOST_HEADER_DEPRECATED("<boost/integer/integer_log2.hpp>");
^
C:/Rtools/mingw_64/bin/g++ -I"C:/Users/BIOCBU˜1/BBS-3˜1.9-B/R/include" -DNDEBUG -I"C:/Users/biocbuild/bbs-3.9-bioc/R/library/Rcpp/include" -I"C:/Users/biocbuild/bbs-3.9-bioc/R/library/BH/include" -I"C:/extsoft/include" -fopenmp -O2 -Wall -mtune=generic -c conway.cpp -o conway.o
C:/Rtools/mingw_64/bin/g++ -I"C:/Users/BIOCBU˜1/BBS-3˜1.9-B/R/include" -DNDEBUG -I"C:/Users/biocbuild/bbs-3.9-bioc/R/library/Rcpp/include" -I"C:/Users/biocbuild/bbs-3.9-bioc/R/library/BH/include" -I"C:/extsoft/include" -fopenmp -O2 -Wall -mtune=generic -c create_distance_func.cpp -o create_distance_func.o
C:/Rtools/mingw_64/bin/g++ -I"C:/Users/BIOCBU˜1/BBS-3˜1.9-B/R/include" -DNDEBUG -I"C:/Users/biocbuild/bbs-3.9-bioc/R/library/Rcpp/include" -I"C:/Users/biocbuild/bbs-3.9-bioc/R/library/BH/include" -I"C:/extsoft/include" -fopenmp -O2 -Wall -mtune=generic -c create_dnabarcodes.cpp -o create_dnabarcodes.o
In file included from C:/Users/biocbuild/bbs-3.9-bioc/R/library/BH/include/boost/random/detail/integer_log2.hpp:19:0,
from C:/Users/biocbuild/bbs-3.9-bioc/R/library/BH/include/boost/random/detail/large_arithmetic.hpp:19,
from C:/Users/biocbuild/bbs-3.9-bioc/R/library/BH/include/boost/random/detail/const_mod.hpp:23,
from C:/Users/biocbuild/bbs-3.9-bioc/R/library/BH/include/boost/random/detail/seed_impl.hpp:26,
from C:/Users/biocbuild/bbs-3.9-bioc/R/library/BH/include/boost/random/mersenne_twister.hpp:30,
from create_dnabarcodes.cpp:11:
C:/Users/biocbuild/bbs-3.9-bioc/R/library/BH/include/boost/pending/integer_log2.hpp:7:89: note: #pragma message: This header is deprecated. Use <boost/integer/integer_log2.hpp> instead.
BOOST_HEADER_DEPRECATED("<boost/integer/integer_log2.hpp>");
^
C:/Rtools/mingw_64/bin/g++ -I"C:/Users/BIOCBU˜1/BBS-3˜1.9-B/R/include" -DNDEBUG -I"C:/Users/biocbuild/bbs-3.9-bioc/R/library/Rcpp/include" -I"C:/Users/biocbuild/bbs-3.9-bioc/R/library/BH/include" -I"C:/extsoft/include" -fopenmp -O2 -Wall -mtune=generic -c create_pool.cpp -o create_pool.o
C:/Rtools/mingw_64/bin/g++ -I"C:/Users/BIOCBU˜1/BBS-3˜1.9-B/R/include" -DNDEBUG -I"C:/Users/biocbuild/bbs-3.9-bioc/R/library/Rcpp/include" -I"C:/Users/biocbuild/bbs-3.9-bioc/R/library/BH/include" -I"C:/extsoft/include" -fopenmp -O2 -Wall -mtune=generic -c demultiplex.cpp -o demultiplex.o
C:/Rtools/mingw_64/bin/g++ -I"C:/Users/BIOCBU˜1/BBS-3˜1.9-B/R/include" -DNDEBUG -I"C:/Users/biocbuild/bbs-3.9-bioc/R/library/Rcpp/include" -I"C:/Users/biocbuild/bbs-3.9-bioc/R/library/BH/include" -I"C:/extsoft/include" -fopenmp -O2 -Wall -mtune=generic -c distance_for_R.cpp -o distance_for_R.o
C:/Rtools/mingw_64/bin/g++ -I"C:/Users/BIOCBU˜1/BBS-3˜1.9-B/R/include" -DNDEBUG -I"C:/Users/biocbuild/bbs-3.9-bioc/R/library/Rcpp/include" -I"C:/Users/biocbuild/bbs-3.9-bioc/R/library/BH/include" -I"C:/extsoft/include" -fopenmp -O2 -Wall -mtune=generic -c genericchromosome.cpp -o genericchromosome.o
C:/Rtools/mingw_64/bin/g++ -I"C:/Users/BIOCBU˜1/BBS-3˜1.9-B/R/include" -DNDEBUG -I"C:/Users/biocbuild/bbs-3.9-bioc/R/library/Rcpp/include" -I"C:/Users/biocbuild/bbs-3.9-bioc/R/library/BH/include" -I"C:/extsoft/include" -fopenmp -O2 -Wall -mtune=generic -c greedyevolution.cpp -o greedyevolution.o
C:/Rtools/mingw_64/bin/g++ -I"C:/Users/BIOCBU˜1/BBS-3˜1.9-B/R/include" -DNDEBUG -I"C:/Users/biocbuild/bbs-3.9-bioc/R/library/Rcpp/include" -I"C:/Users/biocbuild/bbs-3.9-bioc/R/library/BH/include" -I"C:/extsoft/include" -fopenmp -O2 -Wall -mtune=generic -c hammingdistance.cpp -o hammingdistance.o
C:/Rtools/mingw_64/bin/g++ -I"C:/Users/BIOCBU˜1/BBS-3˜1.9-B/R/include" -DNDEBUG -I"C:/Users/biocbuild/bbs-3.9-bioc/R/library/Rcpp/include" -I"C:/Users/biocbuild/bbs-3.9-bioc/R/library/BH/include" -I"C:/extsoft/include" -fopenmp -O2 -Wall -mtune=generic -c helpers.cpp -o helpers.o
C:/Rtools/mingw_64/bin/g++ -I"C:/Users/BIOCBU˜1/BBS-3˜1.9-B/R/include" -DNDEBUG -I"C:/Users/biocbuild/bbs-3.9-bioc/R/library/Rcpp/include" -I"C:/Users/biocbuild/bbs-3.9-bioc/R/library/BH/include" -I"C:/extsoft/include" -fopenmp -O2 -Wall -mtune=generic -c levenshteindistance.cpp -o levenshteindistance.o
C:/Rtools/mingw_64/bin/g++ -I"C:/Users/BIOCBU˜1/BBS-3˜1.9-B/R/include" -DNDEBUG -I"C:/Users/biocbuild/bbs-3.9-bioc/R/library/Rcpp/include" -I"C:/Users/biocbuild/bbs-3.9-bioc/R/library/BH/include" -I"C:/extsoft/include" -fopenmp -O2 -Wall -mtune=generic -c maxclique_pattabiraman_heuristic.cpp -o maxclique_pattabiraman_heuristic.o
C:/Rtools/mingw_64/bin/g++ -I"C:/Users/BIOCBU˜1/BBS-3˜1.9-B/R/include" -DNDEBUG -I"C:/Users/biocbuild/bbs-3.9-bioc/R/library/Rcpp/include" -I"C:/Users/biocbuild/bbs-3.9-bioc/R/library/BH/include" -I"C:/extsoft/include" -fopenmp -O2 -Wall -mtune=generic -c phaseshiftdist.cpp -o phaseshiftdist.o
C:/Rtools/mingw_64/bin/g++ -I"C:/Users/BIOCBU˜1/BBS-3˜1.9-B/R/include" -DNDEBUG -I"C:/Users/biocbuild/bbs-3.9-bioc/R/library/Rcpp/include" -I"C:/Users/biocbuild/bbs-3.9-bioc/R/library/BH/include" -I"C:/extsoft/include" -fopenmp -O2 -Wall -mtune=generic -c sequence.cpp -o sequence.o
C:/Rtools/mingw_64/bin/g++ -I"C:/Users/BIOCBU˜1/BBS-3˜1.9-B/R/include" -DNDEBUG -I"C:/Users/biocbuild/bbs-3.9-bioc/R/library/Rcpp/include" -I"C:/Users/biocbuild/bbs-3.9-bioc/R/library/BH/include" -I"C:/extsoft/include" -fopenmp -O2 -Wall -mtune=generic -c sequencelevenshteindistance.cpp -o sequencelevenshteindistance.o
C:/Rtools/mingw_64/bin/g++ -I"C:/Users/BIOCBU˜1/BBS-3˜1.9-B/R/include" -DNDEBUG -I"C:/Users/biocbuild/bbs-3.9-bioc/R/library/Rcpp/include" -I"C:/Users/biocbuild/bbs-3.9-bioc/R/library/BH/include" -I"C:/extsoft/include" -fopenmp -O2 -Wall -mtune=generic -c sequencepool.cpp -o sequencepool.o
C:/Rtools/mingw_64/bin/g++ -shared -s -static-libgcc -o DNABarcodes.dll tmp.def DNABarcodes_init.o RcppExports.o analyse_barcodes.o barcode_set_distances.o cachedistance.o chromosome.o code_falsification.o conway.o create_distance_func.o create_dnabarcodes.o create_pool.o demultiplex.o distance_for_R.o genericchromosome.o greedyevolution.o hammingdistance.o helpers.o levenshteindistance.o maxclique_pattabiraman_heuristic.o phaseshiftdist.o sequence.o sequencelevenshteindistance.o sequencepool.o -fopenmp -LC:/extsoft/lib/x64 -LC:/extsoft/lib -LC:/Users/BIOCBU˜1/BBS-3˜1.9-B/R/bin/x64 -lR
installing to C:/Users/biocbuild/bbs-3.9-bioc/meat/DNABarcodes.buildbin-libdir/DNABarcodes/libs/x64
** testing if installed package can be loaded
* MD5 sums
packaged installation of 'DNABarcodes' as DNABarcodes_1.13.0.zip
* DONE (DNABarcodes)