| Back to Multiple platform build/check report for BioC 3.9 |
|
This page was generated on 2019-04-09 12:36:15 -0400 (Tue, 09 Apr 2019).
| Package 392/1703 | Hostname | OS / Arch | INSTALL | BUILD | CHECK | BUILD BIN | ||||||
| DEComplexDisease 1.3.0 Guofeng Meng
| malbec2 | Linux (Ubuntu 18.04.2 LTS) / x86_64 | OK | OK | OK | |||||||
| tokay2 | Windows Server 2012 R2 Standard / x64 | OK | OK | OK | [ OK ] | |||||||
| celaya2 | OS X 10.11.6 El Capitan / x86_64 | OK | OK | OK | OK | |||||||
| merida2 | OS X 10.11.6 El Capitan / x86_64 | OK | OK | OK | OK |
| Package: DEComplexDisease |
| Version: 1.3.0 |
| Command: rm -rf DEComplexDisease.buildbin-libdir && mkdir DEComplexDisease.buildbin-libdir && C:\Users\biocbuild\bbs-3.9-bioc\R\bin\R.exe CMD INSTALL --merge-multiarch --build --library=DEComplexDisease.buildbin-libdir DEComplexDisease_1.3.0.tar.gz |
| StartedAt: 2019-04-09 07:45:29 -0400 (Tue, 09 Apr 2019) |
| EndedAt: 2019-04-09 07:46:39 -0400 (Tue, 09 Apr 2019) |
| EllapsedTime: 70.5 seconds |
| RetCode: 0 |
| Status: OK |
| PackageFile: DEComplexDisease_1.3.0.zip |
| PackageFileSize: 2.094 MiB |
##############################################################################
##############################################################################
###
### Running command:
###
### rm -rf DEComplexDisease.buildbin-libdir && mkdir DEComplexDisease.buildbin-libdir && C:\Users\biocbuild\bbs-3.9-bioc\R\bin\R.exe CMD INSTALL --merge-multiarch --build --library=DEComplexDisease.buildbin-libdir DEComplexDisease_1.3.0.tar.gz
###
##############################################################################
##############################################################################
install for i386
* installing *source* package 'DEComplexDisease' ...
** libs
C:/Rtools/mingw_32/bin/g++ -I"C:/Users/BIOCBU˜1/BBS-3˜1.9-B/R/include" -DNDEBUG -I"C:/Users/biocbuild/bbs-3.9-bioc/R/library/Rcpp/include" -I"C:/extsoft/include" -O2 -Wall -mtune=generic -c RcppExports.cpp -o RcppExports.o
C:/Rtools/mingw_32/bin/g++ -I"C:/Users/BIOCBU˜1/BBS-3˜1.9-B/R/include" -DNDEBUG -I"C:/Users/biocbuild/bbs-3.9-bioc/R/library/Rcpp/include" -I"C:/extsoft/include" -O2 -Wall -mtune=generic -c sig.cpp -o sig.o
C:/Rtools/mingw_32/bin/g++ -shared -s -static-libgcc -o DEComplexDisease.dll tmp.def RcppExports.o sig.o -LC:/extsoft/lib/i386 -LC:/extsoft/lib -LC:/Users/BIOCBU˜1/BBS-3˜1.9-B/R/bin/i386 -lR
installing to C:/Users/biocbuild/bbs-3.9-bioc/meat/DEComplexDisease.buildbin-libdir/00LOCK-DEComplexDisease/00new/DEComplexDisease/libs/i386
** R
** data
*** moving datasets to lazyload DB
** inst
** byte-compile and prepare package for lazy loading
** help
*** installing help indices
converting help for package 'DEComplexDisease'
finding HTML links ... done
Plot.cluster.module html
Plot.deg html
Plot.deg.specific html
Plot.deg.specific.test html
Plot.seed.module html
ann.er html
bi.deg html
cl html
cluster.mod html
cluster.module html
deg html
deg.spc html
deg.specific html
exp html
module.compare html
module.curve html
module.exact html
module.modeling html
module.overlap html
module.screen html
res.mod1 html
res.mod2 html
seed.mod html
seed.module html
summarize.cluster.module html
summarize.deg.specific html
summarize.seed.module html
** building package indices
** installing vignettes
** testing if installed package can be loaded from temporary location
** testing if installed package can be loaded from final location
** testing if installed package keeps a record of temporary installation path
install for x64
* installing *source* package 'DEComplexDisease' ...
** libs
C:/Rtools/mingw_64/bin/g++ -I"C:/Users/BIOCBU˜1/BBS-3˜1.9-B/R/include" -DNDEBUG -I"C:/Users/biocbuild/bbs-3.9-bioc/R/library/Rcpp/include" -I"C:/extsoft/include" -O2 -Wall -mtune=generic -c RcppExports.cpp -o RcppExports.o
C:/Rtools/mingw_64/bin/g++ -I"C:/Users/BIOCBU˜1/BBS-3˜1.9-B/R/include" -DNDEBUG -I"C:/Users/biocbuild/bbs-3.9-bioc/R/library/Rcpp/include" -I"C:/extsoft/include" -O2 -Wall -mtune=generic -c sig.cpp -o sig.o
C:/Rtools/mingw_64/bin/g++ -shared -s -static-libgcc -o DEComplexDisease.dll tmp.def RcppExports.o sig.o -LC:/extsoft/lib/x64 -LC:/extsoft/lib -LC:/Users/BIOCBU˜1/BBS-3˜1.9-B/R/bin/x64 -lR
installing to C:/Users/biocbuild/bbs-3.9-bioc/meat/DEComplexDisease.buildbin-libdir/DEComplexDisease/libs/x64
** testing if installed package can be loaded
* MD5 sums
packaged installation of 'DEComplexDisease' as DEComplexDisease_1.3.0.zip
* DONE (DEComplexDisease)