| Back to Multiple platform build/check report for BioC 3.9 |
|
This page was generated on 2019-04-09 12:25:10 -0400 (Tue, 09 Apr 2019).
| Package 386/1703 | Hostname | OS / Arch | INSTALL | BUILD | CHECK | BUILD BIN | ||||||
| DChIPRep 1.13.0 Bernd Klaus
| malbec2 | Linux (Ubuntu 18.04.2 LTS) / x86_64 | OK | OK | OK | |||||||
| tokay2 | Windows Server 2012 R2 Standard / x64 | OK | OK | WARNINGS | [ OK ] | |||||||
| celaya2 | OS X 10.11.6 El Capitan / x86_64 | OK | OK | OK | OK | |||||||
| merida2 | OS X 10.11.6 El Capitan / x86_64 | OK | OK | OK | OK |
| Package: DChIPRep |
| Version: 1.13.0 |
| Command: rm -rf DChIPRep.buildbin-libdir && mkdir DChIPRep.buildbin-libdir && C:\Users\biocbuild\bbs-3.9-bioc\R\bin\R.exe CMD INSTALL --merge-multiarch --build --library=DChIPRep.buildbin-libdir DChIPRep_1.13.0.tar.gz |
| StartedAt: 2019-04-09 07:45:06 -0400 (Tue, 09 Apr 2019) |
| EndedAt: 2019-04-09 07:46:24 -0400 (Tue, 09 Apr 2019) |
| EllapsedTime: 78.2 seconds |
| RetCode: 0 |
| Status: OK |
| PackageFile: DChIPRep_1.13.0.zip |
| PackageFileSize: 1.645 MiB |
##############################################################################
##############################################################################
###
### Running command:
###
### rm -rf DChIPRep.buildbin-libdir && mkdir DChIPRep.buildbin-libdir && C:\Users\biocbuild\bbs-3.9-bioc\R\bin\R.exe CMD INSTALL --merge-multiarch --build --library=DChIPRep.buildbin-libdir DChIPRep_1.13.0.tar.gz
###
##############################################################################
##############################################################################
install for i386
* installing *source* package 'DChIPRep' ...
** R
** data
*** moving datasets to lazyload DB
Registered S3 methods overwritten by 'ggplot2':
method from
[.quosures rlang
c.quosures rlang
print.quosures rlang
Warning: replacing previous import 'ggplot2::Position' by 'BiocGenerics::Position' when loading 'soGGi'
** exec
** inst
** byte-compile and prepare package for lazy loading
Warning: replacing previous import 'ggplot2::Position' by 'BiocGenerics::Position' when loading 'soGGi'
** help
*** installing help indices
converting help for package 'DChIPRep'
finding HTML links ... done
DChIPRep html
DChIPRepResults html
DESeq2Data html
FDRresults html
TSS_galonska html
chip_galonska html
exampleChipData html
exampleInputData html
exampleSampleTable html
getMATfromDataFrame html
importData html
importDataFromMatrices html
importData_soGGi html
Rd warning: C:/Users/biocbuild/bbs-3.9-bioc/tmpdir/RtmpyYkLrS/R.INSTALL48458da7a32/DChIPRep/man/importData_soGGi.Rd:36: file link 'regionPlot' in package 'soGGi' does not exist and so has been treated as a topic
Rd warning: C:/Users/biocbuild/bbs-3.9-bioc/tmpdir/RtmpyYkLrS/R.INSTALL48458da7a32/DChIPRep/man/importData_soGGi.Rd:14: file link 'GenomicRanges-class' in package 'GenomicRanges' does not exist and so has been treated as a topic
Rd warning: C:/Users/biocbuild/bbs-3.9-bioc/tmpdir/RtmpyYkLrS/R.INSTALL48458da7a32/DChIPRep/man/importData_soGGi.Rd:27: file link 'regionPlot' in package 'soGGi' does not exist and so has been treated as a topic
Rd warning: C:/Users/biocbuild/bbs-3.9-bioc/tmpdir/RtmpyYkLrS/R.INSTALL48458da7a32/DChIPRep/man/importData_soGGi.Rd:65: file link 'regionPlot' in package 'soGGi' does not exist and so has been treated as a topic
input_galonska html
plotProfiles html
plotSignificance html
resultsDChIPRep html
robust_mean html
Rd warning: C:/Users/biocbuild/bbs-3.9-bioc/tmpdir/RtmpyYkLrS/R.INSTALL48458da7a32/DChIPRep/man/robust_mean.Rd:17: file link 'smhuber' in package 'smoothmest' does not exist and so has been treated as a topic
runTesting html
sample_table_galonska html
show html
summarizeCountsPerPosition html
testData html
** building package indices
** installing vignettes
** testing if installed package can be loaded from temporary location
Warning: replacing previous import 'ggplot2::Position' by 'BiocGenerics::Position' when loading 'soGGi'
** testing if installed package can be loaded from final location
Warning: replacing previous import 'ggplot2::Position' by 'BiocGenerics::Position' when loading 'soGGi'
** testing if installed package keeps a record of temporary installation path
install for x64
* installing *source* package 'DChIPRep' ...
** testing if installed package can be loaded
Warning: replacing previous import 'ggplot2::Position' by 'BiocGenerics::Position' when loading 'soGGi'
* MD5 sums
packaged installation of 'DChIPRep' as DChIPRep_1.13.0.zip
* DONE (DChIPRep)