| Back to Multiple platform build/check report for BioC 3.9 |
|
This page was generated on 2019-04-09 12:00:53 -0400 (Tue, 09 Apr 2019).
| Package 384/1703 | Hostname | OS / Arch | INSTALL | BUILD | CHECK | BUILD BIN | ||||||
| DBChIP 1.27.0 Kun Liang
| malbec2 | Linux (Ubuntu 18.04.2 LTS) / x86_64 | OK | OK | OK | |||||||
| tokay2 | Windows Server 2012 R2 Standard / x64 | OK | OK | OK | [ OK ] | |||||||
| celaya2 | OS X 10.11.6 El Capitan / x86_64 | OK | OK | OK | OK | |||||||
| merida2 | OS X 10.11.6 El Capitan / x86_64 | OK | OK | OK | OK |
| Package: DBChIP |
| Version: 1.27.0 |
| Command: rm -rf DBChIP.buildbin-libdir && mkdir DBChIP.buildbin-libdir && C:\Users\biocbuild\bbs-3.9-bioc\R\bin\R.exe CMD INSTALL --merge-multiarch --build --library=DBChIP.buildbin-libdir DBChIP_1.27.0.tar.gz |
| StartedAt: 2019-04-09 07:44:58 -0400 (Tue, 09 Apr 2019) |
| EndedAt: 2019-04-09 07:45:25 -0400 (Tue, 09 Apr 2019) |
| EllapsedTime: 27.3 seconds |
| RetCode: 0 |
| Status: OK |
| PackageFile: DBChIP_1.27.0.zip |
| PackageFileSize: 2.029 MiB |
##############################################################################
##############################################################################
###
### Running command:
###
### rm -rf DBChIP.buildbin-libdir && mkdir DBChIP.buildbin-libdir && C:\Users\biocbuild\bbs-3.9-bioc\R\bin\R.exe CMD INSTALL --merge-multiarch --build --library=DBChIP.buildbin-libdir DBChIP_1.27.0.tar.gz
###
##############################################################################
##############################################################################
install for i386
* installing *source* package 'DBChIP' ...
** R
** data
** inst
** byte-compile and prepare package for lazy loading
** help
*** installing help indices
converting help for package 'DBChIP'
finding HTML links ... done
DBChIP-package html
DBChIP html
PHA4 html
binding.site.list html
chip.data.list html
conds html
get.site.count html
input.data.list html
load.data html
plotPeak html
read.binding.site.list html
report.peak html
site.merge html
test.diff.binding html
** building package indices
** installing vignettes
** testing if installed package can be loaded from temporary location
** testing if installed package can be loaded from final location
** testing if installed package keeps a record of temporary installation path
install for x64
* installing *source* package 'DBChIP' ...
** testing if installed package can be loaded
* MD5 sums
packaged installation of 'DBChIP' as DBChIP_1.27.0.zip
* DONE (DBChIP)