| Back to Multiple platform build/check report for BioC 3.9 | 
  | 
This page was generated on 2019-04-09 12:00:12 -0400 (Tue, 09 Apr 2019).
| Package 383/1703 | Hostname | OS / Arch | INSTALL | BUILD | CHECK | BUILD BIN | ||||||
| DART 1.31.0 Charles Shijie Zheng 
  | malbec2 | Linux (Ubuntu 18.04.2 LTS) / x86_64 | OK | OK | OK | |||||||
| tokay2 | Windows Server 2012 R2 Standard / x64 | [ OK ] | OK | OK | OK | |||||||
| celaya2 | OS X 10.11.6 El Capitan / x86_64 | OK | OK | OK | OK | |||||||
| merida2 | OS X 10.11.6 El Capitan / x86_64 | OK | OK | OK | OK | 
| Package: DART | 
| Version: 1.31.0 | 
| Command: C:\cygwin\bin\curl.exe -O https://malbec2.bioconductor.org/BBS/3.9/bioc/src/contrib/DART_1.31.0.tar.gz && rm -rf DART.buildbin-libdir && mkdir DART.buildbin-libdir && C:\Users\biocbuild\bbs-3.9-bioc\R\bin\R.exe CMD INSTALL --merge-multiarch --build --library=DART.buildbin-libdir DART_1.31.0.tar.gz && C:\Users\biocbuild\bbs-3.9-bioc\R\bin\R.exe CMD INSTALL DART_1.31.0.zip && rm DART_1.31.0.tar.gz DART_1.31.0.zip | 
| StartedAt: 2019-04-08 18:48:38 -0400 (Mon, 08 Apr 2019) | 
| EndedAt: 2019-04-08 18:49:22 -0400 (Mon, 08 Apr 2019) | 
| EllapsedTime: 44.4 seconds | 
| RetCode: 0 | 
| Status: OK | 
##############################################################################
##############################################################################
###
### Running command:
###
###   C:\cygwin\bin\curl.exe -O https://malbec2.bioconductor.org/BBS/3.9/bioc/src/contrib/DART_1.31.0.tar.gz && rm -rf DART.buildbin-libdir && mkdir DART.buildbin-libdir && C:\Users\biocbuild\bbs-3.9-bioc\R\bin\R.exe CMD INSTALL --merge-multiarch --build --library=DART.buildbin-libdir DART_1.31.0.tar.gz && C:\Users\biocbuild\bbs-3.9-bioc\R\bin\R.exe CMD INSTALL DART_1.31.0.zip && rm DART_1.31.0.tar.gz DART_1.31.0.zip
###
##############################################################################
##############################################################################
  % Total    % Received % Xferd  Average Speed   Time    Time     Time  Current
                                 Dload  Upload   Total   Spent    Left  Speed
  0     0    0     0    0     0      0      0 --:--:-- --:--:-- --:--:--     0
100 1879k  100 1879k    0     0  19.5M      0 --:--:-- --:--:-- --:--:-- 21.1M
install for i386
* installing *source* package 'DART' ...
** R
** data
** inst
** byte-compile and prepare package for lazy loading
** help
*** installing help indices
  converting help for package 'DART'
    finding HTML links ... done
    BuildRN                                 html  
    DART-package                            html  
    DoDART                                  html  
    DoDARTCLQ                               html  
    EvalConsNet                             html  
    PredActScore                            html  
    PruneNet                                html  
    dataDART                                html  
** building package indices
** installing vignettes
** testing if installed package can be loaded from temporary location
** testing if installed package can be loaded from final location
** testing if installed package keeps a record of temporary installation path
install for x64
* installing *source* package 'DART' ...
** testing if installed package can be loaded
* MD5 sums
packaged installation of 'DART' as DART_1.31.0.zip
* DONE (DART)
* installing to library 'C:/Users/biocbuild/bbs-3.9-bioc/R/library'
package 'DART' successfully unpacked and MD5 sums checked