| Back to Multiple platform build/check report for BioC 3.9 | 
  | 
This page was generated on 2019-04-09 13:01:26 -0400 (Tue, 09 Apr 2019).
| Package 343/1703 | Hostname | OS / Arch | INSTALL | BUILD | CHECK | BUILD BIN | ||||||
| Cormotif 1.29.0 Yingying Wei 
  | malbec2 | Linux (Ubuntu 18.04.2 LTS) / x86_64 | OK | OK | OK | |||||||
| tokay2 | Windows Server 2012 R2 Standard / x64 | OK | OK | OK | OK | |||||||
| celaya2 | OS X 10.11.6 El Capitan / x86_64 | OK | OK | OK | [ OK ] | |||||||
| merida2 | OS X 10.11.6 El Capitan / x86_64 | OK | OK | OK | OK | 
| Package: Cormotif | 
| Version: 1.29.0 | 
| Command: rm -rf Cormotif.buildbin-libdir && mkdir Cormotif.buildbin-libdir && /Users/biocbuild/BBS/utils/build-universal.sh Cormotif_1.29.0.tar.gz /Library/Frameworks/R.framework/Versions/Current/Resources/bin/R Cormotif.buildbin-libdir | 
| StartedAt: 2019-04-09 06:52:25 -0400 (Tue, 09 Apr 2019) | 
| EndedAt: 2019-04-09 06:52:39 -0400 (Tue, 09 Apr 2019) | 
| EllapsedTime: 14.3 seconds | 
| RetCode: 0 | 
| Status: OK | 
| PackageFile: Cormotif_1.29.0.tgz | 
| PackageFileSize: 356.8 KiB | 
############################################################################## ############################################################################## ### ### Running command: ### ### rm -rf Cormotif.buildbin-libdir && mkdir Cormotif.buildbin-libdir && /Users/biocbuild/BBS/utils/build-universal.sh Cormotif_1.29.0.tar.gz /Library/Frameworks/R.framework/Versions/Current/Resources/bin/R Cormotif.buildbin-libdir ### ############################################################################## ############################################################################## >>>>>>> >>>>>>> INSTALLATION WITH 'R CMD INSTALL --preclean --no-multiarch --library=Cormotif.buildbin-libdir Cormotif_1.29.0.tar.gz' >>>>>>> * installing *source* package ‘Cormotif’ ... ** using staged installation ** R ** data ** inst ** byte-compile and prepare package for lazy loading ** help *** installing help indices ** building package indices ** installing vignettes ** testing if installed package can be loaded from temporary location ** testing if installed package can be loaded from final location ** testing if installed package keeps a record of temporary installation path * DONE (Cormotif)