| Back to Multiple platform build/check report for BioC 3.9 |
|
This page was generated on 2019-04-09 12:00:53 -0400 (Tue, 09 Apr 2019).
| Package 344/1703 | Hostname | OS / Arch | INSTALL | BUILD | CHECK | BUILD BIN | ||||||
| CorMut 1.25.0 Zhenpeng Li
| malbec2 | Linux (Ubuntu 18.04.2 LTS) / x86_64 | OK | OK | OK | |||||||
| tokay2 | Windows Server 2012 R2 Standard / x64 | OK | OK | OK | [ OK ] | |||||||
| celaya2 | OS X 10.11.6 El Capitan / x86_64 | OK | OK | OK | OK | |||||||
| merida2 | OS X 10.11.6 El Capitan / x86_64 | OK | OK | OK | OK |
| Package: CorMut |
| Version: 1.25.0 |
| Command: rm -rf CorMut.buildbin-libdir && mkdir CorMut.buildbin-libdir && C:\Users\biocbuild\bbs-3.9-bioc\R\bin\R.exe CMD INSTALL --merge-multiarch --build --library=CorMut.buildbin-libdir CorMut_1.25.0.tar.gz |
| StartedAt: 2019-04-09 07:42:49 -0400 (Tue, 09 Apr 2019) |
| EndedAt: 2019-04-09 07:43:18 -0400 (Tue, 09 Apr 2019) |
| EllapsedTime: 29.8 seconds |
| RetCode: 0 |
| Status: OK |
| PackageFile: CorMut_1.25.0.zip |
| PackageFileSize: 465.5 KiB |
##############################################################################
##############################################################################
###
### Running command:
###
### rm -rf CorMut.buildbin-libdir && mkdir CorMut.buildbin-libdir && C:\Users\biocbuild\bbs-3.9-bioc\R\bin\R.exe CMD INSTALL --merge-multiarch --build --library=CorMut.buildbin-libdir CorMut_1.25.0.tar.gz
###
##############################################################################
##############################################################################
install for i386
* installing *source* package 'CorMut' ...
** R
** inst
** byte-compile and prepare package for lazy loading
Warning in .recursiveCallTest(body, fname) :
the body of the generic function for 'seq_num.CorMut' calls 'standardGeneric' to dispatch on a different name ("aslot")!
Warning in .recursiveCallTest(body, fname) :
the body of the generic function for 'kaks.CorMut' calls 'standardGeneric' to dispatch on a different name ("aslot")!
Warning in .recursiveCallTest(body, fname) :
the body of the generic function for 'lod.CorMut' calls 'standardGeneric' to dispatch on a different name ("aslot")!
Warning in .recursiveCallTest(body, fname) :
the body of the generic function for 'q.CorMut' calls 'standardGeneric' to dispatch on a different name ("aslot")!
Warning in .recursiveCallTest(body, fname) :
the body of the generic function for 'ka.CorMut' calls 'standardGeneric' to dispatch on a different name ("aslot")!
Warning in .recursiveCallTest(body, fname) :
the body of the generic function for 'ks.CorMut' calls 'standardGeneric' to dispatch on a different name ("aslot")!
Warning in .recursiveCallTest(body, fname) :
the body of the generic function for 'mi.CorMut' calls 'standardGeneric' to dispatch on a different name ("aslot")!
Warning in .recursiveCallTest(body, fname) :
the body of the generic function for 'p.value.CorMut' calls 'standardGeneric' to dispatch on a different name ("aslot")!
Warning in .recursiveCallTest(body, fname) :
the body of the generic function for 'ckaks.CorMut' calls 'standardGeneric' to dispatch on a different name ("aslot")!
Warning in .recursiveCallTest(body, fname) :
the body of the generic function for 'method.CorMut' calls 'standardGeneric' to dispatch on a different name ("aslot")!
Warning in .recursiveCallTest(body, fname) :
the body of the generic function for 'positiveSite01.CorMut' calls 'standardGeneric' to dispatch on a different name ("aslot")!
Warning in .recursiveCallTest(body, fname) :
the body of the generic function for 'positiveSite02.CorMut' calls 'standardGeneric' to dispatch on a different name ("aslot")!
Warning in .recursiveCallTest(body, fname) :
the body of the generic function for 'state_1.CorMut' calls 'standardGeneric' to dispatch on a different name ("aslot")!
Warning in .recursiveCallTest(body, fname) :
the body of the generic function for 'statistic_1.CorMut' calls 'standardGeneric' to dispatch on a different name ("aslot")!
Warning in .recursiveCallTest(body, fname) :
the body of the generic function for 'state_2.CorMut' calls 'standardGeneric' to dispatch on a different name ("aslot")!
Warning in .recursiveCallTest(body, fname) :
the body of the generic function for 'statistic_2.CorMut' calls 'standardGeneric' to dispatch on a different name ("aslot")!
** help
*** installing help indices
converting help for package 'CorMut'
finding HTML links ... done
CorMut-package html
JI-class html
MI-class html
biCkaksCodon-class html
biCompare-class html
biCompare-methods html
ckaks-class html
ckaksAA html
ckaksCodon html
filterSites-methods html
jiAA html
kaksAA-class html
kaksAA html
kaksCodon-class html
kaksCodon html
miAA html
miCodon html
plot-methods html
seqFormat-methods html
** building package indices
** installing vignettes
** testing if installed package can be loaded from temporary location
** testing if installed package can be loaded from final location
** testing if installed package keeps a record of temporary installation path
install for x64
* installing *source* package 'CorMut' ...
** testing if installed package can be loaded
* MD5 sums
packaged installation of 'CorMut' as CorMut_1.25.0.zip
* DONE (CorMut)