| Back to Multiple platform build/check report for BioC 3.9 | 
 | 
This page was generated on 2019-04-09 12:23:40 -0400 (Tue, 09 Apr 2019).
| Package 339/1703 | Hostname | OS / Arch | INSTALL | BUILD | CHECK | BUILD BIN | ||||||
| CopywriteR 2.15.2 Oscar Krijgsman 
 | malbec2 | Linux (Ubuntu 18.04.2 LTS) / x86_64 | OK | OK | OK |  | ||||||
| tokay2 | Windows Server 2012 R2 Standard / x64 | [ OK ] | OK | OK | OK |  | ||||||
| celaya2 | OS X 10.11.6 El Capitan / x86_64 | OK | OK | OK | OK |  | ||||||
| merida2 | OS X 10.11.6 El Capitan / x86_64 | OK | OK | OK | OK | 
| Package: CopywriteR | 
| Version: 2.15.2 | 
| Command: C:\cygwin\bin\curl.exe -O https://malbec2.bioconductor.org/BBS/3.9/bioc/src/contrib/CopywriteR_2.15.2.tar.gz && rm -rf CopywriteR.buildbin-libdir && mkdir CopywriteR.buildbin-libdir && C:\Users\biocbuild\bbs-3.9-bioc\R\bin\R.exe CMD INSTALL --merge-multiarch --build --library=CopywriteR.buildbin-libdir CopywriteR_2.15.2.tar.gz && C:\Users\biocbuild\bbs-3.9-bioc\R\bin\R.exe CMD INSTALL CopywriteR_2.15.2.zip && rm CopywriteR_2.15.2.tar.gz CopywriteR_2.15.2.zip | 
| StartedAt: 2019-04-08 20:22:52 -0400 (Mon, 08 Apr 2019) | 
| EndedAt: 2019-04-08 20:23:32 -0400 (Mon, 08 Apr 2019) | 
| EllapsedTime: 40.5 seconds | 
| RetCode: 0 | 
| Status: OK | 
##############################################################################
##############################################################################
###
### Running command:
###
###   C:\cygwin\bin\curl.exe -O https://malbec2.bioconductor.org/BBS/3.9/bioc/src/contrib/CopywriteR_2.15.2.tar.gz && rm -rf CopywriteR.buildbin-libdir && mkdir CopywriteR.buildbin-libdir && C:\Users\biocbuild\bbs-3.9-bioc\R\bin\R.exe CMD INSTALL --merge-multiarch --build --library=CopywriteR.buildbin-libdir CopywriteR_2.15.2.tar.gz && C:\Users\biocbuild\bbs-3.9-bioc\R\bin\R.exe CMD INSTALL CopywriteR_2.15.2.zip && rm CopywriteR_2.15.2.tar.gz CopywriteR_2.15.2.zip
###
##############################################################################
##############################################################################
  % Total    % Received % Xferd  Average Speed   Time    Time     Time  Current
                                 Dload  Upload   Total   Spent    Left  Speed
  0     0    0     0    0     0      0      0 --:--:-- --:--:-- --:--:--     0
100 22353  100 22353    0     0   435k      0 --:--:-- --:--:-- --:--:--  496k
install for i386
* installing *source* package 'CopywriteR' ...
** R
** byte-compile and prepare package for lazy loading
** help
*** installing help indices
  converting help for package 'CopywriteR'
    finding HTML links ... done
    CopywriteR                              html  
    plotCNA                                 html  
    preCopywriteR                           html  
** building package indices
** installing vignettes
** testing if installed package can be loaded from temporary location
** testing if installed package can be loaded from final location
** testing if installed package keeps a record of temporary installation path
install for x64
* installing *source* package 'CopywriteR' ...
** testing if installed package can be loaded
* MD5 sums
packaged installation of 'CopywriteR' as CopywriteR_2.15.2.zip
* DONE (CopywriteR)
* installing to library 'C:/Users/biocbuild/bbs-3.9-bioc/R/library'
package 'CopywriteR' successfully unpacked and MD5 sums checked