| Back to Multiple platform build/check report for BioC 3.9 |
|
This page was generated on 2019-04-09 12:21:48 -0400 (Tue, 09 Apr 2019).
| Package 342/1703 | Hostname | OS / Arch | INSTALL | BUILD | CHECK | BUILD BIN | ||||||
| CoRegNet 1.21.0 Remy Nicolle
| malbec2 | Linux (Ubuntu 18.04.2 LTS) / x86_64 | OK | OK | WARNINGS | |||||||
| tokay2 | Windows Server 2012 R2 Standard / x64 | OK | OK | WARNINGS | [ OK ] | |||||||
| celaya2 | OS X 10.11.6 El Capitan / x86_64 | OK | OK | WARNINGS | OK | |||||||
| merida2 | OS X 10.11.6 El Capitan / x86_64 | OK | OK | WARNINGS | OK |
| Package: CoRegNet |
| Version: 1.21.0 |
| Command: rm -rf CoRegNet.buildbin-libdir && mkdir CoRegNet.buildbin-libdir && C:\Users\biocbuild\bbs-3.9-bioc\R\bin\R.exe CMD INSTALL --merge-multiarch --build --library=CoRegNet.buildbin-libdir CoRegNet_1.21.0.tar.gz |
| StartedAt: 2019-04-09 07:42:41 -0400 (Tue, 09 Apr 2019) |
| EndedAt: 2019-04-09 07:43:22 -0400 (Tue, 09 Apr 2019) |
| EllapsedTime: 40.9 seconds |
| RetCode: 0 |
| Status: OK |
| PackageFile: CoRegNet_1.21.0.zip |
| PackageFileSize: 3.724 MiB |
##############################################################################
##############################################################################
###
### Running command:
###
### rm -rf CoRegNet.buildbin-libdir && mkdir CoRegNet.buildbin-libdir && C:\Users\biocbuild\bbs-3.9-bioc\R\bin\R.exe CMD INSTALL --merge-multiarch --build --library=CoRegNet.buildbin-libdir CoRegNet_1.21.0.tar.gz
###
##############################################################################
##############################################################################
install for i386
* installing *source* package 'CoRegNet' ...
** libs
C:/Rtools/mingw_32/bin/gcc -I"C:/Users/BIOCBU˜1/BBS-3˜1.9-B/R/include" -DNDEBUG -I"C:/extsoft/include" -O3 -Wall -std=gnu99 -mtune=generic -c comblicorn.c -o comblicorn.o
C:/Rtools/mingw_32/bin/gcc -shared -s -static-libgcc -o CoRegNet.dll tmp.def comblicorn.o -LC:/extsoft/lib/i386 -LC:/extsoft/lib -LC:/Users/BIOCBU˜1/BBS-3˜1.9-B/R/bin/i386 -lR
installing to C:/Users/biocbuild/bbs-3.9-bioc/meat/CoRegNet.buildbin-libdir/00LOCK-CoRegNet/00new/CoRegNet/libs/i386
** R
** data
** inst
** byte-compile and prepare package for lazy loading
** help
*** installing help indices
converting help for package 'CoRegNet'
finding HTML links ... done
CoRegNet-class html
HumanDataExamples html
HumanTF html
addEvidences html
coRegnet-package html
coregnet html
coregulators html
discretizeExpressionData html
display html
hLICORN html
masterRegulator html
refine html
regulatorInfluence html
regulators html
summary html
** building package indices
** installing vignettes
** testing if installed package can be loaded from temporary location
** testing if installed package can be loaded from final location
** testing if installed package keeps a record of temporary installation path
install for x64
* installing *source* package 'CoRegNet' ...
** libs
C:/Rtools/mingw_64/bin/gcc -I"C:/Users/BIOCBU˜1/BBS-3˜1.9-B/R/include" -DNDEBUG -I"C:/extsoft/include" -O2 -Wall -std=gnu99 -mtune=generic -c comblicorn.c -o comblicorn.o
C:/Rtools/mingw_64/bin/gcc -shared -s -static-libgcc -o CoRegNet.dll tmp.def comblicorn.o -LC:/extsoft/lib/x64 -LC:/extsoft/lib -LC:/Users/BIOCBU˜1/BBS-3˜1.9-B/R/bin/x64 -lR
installing to C:/Users/biocbuild/bbs-3.9-bioc/meat/CoRegNet.buildbin-libdir/CoRegNet/libs/x64
** testing if installed package can be loaded
* MD5 sums
packaged installation of 'CoRegNet' as CoRegNet_1.21.0.zip
* DONE (CoRegNet)