| Back to Multiple platform build/check report for BioC 3.9 |
|
This page was generated on 2019-04-09 12:20:43 -0400 (Tue, 09 Apr 2019).
| Package 275/1703 | Hostname | OS / Arch | INSTALL | BUILD | CHECK | BUILD BIN | ||||||
| ClassifyR 2.3.6 Dario Strbenac
| malbec2 | Linux (Ubuntu 18.04.2 LTS) / x86_64 | OK | OK | OK | |||||||
| tokay2 | Windows Server 2012 R2 Standard / x64 | OK | OK | WARNINGS | [ OK ] | |||||||
| celaya2 | OS X 10.11.6 El Capitan / x86_64 | OK | OK | OK | OK | |||||||
| merida2 | OS X 10.11.6 El Capitan / x86_64 | OK | OK | OK | OK |
| Package: ClassifyR |
| Version: 2.3.6 |
| Command: rm -rf ClassifyR.buildbin-libdir && mkdir ClassifyR.buildbin-libdir && C:\Users\biocbuild\bbs-3.9-bioc\R\bin\R.exe CMD INSTALL --merge-multiarch --build --library=ClassifyR.buildbin-libdir ClassifyR_2.3.6.tar.gz |
| StartedAt: 2019-04-09 07:38:37 -0400 (Tue, 09 Apr 2019) |
| EndedAt: 2019-04-09 07:39:27 -0400 (Tue, 09 Apr 2019) |
| EllapsedTime: 49.5 seconds |
| RetCode: 0 |
| Status: OK |
| PackageFile: ClassifyR_2.3.6.zip |
| PackageFileSize: 1.992 MiB |
##############################################################################
##############################################################################
###
### Running command:
###
### rm -rf ClassifyR.buildbin-libdir && mkdir ClassifyR.buildbin-libdir && C:\Users\biocbuild\bbs-3.9-bioc\R\bin\R.exe CMD INSTALL --merge-multiarch --build --library=ClassifyR.buildbin-libdir ClassifyR_2.3.6.tar.gz
###
##############################################################################
##############################################################################
install for i386
* installing *source* package 'ClassifyR' ...
** R
** data
** inst
** byte-compile and prepare package for lazy loading
** help
*** installing help indices
converting help for package 'ClassifyR'
finding HTML links ... done
ClassifyResult-class html
finding level-2 HTML links ... done
DLDAinterface html
DMDselection html
FeatureSetCollection-class html
FeatureSetCollectionOrNULL-class html
KolmogorovSmirnovSelection html
KullbackLeiblerSelection html
NSCpredictInterface html
NSCselectionInterface html
NSCtrainInterface html
PredictParams-class html
ROCplot html
ResubstituteParams-class html
SVMinterface html
SelectParams-class html
SelectResult-class html
TrainParams-class html
TransformParams-class html
asthmaDataset html
bartlettSelection html
calcPerformance html
characterOrDataFrame-class html
classifyInterface html
differentMeansSelection html
Rd warning: C:/Users/biocbuild/bbs-3.9-bioc/tmpdir/RtmpCK8Q0p/R.INSTALL151442916d41/ClassifyR/man/differentMeansSelection.Rd:40: file link 'rowttests' in package 'genefilter' does not exist and so has been treated as a topic
distribution html
Rd warning: C:/Users/biocbuild/bbs-3.9-bioc/tmpdir/RtmpCK8Q0p/R.INSTALL151442916d41/ClassifyR/man/distribution.Rd:32: file link 'stat_density' in package 'ggplot2' does not exist and so has been treated as a topic
dlda-class html
edgeRselection html
Rd warning: C:/Users/biocbuild/bbs-3.9-bioc/tmpdir/RtmpCK8Q0p/R.INSTALL151442916d41/ClassifyR/man/edgeRselection.Rd:45: file link 'edgeR' in package 'edgeR' does not exist and so has been treated as a topic
edgesToHubNetworks html
elasticNetFeatures html
elasticNetGLMinterface html
featureSetSummary html
fisherDiscriminant html
forestFeatures html
functionOrList-class html
functionOrNULL-class html
getLocationsAndScales html
integerOrNumeric-class html
interactorDifferences html
kTSPclassifier html
knnInterface html
leveneSelection html
likelihoodRatioSelection html
limmaSelection html
mixmodels html
multnet-class html
naiveBayesKernel html
networkCorrelationsSelection html
pairsDifferencesSelection html
pamrtrained-class html
performancePlot html
plotFeatureClasses html
previousSelection html
previousTrained html
randomForest-class html
randomForestInterface html
rankingPlot html
runTest html
runTests html
samplesMetricMap html
selectionPlot html
subtractFromLocation html
svm-class html
** building package indices
** installing vignettes
** testing if installed package can be loaded from temporary location
** testing if installed package can be loaded from final location
** testing if installed package keeps a record of temporary installation path
install for x64
* installing *source* package 'ClassifyR' ...
** testing if installed package can be loaded
* MD5 sums
packaged installation of 'ClassifyR' as ClassifyR_2.3.6.zip
* DONE (ClassifyR)