| Back to Multiple platform build/check report for BioC 3.9 |
|
This page was generated on 2019-04-09 12:28:59 -0400 (Tue, 09 Apr 2019).
| Package 254/1703 | Hostname | OS / Arch | INSTALL | BUILD | CHECK | BUILD BIN | ||||||
| ChIPexoQual 1.7.0 Rene Welch
| malbec2 | Linux (Ubuntu 18.04.2 LTS) / x86_64 | OK | OK | OK | |||||||
| tokay2 | Windows Server 2012 R2 Standard / x64 | OK | OK | OK | [ OK ] | |||||||
| celaya2 | OS X 10.11.6 El Capitan / x86_64 | OK | OK | OK | OK | |||||||
| merida2 | OS X 10.11.6 El Capitan / x86_64 | OK | OK | OK | OK |
| Package: ChIPexoQual |
| Version: 1.7.0 |
| Command: rm -rf ChIPexoQual.buildbin-libdir && mkdir ChIPexoQual.buildbin-libdir && C:\Users\biocbuild\bbs-3.9-bioc\R\bin\R.exe CMD INSTALL --merge-multiarch --build --library=ChIPexoQual.buildbin-libdir ChIPexoQual_1.7.0.tar.gz |
| StartedAt: 2019-04-09 07:37:04 -0400 (Tue, 09 Apr 2019) |
| EndedAt: 2019-04-09 07:38:15 -0400 (Tue, 09 Apr 2019) |
| EllapsedTime: 70.9 seconds |
| RetCode: 0 |
| Status: OK |
| PackageFile: ChIPexoQual_1.7.0.zip |
| PackageFileSize: 2.21 MiB |
##############################################################################
##############################################################################
###
### Running command:
###
### rm -rf ChIPexoQual.buildbin-libdir && mkdir ChIPexoQual.buildbin-libdir && C:\Users\biocbuild\bbs-3.9-bioc\R\bin\R.exe CMD INSTALL --merge-multiarch --build --library=ChIPexoQual.buildbin-libdir ChIPexoQual_1.7.0.tar.gz
###
##############################################################################
##############################################################################
install for i386
* installing *source* package 'ChIPexoQual' ...
** R
** data
** inst
** byte-compile and prepare package for lazy loading
** help
*** installing help indices
converting help for package 'ChIPexoQual'
finding HTML links ... done
ARCvURCplot html
ExoData html
ExoDataBlacklist html
ExoDataSubsampling html
FSRDistplot html
MAplot html
beta1-methods html
beta2-methods html
blacklists html
calculateParamDist html
exoExample html
formatRegions html
nreads-methods html
paramDist-methods html
paramDistBoxplot html
regionCompplot html
** building package indices
** installing vignettes
** testing if installed package can be loaded from temporary location
** testing if installed package can be loaded from final location
** testing if installed package keeps a record of temporary installation path
install for x64
* installing *source* package 'ChIPexoQual' ...
** testing if installed package can be loaded
* MD5 sums
packaged installation of 'ChIPexoQual' as ChIPexoQual_1.7.0.zip
* DONE (ChIPexoQual)