| Back to Multiple platform build/check report for BioC 3.9 |
|
This page was generated on 2019-04-09 12:32:26 -0400 (Tue, 09 Apr 2019).
| Package 251/1703 | Hostname | OS / Arch | INSTALL | BUILD | CHECK | BUILD BIN | ||||||
| ChIPanalyser 1.4.1 Patrick C.N. Martin
| malbec2 | Linux (Ubuntu 18.04.2 LTS) / x86_64 | OK | OK | OK | |||||||
| tokay2 | Windows Server 2012 R2 Standard / x64 | OK | OK | WARNINGS | [ OK ] | |||||||
| celaya2 | OS X 10.11.6 El Capitan / x86_64 | OK | OK | OK | OK | |||||||
| merida2 | OS X 10.11.6 El Capitan / x86_64 | OK | OK | OK | OK |
| Package: ChIPanalyser |
| Version: 1.4.1 |
| Command: rm -rf ChIPanalyser.buildbin-libdir && mkdir ChIPanalyser.buildbin-libdir && C:\Users\biocbuild\bbs-3.9-bioc\R\bin\R.exe CMD INSTALL --merge-multiarch --build --library=ChIPanalyser.buildbin-libdir ChIPanalyser_1.4.1.tar.gz |
| StartedAt: 2019-04-09 07:36:53 -0400 (Tue, 09 Apr 2019) |
| EndedAt: 2019-04-09 07:37:52 -0400 (Tue, 09 Apr 2019) |
| EllapsedTime: 59.5 seconds |
| RetCode: 0 |
| Status: OK |
| PackageFile: ChIPanalyser_1.4.1.zip |
| PackageFileSize: 1.203 MiB |
##############################################################################
##############################################################################
###
### Running command:
###
### rm -rf ChIPanalyser.buildbin-libdir && mkdir ChIPanalyser.buildbin-libdir && C:\Users\biocbuild\bbs-3.9-bioc\R\bin\R.exe CMD INSTALL --merge-multiarch --build --library=ChIPanalyser.buildbin-libdir ChIPanalyser_1.4.1.tar.gz
###
##############################################################################
##############################################################################
install for i386
* installing *source* package 'ChIPanalyser' ...
** R
** data
*** moving datasets to lazyload DB
** inst
** byte-compile and prepare package for lazy loading
** help
*** installing help indices
converting help for package 'ChIPanalyser'
finding HTML links ... done
AllSitesAboveThreshold html
finding level-2 HTML links ... done
BPFrequency html
Rd warning: C:/Users/biocbuild/bbs-3.9-bioc/tmpdir/RtmpA7er7Y/R.INSTALL2b9c7a2f597d/ChIPanalyser/man/BPFrequency.Rd:32: file link 'DNAStringSet' in package 'Biostrings' does not exist and so has been treated as a topic
Rd warning: C:/Users/biocbuild/bbs-3.9-bioc/tmpdir/RtmpA7er7Y/R.INSTALL2b9c7a2f597d/ChIPanalyser/man/BPFrequency.Rd:34: file link 'DNAStringSet' in package 'Biostrings' does not exist and so has been treated as a topic
BPFrequency_- html
Rd warning: C:/Users/biocbuild/bbs-3.9-bioc/tmpdir/RtmpA7er7Y/R.INSTALL2b9c7a2f597d/ChIPanalyser/man/BPFrequency_-.Rd:41: file link 'DNAStringSet' in package 'Biostrings' does not exist and so has been treated as a topic
Rd warning: C:/Users/biocbuild/bbs-3.9-bioc/tmpdir/RtmpA7er7Y/R.INSTALL2b9c7a2f597d/ChIPanalyser/man/BPFrequency_-.Rd:59: file link 'DNAStringSet' in package 'Biostrings' does not exist and so has been treated as a topic
Rd warning: C:/Users/biocbuild/bbs-3.9-bioc/tmpdir/RtmpA7er7Y/R.INSTALL2b9c7a2f597d/ChIPanalyser/man/BPFrequency_-.Rd:60: file link 'DNAStringSet' in package 'Biostrings' does not exist and so has been treated as a topic
ChIPanalyser-package html
DNASequenceLength html
DNASequenceLength_- html
GRList-class html
NoAccess html
Rd warning: C:/Users/biocbuild/bbs-3.9-bioc/tmpdir/RtmpA7er7Y/R.INSTALL2b9c7a2f597d/ChIPanalyser/man/NoAccess.Rd:28: file link 'GRanges' in package 'GenomicRanges' does not exist and so has been treated as a topic
PFMFormat html
PFMFormat_ html
PWMThreshold html
PWMThreshold_- html
PWMpseudocount html
PWMpseudocount_- html
PositionFrequencyMatrix html
PositionFrequencyMatrix_- html
PositionWeightMatrix html
PositionWeightMatrix_- html
ScalingFactorPWM html
ScalingFactorPWM_- html
averageExpPWMScore html
backgroundSignal html
backgroundSignal_- html
boundMolecules html
boundMolecules_- html
chipMean html
chipMean_- html
chipSd html
chipSd_- html
chipSmooth html
chipSmooth_- html
computeChipProfile html
Rd warning: C:/Users/biocbuild/bbs-3.9-bioc/tmpdir/RtmpA7er7Y/R.INSTALL2b9c7a2f597d/ChIPanalyser/man/computeChipProfile.Rd:19: file link 'GRanges' in package 'GenomicRanges' does not exist and so has been treated as a topic
Rd warning: C:/Users/biocbuild/bbs-3.9-bioc/tmpdir/RtmpA7er7Y/R.INSTALL2b9c7a2f597d/ChIPanalyser/man/computeChipProfile.Rd:22: file link 'GRanges' in package 'GenomicRanges' does not exist and so has been treated as a topic
Rd warning: C:/Users/biocbuild/bbs-3.9-bioc/tmpdir/RtmpA7er7Y/R.INSTALL2b9c7a2f597d/ChIPanalyser/man/computeChipProfile.Rd:92: file link 'GRanges' in package 'GenomicRanges' does not exist and so has been treated as a topic
computeGenomeWidePWMScore html
Rd warning: C:/Users/biocbuild/bbs-3.9-bioc/tmpdir/RtmpA7er7Y/R.INSTALL2b9c7a2f597d/ChIPanalyser/man/computeGenomeWidePWMScore.Rd:20: file link 'DNAStringSet' in package 'Biostrings' does not exist and so has been treated as a topic
Rd warning: C:/Users/biocbuild/bbs-3.9-bioc/tmpdir/RtmpA7er7Y/R.INSTALL2b9c7a2f597d/ChIPanalyser/man/computeGenomeWidePWMScore.Rd:23: file link 'DNAStringSet' in package 'Biostrings' does not exist and so has been treated as a topic
Rd warning: C:/Users/biocbuild/bbs-3.9-bioc/tmpdir/RtmpA7er7Y/R.INSTALL2b9c7a2f597d/ChIPanalyser/man/computeGenomeWidePWMScore.Rd:34: file link 'GRanges' in package 'GenomicRanges' does not exist and so has been treated as a topic
computeOccupancy html
Rd warning: C:/Users/biocbuild/bbs-3.9-bioc/tmpdir/RtmpA7er7Y/R.INSTALL2b9c7a2f597d/ChIPanalyser/man/computeOccupancy.Rd:72: file link 'GRangesList' in package 'GenomicRanges' does not exist and so has been treated as a topic
Rd warning: C:/Users/biocbuild/bbs-3.9-bioc/tmpdir/RtmpA7er7Y/R.INSTALL2b9c7a2f597d/ChIPanalyser/man/computeOccupancy.Rd:74: file link 'GRanges' in package 'GenomicRanges' does not exist and so has been treated as a topic
computeOptimal html
Rd warning: C:/Users/biocbuild/bbs-3.9-bioc/tmpdir/RtmpA7er7Y/R.INSTALL2b9c7a2f597d/ChIPanalyser/man/computeOptimal.Rd:24: file link 'DNAStringSet' in package 'Biostrings' does not exist and so has been treated as a topic
Rd warning: C:/Users/biocbuild/bbs-3.9-bioc/tmpdir/RtmpA7er7Y/R.INSTALL2b9c7a2f597d/ChIPanalyser/man/computeOptimal.Rd:40: file link 'GRanges' in package 'GenomicRanges' does not exist and so has been treated as a topic
Rd warning: C:/Users/biocbuild/bbs-3.9-bioc/tmpdir/RtmpA7er7Y/R.INSTALL2b9c7a2f597d/ChIPanalyser/man/computeOptimal.Rd:45: file link 'GRanges' in package 'GenomicRanges' does not exist and so has been treated as a topic
Rd warning: C:/Users/biocbuild/bbs-3.9-bioc/tmpdir/RtmpA7er7Y/R.INSTALL2b9c7a2f597d/ChIPanalyser/man/computeOptimal.Rd:87: file link 'GRanges' in package 'GenomicRanges' does not exist and so has been treated as a topic
computePWMScore html
Rd warning: C:/Users/biocbuild/bbs-3.9-bioc/tmpdir/RtmpA7er7Y/R.INSTALL2b9c7a2f597d/ChIPanalyser/man/computePWMScore.Rd:20: file link 'DNAStringSet' in package 'Biostrings' does not exist and so has been treated as a topic
Rd warning: C:/Users/biocbuild/bbs-3.9-bioc/tmpdir/RtmpA7er7Y/R.INSTALL2b9c7a2f597d/ChIPanalyser/man/computePWMScore.Rd:28: file link 'GRanges' in package 'GenomicRanges' does not exist and so has been treated as a topic
Rd warning: C:/Users/biocbuild/bbs-3.9-bioc/tmpdir/RtmpA7er7Y/R.INSTALL2b9c7a2f597d/ChIPanalyser/man/computePWMScore.Rd:32: file link 'GRanges' in package 'GenomicRanges' does not exist and so has been treated as a topic
Rd warning: C:/Users/biocbuild/bbs-3.9-bioc/tmpdir/RtmpA7er7Y/R.INSTALL2b9c7a2f597d/ChIPanalyser/man/computePWMScore.Rd:58: file link 'GRangesList' in package 'GenomicRanges' does not exist and so has been treated as a topic
Rd warning: C:/Users/biocbuild/bbs-3.9-bioc/tmpdir/RtmpA7er7Y/R.INSTALL2b9c7a2f597d/ChIPanalyser/man/computePWMScore.Rd:59: file link 'GRanges' in package 'GenomicRanges' does not exist and so has been treated as a topic
data html
Rd warning: C:/Users/biocbuild/bbs-3.9-bioc/tmpdir/RtmpA7er7Y/R.INSTALL2b9c7a2f597d/ChIPanalyser/man/data.Rd:24: file link 'GRanges' in package 'GenomicRanges' does not exist and so has been treated as a topic
Rd warning: C:/Users/biocbuild/bbs-3.9-bioc/tmpdir/RtmpA7er7Y/R.INSTALL2b9c7a2f597d/ChIPanalyser/man/data.Rd:26: file link 'GRanges' in package 'GenomicRanges' does not exist and so has been treated as a topic
Rd warning: C:/Users/biocbuild/bbs-3.9-bioc/tmpdir/RtmpA7er7Y/R.INSTALL2b9c7a2f597d/ChIPanalyser/man/data.Rd:33: file link 'GRanges' in package 'GenomicRanges' does not exist and so has been treated as a topic
genomicProfileParameters-class html
Rd warning: C:/Users/biocbuild/bbs-3.9-bioc/tmpdir/RtmpA7er7Y/R.INSTALL2b9c7a2f597d/ChIPanalyser/man/genomicProfileParameters-class.Rd:90: file link 'DNAStringSet' in package 'Biostrings' does not exist and so has been treated as a topic
genomicProfileParameters html
Rd warning: C:/Users/biocbuild/bbs-3.9-bioc/tmpdir/RtmpA7er7Y/R.INSTALL2b9c7a2f597d/ChIPanalyser/man/genomicProfileParameters.Rd:63: file link 'DNAStringSet' in package 'Biostrings' does not exist and so has been treated as a topic
maxPWMScore html
maxSignal html
maxSignal_- html
minPWMScore html
naturalLog html
naturalLog_- html
noOfSites html
noOfSites_- html
occupancyProfileParameters-class html
occupancyProfileParameters html
ploidy html
ploidy_- html
plotOccupancyProfile html
Rd warning: C:/Users/biocbuild/bbs-3.9-bioc/tmpdir/RtmpA7er7Y/R.INSTALL2b9c7a2f597d/ChIPanalyser/man/plotOccupancyProfile.Rd:21: file link 'GRanges' in package 'GenomicRanges' does not exist and so has been treated as a topic
Rd warning: C:/Users/biocbuild/bbs-3.9-bioc/tmpdir/RtmpA7er7Y/R.INSTALL2b9c7a2f597d/ChIPanalyser/man/plotOccupancyProfile.Rd:27: file link 'GRanges' in package 'GenomicRanges' does not exist and so has been treated as a topic
Rd warning: C:/Users/biocbuild/bbs-3.9-bioc/tmpdir/RtmpA7er7Y/R.INSTALL2b9c7a2f597d/ChIPanalyser/man/plotOccupancyProfile.Rd:35: file link 'GRanges' in package 'GenomicRanges' does not exist and so has been treated as a topic
Rd warning: C:/Users/biocbuild/bbs-3.9-bioc/tmpdir/RtmpA7er7Y/R.INSTALL2b9c7a2f597d/ChIPanalyser/man/plotOccupancyProfile.Rd:40: file link 'GRanges' in package 'GenomicRanges' does not exist and so has been treated as a topic
Rd warning: C:/Users/biocbuild/bbs-3.9-bioc/tmpdir/RtmpA7er7Y/R.INSTALL2b9c7a2f597d/ChIPanalyser/man/plotOccupancyProfile.Rd:58: file link 'GRanges' in package 'GenomicRanges' does not exist and so has been treated as a topic
plotOptimalHeatMaps html
processingChIPseq html
Rd warning: C:/Users/biocbuild/bbs-3.9-bioc/tmpdir/RtmpA7er7Y/R.INSTALL2b9c7a2f597d/ChIPanalyser/man/processingChIPseq.Rd:26: file link 'GRanges' in package 'GenomicRanges' does not exist and so has been treated as a topic
Rd warning: C:/Users/biocbuild/bbs-3.9-bioc/tmpdir/RtmpA7er7Y/R.INSTALL2b9c7a2f597d/ChIPanalyser/man/processingChIPseq.Rd:30: file link 'GRanges' in package 'GenomicRanges' does not exist and so has been treated as a topic
Rd warning: C:/Users/biocbuild/bbs-3.9-bioc/tmpdir/RtmpA7er7Y/R.INSTALL2b9c7a2f597d/ChIPanalyser/man/processingChIPseq.Rd:52: file link 'GRanges' in package 'GenomicRanges' does not exist and so has been treated as a topic
profileAccuracyEstimate html
Rd warning: C:/Users/biocbuild/bbs-3.9-bioc/tmpdir/RtmpA7er7Y/R.INSTALL2b9c7a2f597d/ChIPanalyser/man/profileAccuracyEstimate.Rd:27: file link 'GRangesList' in package 'GenomicRanges' does not exist and so has been treated as a topic
Rd warning: C:/Users/biocbuild/bbs-3.9-bioc/tmpdir/RtmpA7er7Y/R.INSTALL2b9c7a2f597d/ChIPanalyser/man/profileAccuracyEstimate.Rd:28: file link 'GRanges' in package 'GenomicRanges' does not exist and so has been treated as a topic
removeBackground html
removeBackground_- html
searchSites html
stepSize html
stepSize_- html
strandRule html
strandRule_- html
whichstrand html
whichstrand_- html
** building package indices
** installing vignettes
** testing if installed package can be loaded from temporary location
** testing if installed package can be loaded from final location
** testing if installed package keeps a record of temporary installation path
install for x64
* installing *source* package 'ChIPanalyser' ...
** testing if installed package can be loaded
* MD5 sums
packaged installation of 'ChIPanalyser' as ChIPanalyser_1.4.1.zip
* DONE (ChIPanalyser)