| Back to Multiple platform build/check report for BioC 3.9 |
|
This page was generated on 2019-04-09 12:36:12 -0400 (Tue, 09 Apr 2019).
| Package 260/1703 | Hostname | OS / Arch | INSTALL | BUILD | CHECK | BUILD BIN | ||||||
| ChIPSeqSpike 1.3.1 Nicolas Descostes
| malbec2 | Linux (Ubuntu 18.04.2 LTS) / x86_64 | OK | OK | OK | |||||||
| tokay2 | Windows Server 2012 R2 Standard / x64 | OK | OK | OK | [ OK ] | |||||||
| celaya2 | OS X 10.11.6 El Capitan / x86_64 | OK | OK | OK | OK | |||||||
| merida2 | OS X 10.11.6 El Capitan / x86_64 | OK | OK | OK | OK |
| Package: ChIPSeqSpike |
| Version: 1.3.1 |
| Command: rm -rf ChIPSeqSpike.buildbin-libdir && mkdir ChIPSeqSpike.buildbin-libdir && C:\Users\biocbuild\bbs-3.9-bioc\R\bin\R.exe CMD INSTALL --merge-multiarch --build --library=ChIPSeqSpike.buildbin-libdir ChIPSeqSpike_1.3.1.tar.gz |
| StartedAt: 2019-04-09 07:37:28 -0400 (Tue, 09 Apr 2019) |
| EndedAt: 2019-04-09 07:38:34 -0400 (Tue, 09 Apr 2019) |
| EllapsedTime: 65.9 seconds |
| RetCode: 0 |
| Status: OK |
| PackageFile: ChIPSeqSpike_1.3.1.zip |
| PackageFileSize: 3.923 MiB |
##############################################################################
##############################################################################
###
### Running command:
###
### rm -rf ChIPSeqSpike.buildbin-libdir && mkdir ChIPSeqSpike.buildbin-libdir && C:\Users\biocbuild\bbs-3.9-bioc\R\bin\R.exe CMD INSTALL --merge-multiarch --build --library=ChIPSeqSpike.buildbin-libdir ChIPSeqSpike_1.3.1.tar.gz
###
##############################################################################
##############################################################################
install for i386
* installing *source* package 'ChIPSeqSpike' ...
** R
** data
** inst
** byte-compile and prepare package for lazy loading
** help
*** installing help indices
converting help for package 'ChIPSeqSpike'
finding HTML links ... done
ChIPSeqSpikeCore html
ChIPSeqSpikeDataset-class html
ChIPSeqSpikeDatasetBoost-class html
ChIPSeqSpikeDatasetList-class html
ChIPSeqSpikeDatasetListBoost-class html
Experiment-class html
ExperimentLoaded-class html
averageBindingValues html
bigWigFile html
boxplotSpike html
count html
datasetList html
estimateScalingFactors html
exoCount html
exogenousScalingFactor html
experimentList html
exportBigWigs html
extractBinding html
getAverageBindingValues html
getBam html
getBigWigFile html
getCount html
getDatasetList html
getExoCount html
getExogenousBam html
getExogenousScalingFactor html
getExpName html
getExperimentList html
getExperimentListBigWigs html
getLoadedData html
getMatBindingValues html
getRatio html
getScalingFactor html
inputSubtraction html
matBindingValues html
plotCor html
plotHeatmaps html
plotProfile html
plotTransform html
ratio html
result_data html
scaling html
scalingFactor html
spikeDataset html
spikePipe html
spikeSummary html
** building package indices
** installing vignettes
** testing if installed package can be loaded from temporary location
** testing if installed package can be loaded from final location
** testing if installed package keeps a record of temporary installation path
install for x64
* installing *source* package 'ChIPSeqSpike' ...
** testing if installed package can be loaded
* MD5 sums
packaged installation of 'ChIPSeqSpike' as ChIPSeqSpike_1.3.1.zip
* DONE (ChIPSeqSpike)