| Back to Multiple platform build/check report for BioC 3.9 |
|
This page was generated on 2019-04-09 11:54:24 -0400 (Tue, 09 Apr 2019).
| Package 212/1703 | Hostname | OS / Arch | INSTALL | BUILD | CHECK | BUILD BIN | ||||||
| Category 2.49.1 Bioconductor Package Maintainer
| malbec2 | Linux (Ubuntu 18.04.2 LTS) / x86_64 | OK | OK | OK | |||||||
| tokay2 | Windows Server 2012 R2 Standard / x64 | OK | OK | OK | [ OK ] | |||||||
| celaya2 | OS X 10.11.6 El Capitan / x86_64 | OK | OK | OK | OK | |||||||
| merida2 | OS X 10.11.6 El Capitan / x86_64 | OK | OK | OK | OK |
| Package: Category |
| Version: 2.49.1 |
| Command: rm -rf Category.buildbin-libdir && mkdir Category.buildbin-libdir && C:\Users\biocbuild\bbs-3.9-bioc\R\bin\R.exe CMD INSTALL --merge-multiarch --build --library=Category.buildbin-libdir Category_2.49.1.tar.gz |
| StartedAt: 2019-04-09 07:34:31 -0400 (Tue, 09 Apr 2019) |
| EndedAt: 2019-04-09 07:35:10 -0400 (Tue, 09 Apr 2019) |
| EllapsedTime: 38.8 seconds |
| RetCode: 0 |
| Status: OK |
| PackageFile: Category_2.49.1.zip |
| PackageFileSize: 1.232 MiB |
##############################################################################
##############################################################################
###
### Running command:
###
### rm -rf Category.buildbin-libdir && mkdir Category.buildbin-libdir && C:\Users\biocbuild\bbs-3.9-bioc\R\bin\R.exe CMD INSTALL --merge-multiarch --build --library=Category.buildbin-libdir Category_2.49.1.tar.gz
###
##############################################################################
##############################################################################
install for i386
* installing *source* package 'Category' ...
** R
** inst
** byte-compile and prepare package for lazy loading
** help
*** installing help indices
converting help for package 'Category'
finding HTML links ... done
Category-defunct html
ChrBandTree-class html
ChrMapHyperGParams-class html
ChrMapHyperGResult-class html
ChrMapLinearMParams-class html
ChrMapLinearMResult-class html
DatPkg-class html
GOHyperGParams-class html
GSEAGOHyperGParams html
HyperGParams-class html
HyperGResult-accessors html
HyperGResult-class html
HyperGResultBase-class html
KEGGHyperGParams-class html
LinearMParams-class html
LinearMResult-class html
LinearMResultBase-class html
MAPAmat html
NewChrBandTree html
OBOHyperGParams-class html
applyByCategory html
cateGOryMatrix html
categoryToEntrezBuilder html
cb_contingency html
cb_parse_band_Hs html
cb_parse_band_Mm html
cb_test html
effectSize html
exampleLevels html
findAMstats html
getPathNames html
gseattperm html
hyperGTest html
hyperg html
linearMTest html
local_test_factory html
makeChrBandGraph html
makeEBcontr html
makeValidParams html
probes2MAP html
probes2Path html
tree_visitor html
ttperm html
universeBuilder html
** building package indices
** installing vignettes
** testing if installed package can be loaded from temporary location
** testing if installed package can be loaded from final location
** testing if installed package keeps a record of temporary installation path
install for x64
* installing *source* package 'Category' ...
** testing if installed package can be loaded
* MD5 sums
packaged installation of 'Category' as Category_2.49.1.zip
* DONE (Category)