| Back to Multiple platform build/check report for BioC 3.9 |
|
This page was generated on 2019-04-09 12:14:51 -0400 (Tue, 09 Apr 2019).
| Package 357/1703 | Hostname | OS / Arch | INSTALL | BUILD | CHECK | BUILD BIN | ||||||
| CRISPRseek 1.23.4 Lihua Julie Zhu
| malbec2 | Linux (Ubuntu 18.04.2 LTS) / x86_64 | OK | OK | OK | |||||||
| tokay2 | Windows Server 2012 R2 Standard / x64 | OK | OK | OK | [ OK ] | |||||||
| celaya2 | OS X 10.11.6 El Capitan / x86_64 | OK | OK | OK | OK | |||||||
| merida2 | OS X 10.11.6 El Capitan / x86_64 | OK | OK | OK | OK |
| Package: CRISPRseek |
| Version: 1.23.4 |
| Command: rm -rf CRISPRseek.buildbin-libdir && mkdir CRISPRseek.buildbin-libdir && C:\Users\biocbuild\bbs-3.9-bioc\R\bin\R.exe CMD INSTALL --merge-multiarch --build --library=CRISPRseek.buildbin-libdir CRISPRseek_1.23.4.tar.gz |
| StartedAt: 2019-04-09 07:43:29 -0400 (Tue, 09 Apr 2019) |
| EndedAt: 2019-04-09 07:44:20 -0400 (Tue, 09 Apr 2019) |
| EllapsedTime: 51.4 seconds |
| RetCode: 0 |
| Status: OK |
| PackageFile: CRISPRseek_1.23.4.zip |
| PackageFileSize: 785.4 KiB |
##############################################################################
##############################################################################
###
### Running command:
###
### rm -rf CRISPRseek.buildbin-libdir && mkdir CRISPRseek.buildbin-libdir && C:\Users\biocbuild\bbs-3.9-bioc\R\bin\R.exe CMD INSTALL --merge-multiarch --build --library=CRISPRseek.buildbin-libdir CRISPRseek_1.23.4.tar.gz
###
##############################################################################
##############################################################################
install for i386
* installing *source* package 'CRISPRseek' ...
** R
** inst
** byte-compile and prepare package for lazy loading
** help
*** installing help indices
converting help for package 'CRISPRseek'
finding HTML links ... done
CRISPRseek-package html
annotateOffTargets html
buildFeatureVectorForScoring html
calculategRNAEfficiency html
compare2Sequences html
filterOffTarget html
filtergRNA html
findgRNAs html
getOfftargetScore html
isPatternUnique html
offTargetAnalysis html
searchHits html
searchHits2 html
translatePattern html
uniqueREs html
writeHits html
writeHits2 html
** building package indices
** installing vignettes
** testing if installed package can be loaded from temporary location
** testing if installed package can be loaded from final location
** testing if installed package keeps a record of temporary installation path
install for x64
* installing *source* package 'CRISPRseek' ...
** testing if installed package can be loaded
* MD5 sums
packaged installation of 'CRISPRseek' as CRISPRseek_1.23.4.zip
* DONE (CRISPRseek)