| Back to Multiple platform build/check report for BioC 3.9 |
|
This page was generated on 2019-04-09 11:55:42 -0400 (Tue, 09 Apr 2019).
| Package 345/1703 | Hostname | OS / Arch | INSTALL | BUILD | CHECK | BUILD BIN | ||||||
| CORREP 1.49.0 Dongxiao Zhu
| malbec2 | Linux (Ubuntu 18.04.2 LTS) / x86_64 | OK | OK | OK | |||||||
| tokay2 | Windows Server 2012 R2 Standard / x64 | OK | OK | OK | [ OK ] | |||||||
| celaya2 | OS X 10.11.6 El Capitan / x86_64 | OK | OK | OK | OK | |||||||
| merida2 | OS X 10.11.6 El Capitan / x86_64 | OK | OK | OK | OK |
| Package: CORREP |
| Version: 1.49.0 |
| Command: rm -rf CORREP.buildbin-libdir && mkdir CORREP.buildbin-libdir && C:\Users\biocbuild\bbs-3.9-bioc\R\bin\R.exe CMD INSTALL --merge-multiarch --build --library=CORREP.buildbin-libdir CORREP_1.49.0.tar.gz |
| StartedAt: 2019-04-09 07:42:53 -0400 (Tue, 09 Apr 2019) |
| EndedAt: 2019-04-09 07:43:25 -0400 (Tue, 09 Apr 2019) |
| EllapsedTime: 32.9 seconds |
| RetCode: 0 |
| Status: OK |
| PackageFile: CORREP_1.49.0.zip |
| PackageFileSize: 321.4 KiB |
##############################################################################
##############################################################################
###
### Running command:
###
### rm -rf CORREP.buildbin-libdir && mkdir CORREP.buildbin-libdir && C:\Users\biocbuild\bbs-3.9-bioc\R\bin\R.exe CMD INSTALL --merge-multiarch --build --library=CORREP.buildbin-libdir CORREP_1.49.0.tar.gz
###
##############################################################################
##############################################################################
install for i386
* installing *source* package 'CORREP' ...
** R
** data
** inst
** byte-compile and prepare package for lazy loading
** help
*** installing help indices
converting help for package 'CORREP'
finding HTML links ... done
CORREP-package html
cor.LRtest html
cor.LRtest.std html
cor.balance html
cor.bootci html
cor.unbalance html
gal_all html
permutest html
true.member html
** building package indices
** installing vignettes
** testing if installed package can be loaded from temporary location
** testing if installed package can be loaded from final location
** testing if installed package keeps a record of temporary installation path
install for x64
* installing *source* package 'CORREP' ...
** testing if installed package can be loaded
* MD5 sums
packaged installation of 'CORREP' as CORREP_1.49.0.zip
* DONE (CORREP)