| Back to Multiple platform build/check report for BioC 3.9 |
|
This page was generated on 2019-04-09 13:09:43 -0400 (Tue, 09 Apr 2019).
| Package 322/1703 | Hostname | OS / Arch | INSTALL | BUILD | CHECK | BUILD BIN | ||||||
| COMPASS 1.21.7 Greg Finak
| malbec2 | Linux (Ubuntu 18.04.2 LTS) / x86_64 | OK | OK | OK | |||||||
| tokay2 | Windows Server 2012 R2 Standard / x64 | OK | OK | OK | OK | |||||||
| celaya2 | OS X 10.11.6 El Capitan / x86_64 | OK | OK | [ OK ] | OK | |||||||
| merida2 | OS X 10.11.6 El Capitan / x86_64 | OK | OK | OK | OK |
| Package: COMPASS |
| Version: 1.21.7 |
| Command: /Library/Frameworks/R.framework/Versions/Current/Resources/bin/R CMD check --install=check:COMPASS.install-out.txt --library=/Library/Frameworks/R.framework/Versions/Current/Resources/library --no-vignettes --timings COMPASS_1.21.7.tar.gz |
| StartedAt: 2019-04-09 00:54:51 -0400 (Tue, 09 Apr 2019) |
| EndedAt: 2019-04-09 00:57:48 -0400 (Tue, 09 Apr 2019) |
| EllapsedTime: 177.8 seconds |
| RetCode: 0 |
| Status: OK |
| CheckDir: COMPASS.Rcheck |
| Warnings: 0 |
##############################################################################
##############################################################################
###
### Running command:
###
### /Library/Frameworks/R.framework/Versions/Current/Resources/bin/R CMD check --install=check:COMPASS.install-out.txt --library=/Library/Frameworks/R.framework/Versions/Current/Resources/library --no-vignettes --timings COMPASS_1.21.7.tar.gz
###
##############################################################################
##############################################################################
* using log directory ‘/Users/biocbuild/bbs-3.9-bioc/meat/COMPASS.Rcheck’
* using R Under development (unstable) (2019-03-18 r76245)
* using platform: x86_64-apple-darwin15.6.0 (64-bit)
* using session charset: UTF-8
* using option ‘--no-vignettes’
* checking for file ‘COMPASS/DESCRIPTION’ ... OK
* checking extension type ... Package
* this is package ‘COMPASS’ version ‘1.21.7’
* package encoding: UTF-8
* checking package namespace information ... OK
* checking package dependencies ... OK
* checking if this is a source package ... OK
* checking if there is a namespace ... OK
* checking for hidden files and directories ... NOTE
Found the following hidden files and directories:
.github
These were most likely included in error. See section ‘Package
structure’ in the ‘Writing R Extensions’ manual.
* checking for portable file names ... OK
* checking for sufficient/correct file permissions ... OK
* checking whether package ‘COMPASS’ can be installed ... OK
* checking installed package size ... OK
* checking package directory ... OK
* checking ‘build’ directory ... OK
* checking DESCRIPTION meta-information ... OK
* checking top-level files ... OK
* checking for left-over files ... OK
* checking index information ... OK
* checking package subdirectories ... OK
* checking R files for non-ASCII characters ... OK
* checking R files for syntax errors ... OK
* checking whether the package can be loaded ... OK
* checking whether the package can be loaded with stated dependencies ... OK
* checking whether the package can be unloaded cleanly ... OK
* checking whether the namespace can be loaded with stated dependencies ... OK
* checking whether the namespace can be unloaded cleanly ... OK
* checking dependencies in R code ... NOTE
Namespaces in Imports field not imported from:
‘BiocStyle’ ‘rmarkdown’
All declared Imports should be used.
':::' call which should be '::': ‘flowWorkspace:::.getNodeInd’
See the note in ?`:::` about the use of this operator.
* checking S3 generic/method consistency ... OK
* checking replacement functions ... OK
* checking foreign function calls ... OK
* checking R code for possible problems ... NOTE
.CellCounts: no visible binding for global variable
‘_COMPASS_CellCounts’
COMPASSfitToCountsTable: no visible binding for global variable
‘population’
COMPASSfitToCountsTable: no visible binding for global variable ‘Count’
COMPASSfitToCountsTable: no visible binding for global variable ‘id’
CellCounts_character: no visible binding for global variable
‘_COMPASS_CellCounts_character’
Undefined global functions or variables:
Count _COMPASS_CellCounts _COMPASS_CellCounts_character id population
* checking Rd files ... OK
* checking Rd metadata ... OK
* checking Rd cross-references ... OK
* checking for missing documentation entries ... OK
* checking for code/documentation mismatches ... OK
* checking Rd \usage sections ... OK
* checking Rd contents ... OK
* checking for unstated dependencies in examples ... OK
* checking contents of ‘data’ directory ... OK
* checking data for non-ASCII characters ... OK
* checking data for ASCII and uncompressed saves ... OK
* checking line endings in shell scripts ... OK
* checking line endings in C/C++/Fortran sources/headers ... OK
* checking line endings in Makefiles ... OK
* checking compilation flags in Makevars ... OK
* checking for GNU extensions in Makefiles ... OK
* checking for portable use of $(BLAS_LIBS) and $(LAPACK_LIBS) ... OK
* checking compiled code ... NOTE
Note: information on .o files is not available
* checking sizes of PDF files under ‘inst/doc’ ... OK
* checking files in ‘vignettes’ ... OK
* checking examples ... OK
Examples with CPU or elapsed time > 5s
user system elapsed
GetThresholdedIntensities 5.412 0.894 5.587
* checking for unstated dependencies in ‘tests’ ... OK
* checking tests ...
Running ‘test-all.R’
OK
* checking for unstated dependencies in vignettes ... OK
* checking package vignettes in ‘inst/doc’ ... OK
* checking running R code from vignettes ... SKIPPED
* checking re-building of vignette outputs ... SKIPPED
* checking PDF version of manual ... OK
* DONE
Status: 4 NOTEs
See
‘/Users/biocbuild/bbs-3.9-bioc/meat/COMPASS.Rcheck/00check.log’
for details.
COMPASS.Rcheck/00install.out
############################################################################## ############################################################################## ### ### Running command: ### ### /Library/Frameworks/R.framework/Versions/Current/Resources/bin/R CMD INSTALL COMPASS ### ############################################################################## ############################################################################## * installing to library ‘/Library/Frameworks/R.framework/Versions/3.6/Resources/library’ * installing *source* package ‘COMPASS’ ... ** using staged installation ** libs clang -I"/Library/Frameworks/R.framework/Resources/include" -DNDEBUG -I"/Library/Frameworks/R.framework/Versions/3.6/Resources/library/Rcpp/include" -I/usr/local/include -fPIC -Wall -g -O2 -c COMPASS_init.c -o COMPASS_init.o clang++ -std=gnu++11 -I"/Library/Frameworks/R.framework/Resources/include" -DNDEBUG -I"/Library/Frameworks/R.framework/Versions/3.6/Resources/library/Rcpp/include" -I/usr/local/include -fPIC -Wall -g -O2 -c CellCounts.cpp -o CellCounts.o clang++ -std=gnu++11 -I"/Library/Frameworks/R.framework/Resources/include" -DNDEBUG -I"/Library/Frameworks/R.framework/Versions/3.6/Resources/library/Rcpp/include" -I/usr/local/include -fPIC -Wall -g -O2 -c CellCounts_character.cpp -o CellCounts_character.o clang++ -std=gnu++11 -I"/Library/Frameworks/R.framework/Resources/include" -DNDEBUG -I"/Library/Frameworks/R.framework/Versions/3.6/Resources/library/Rcpp/include" -I/usr/local/include -fPIC -Wall -g -O2 -c RcppExports.cpp -o RcppExports.o clang -I"/Library/Frameworks/R.framework/Resources/include" -DNDEBUG -I"/Library/Frameworks/R.framework/Versions/3.6/Resources/library/Rcpp/include" -I/usr/local/include -fPIC -Wall -g -O2 -c digamma.c -o digamma.o clang -I"/Library/Frameworks/R.framework/Resources/include" -DNDEBUG -I"/Library/Frameworks/R.framework/Versions/3.6/Resources/library/Rcpp/include" -I/usr/local/include -fPIC -Wall -g -O2 -c mat2vec.c -o mat2vec.o clang -I"/Library/Frameworks/R.framework/Resources/include" -DNDEBUG -I"/Library/Frameworks/R.framework/Versions/3.6/Resources/library/Rcpp/include" -I/usr/local/include -fPIC -Wall -g -O2 -c melt_dataframe.c -o melt_dataframe.o clang -I"/Library/Frameworks/R.framework/Resources/include" -DNDEBUG -I"/Library/Frameworks/R.framework/Versions/3.6/Resources/library/Rcpp/include" -I/usr/local/include -fPIC -Wall -g -O2 -c melt_matrix.c -o melt_matrix.o clang++ -std=gnu++11 -I"/Library/Frameworks/R.framework/Resources/include" -DNDEBUG -I"/Library/Frameworks/R.framework/Versions/3.6/Resources/library/Rcpp/include" -I/usr/local/include -fPIC -Wall -g -O2 -c samplePuPs.cpp -o samplePuPs.o clang -I"/Library/Frameworks/R.framework/Resources/include" -DNDEBUG -I"/Library/Frameworks/R.framework/Versions/3.6/Resources/library/Rcpp/include" -I/usr/local/include -fPIC -Wall -g -O2 -c transpose_list.c -o transpose_list.o clang++ -std=gnu++11 -I"/Library/Frameworks/R.framework/Resources/include" -DNDEBUG -I"/Library/Frameworks/R.framework/Versions/3.6/Resources/library/Rcpp/include" -I/usr/local/include -fPIC -Wall -g -O2 -c updatealphas_Exp.cpp -o updatealphas_Exp.o clang++ -std=gnu++11 -I"/Library/Frameworks/R.framework/Resources/include" -DNDEBUG -I"/Library/Frameworks/R.framework/Versions/3.6/Resources/library/Rcpp/include" -I/usr/local/include -fPIC -Wall -g -O2 -c updatealphau.cpp -o updatealphau.o clang++ -std=gnu++11 -I"/Library/Frameworks/R.framework/Resources/include" -DNDEBUG -I"/Library/Frameworks/R.framework/Versions/3.6/Resources/library/Rcpp/include" -I/usr/local/include -fPIC -Wall -g -O2 -c updatealphau_noPu_Exp.cpp -o updatealphau_noPu_Exp.o clang++ -std=gnu++11 -I"/Library/Frameworks/R.framework/Resources/include" -DNDEBUG -I"/Library/Frameworks/R.framework/Versions/3.6/Resources/library/Rcpp/include" -I/usr/local/include -fPIC -Wall -g -O2 -c updatebeta_RW.cpp -o updatebeta_RW.o clang++ -std=gnu++11 -I"/Library/Frameworks/R.framework/Resources/include" -DNDEBUG -I"/Library/Frameworks/R.framework/Versions/3.6/Resources/library/Rcpp/include" -I/usr/local/include -fPIC -Wall -g -O2 -c updategammak_noPu.cpp -o updategammak_noPu.o clang -I"/Library/Frameworks/R.framework/Resources/include" -DNDEBUG -I"/Library/Frameworks/R.framework/Versions/3.6/Resources/library/Rcpp/include" -I/usr/local/include -fPIC -Wall -g -O2 -c utils.c -o utils.o clang++ -std=gnu++11 -dynamiclib -Wl,-headerpad_max_install_names -undefined dynamic_lookup -single_module -multiply_defined suppress -L/Library/Frameworks/R.framework/Resources/lib -L/usr/local/lib -o COMPASS.so COMPASS_init.o CellCounts.o CellCounts_character.o RcppExports.o digamma.o mat2vec.o melt_dataframe.o melt_matrix.o samplePuPs.o transpose_list.o updatealphas_Exp.o updatealphau.o updatealphau_noPu_Exp.o updatebeta_RW.o updategammak_noPu.o utils.o -L/Library/Frameworks/R.framework/Resources/lib -lRlapack -L/Library/Frameworks/R.framework/Resources/lib -lRblas -L/usr/local/gfortran/lib/gcc/x86_64-apple-darwin15/6.1.0 -L/usr/local/gfortran/lib -lgfortran -lquadmath -lm -F/Library/Frameworks/R.framework/.. -framework R -Wl,-framework -Wl,CoreFoundation installing to /Library/Frameworks/R.framework/Versions/3.6/Resources/library/00LOCK-COMPASS/00new/COMPASS/libs ** R ** data *** moving datasets to lazyload DB ** inst ** byte-compile and prepare package for lazy loading ** help *** installing help indices ** building package indices ** installing vignettes ** testing if installed package can be loaded from temporary location ** checking absolute paths in shared objects and dynamic libraries ** testing if installed package can be loaded from final location ** testing if installed package keeps a record of temporary installation path * DONE (COMPASS)
COMPASS.Rcheck/tests/test-all.Rout
R Under development (unstable) (2019-03-18 r76245) -- "Unsuffered Consequences"
Copyright (C) 2019 The R Foundation for Statistical Computing
Platform: x86_64-apple-darwin15.6.0 (64-bit)
R is free software and comes with ABSOLUTELY NO WARRANTY.
You are welcome to redistribute it under certain conditions.
Type 'license()' or 'licence()' for distribution details.
R is a collaborative project with many contributors.
Type 'contributors()' for more information and
'citation()' on how to cite R or R packages in publications.
Type 'demo()' for some demos, 'help()' for on-line help, or
'help.start()' for an HTML browser interface to help.
Type 'q()' to quit R.
> library(testthat)
> library(COMPASS)
> if (file.exists("testthat")) {
+ test_dir("testthat")
+ }
✔ | OK F W S | Context
⠏ | 0 | COMPASS Interface
⠋ | 1 | COMPASS Interface
✔ | 1 | COMPASS Interface [0.9 s]
⠏ | 0 | test plotCOMPASSResultStack
⠋ | 1 | test plotCOMPASSResultStack
⠙ | 2 | test plotCOMPASSResultStack
⠹ | 3 | test plotCOMPASSResultStack
⠸ | 4 | test plotCOMPASSResultStack
⠼ | 5 | test plotCOMPASSResultStack
⠴ | 6 | test plotCOMPASSResultStack
✔ | 6 | test plotCOMPASSResultStack [74.3 s]
⠏ | 0 | CellCounts
⠋ | 1 | CellCounts
⠙ | 2 | CellCounts
⠹ | 3 | CellCounts
⠸ | 4 | CellCounts
⠼ | 5 | CellCounts
⠴ | 6 | CellCounts
⠦ | 7 | CellCounts
✔ | 7 | CellCounts
⠏ | 0 | FS, PFS
⠋ | 1 | FS, PFS
⠙ | 2 | FS, PFS
⠹ | 3 | FS, PFS
⠸ | 4 | FS, PFS
⠼ | 5 | FS, PFS
⠴ | 6 | FS, PFS
⠦ | 7 | FS, PFS
⠧ | 8 | FS, PFS
✔ | 8 | FS, PFS
⠏ | 0 | test COMPASSContainerFromGatingSet
⠋ | 1 | test COMPASSContainerFromGatingSet
⠙ | 2 | test COMPASSContainerFromGatingSet
⠹ | 3 | test COMPASSContainerFromGatingSet
⠸ | 4 | test COMPASSContainerFromGatingSet
⠼ | 5 | test COMPASSContainerFromGatingSet
⠴ | 6 | test COMPASSContainerFromGatingSet
⠦ | 7 | test COMPASSContainerFromGatingSet
✔ | 7 | test COMPASSContainerFromGatingSet [5.0 s]
══ Results ═════════════════════════════════════════════════════════════════════
Duration: 80.4 s
OK: 29
Failed: 0
Warnings: 0
Skipped: 0
>
> proc.time()
user system elapsed
81.909 7.263 82.552
COMPASS.Rcheck/COMPASS-Ex.timings
| name | user | system | elapsed | |
| COMPASS | 0.766 | 0.463 | 0.426 | |
| COMPASSContainer | 0.232 | 0.138 | 0.097 | |
| COMPASSContainerFromGatingSet | 0.001 | 0.001 | 0.000 | |
| CellCounts | 1.007 | 0.529 | 0.653 | |
| Combinations | 0.001 | 0.000 | 0.002 | |
| FunctionalityScore | 0.006 | 0.003 | 0.008 | |
| GetThresholdedIntensities | 5.412 | 0.894 | 5.587 | |
| PolyfunctionalityScore | 0.001 | 0.001 | 0.002 | |
| Posterior | 0.006 | 0.005 | 0.012 | |
| Response | 0.009 | 0.002 | 0.011 | |
| SimpleCOMPASS | 3.920 | 0.232 | 4.151 | |
| TotalCellCounts | 0.147 | 0.094 | 0.063 | |
| UniqueCombinations | 0.028 | 0.019 | 0.011 | |
| getCounts | 0.075 | 0.053 | 0.027 | |
| merge.COMPASSContainer | 0.041 | 0.028 | 0.014 | |
| pheatmap | 2.495 | 0.273 | 2.302 | |
| plot.COMPASSResult | 0.127 | 0.002 | 0.129 | |
| plotCOMPASSResultStack | 0.000 | 0.000 | 0.001 | |
| print.COMPASSContainer | 0.001 | 0.001 | 0.001 | |
| print.COMPASSResult | 0.001 | 0.001 | 0.000 | |
| scores | 0.034 | 0.018 | 0.017 | |
| select_compass_pops | 0.020 | 0.013 | 0.008 | |
| shinyCOMPASS | 0.003 | 0.002 | 0.001 | |
| shinyCOMPASSDeps | 2.804 | 0.712 | 2.884 | |
| subset.COMPASSContainer | 0.002 | 0.000 | 0.001 | |
| summary.COMPASSContainer | 0.005 | 0.001 | 0.006 | |
| summary.COMPASSResult | 0.001 | 0.000 | 0.000 | |
| translate_marker_names | 0.003 | 0.001 | 0.003 | |
| transpose_list | 0 | 0 | 0 | |