| Back to Multiple platform build/check report for BioC 3.9 |
|
This page was generated on 2019-04-09 12:15:31 -0400 (Tue, 09 Apr 2019).
| Package 318/1703 | Hostname | OS / Arch | INSTALL | BUILD | CHECK | BUILD BIN | ||||||
| COHCAP 1.29.3 Charles Warden
| malbec2 | Linux (Ubuntu 18.04.2 LTS) / x86_64 | OK | OK | OK | |||||||
| tokay2 | Windows Server 2012 R2 Standard / x64 | OK | OK | OK | [ OK ] | |||||||
| celaya2 | OS X 10.11.6 El Capitan / x86_64 | OK | OK | OK | OK | |||||||
| merida2 | OS X 10.11.6 El Capitan / x86_64 | OK | OK | OK | OK |
| Package: COHCAP |
| Version: 1.29.3 |
| Command: rm -rf COHCAP.buildbin-libdir && mkdir COHCAP.buildbin-libdir && C:\Users\biocbuild\bbs-3.9-bioc\R\bin\R.exe CMD INSTALL --merge-multiarch --build --library=COHCAP.buildbin-libdir COHCAP_1.29.3.tar.gz |
| StartedAt: 2019-04-09 07:41:05 -0400 (Tue, 09 Apr 2019) |
| EndedAt: 2019-04-09 07:42:53 -0400 (Tue, 09 Apr 2019) |
| EllapsedTime: 107.8 seconds |
| RetCode: 0 |
| Status: OK |
| PackageFile: COHCAP_1.29.3.zip |
| PackageFileSize: 939.2 KiB |
##############################################################################
##############################################################################
###
### Running command:
###
### rm -rf COHCAP.buildbin-libdir && mkdir COHCAP.buildbin-libdir && C:\Users\biocbuild\bbs-3.9-bioc\R\bin\R.exe CMD INSTALL --merge-multiarch --build --library=COHCAP.buildbin-libdir COHCAP_1.29.3.tar.gz
###
##############################################################################
##############################################################################
install for i386
* installing *source* package 'COHCAP' ...
** libs
C:/Rtools/mingw_32/bin/g++ -I"C:/Users/BIOCBU˜1/BBS-3˜1.9-B/R/include" -DNDEBUG -I"C:/Users/biocbuild/bbs-3.9-bioc/R/library/Rcpp/include" -I"C:/Users/biocbuild/bbs-3.9-bioc/R/library/BH/include" -I"C:/extsoft/include" -O2 -Wall -mtune=generic -c RcppExports.cpp -o RcppExports.o
C:/Rtools/mingw_32/bin/g++ -I"C:/Users/BIOCBU˜1/BBS-3˜1.9-B/R/include" -DNDEBUG -I"C:/Users/biocbuild/bbs-3.9-bioc/R/library/Rcpp/include" -I"C:/Users/biocbuild/bbs-3.9-bioc/R/library/BH/include" -I"C:/extsoft/include" -O2 -Wall -mtune=generic -c Rcpp_BH_ANOVA.cpp -o Rcpp_BH_ANOVA.o
C:/Rtools/mingw_32/bin/g++ -I"C:/Users/BIOCBU˜1/BBS-3˜1.9-B/R/include" -DNDEBUG -I"C:/Users/biocbuild/bbs-3.9-bioc/R/library/Rcpp/include" -I"C:/Users/biocbuild/bbs-3.9-bioc/R/library/BH/include" -I"C:/extsoft/include" -O2 -Wall -mtune=generic -c Rcpp_BH_ttest.cpp -o Rcpp_BH_ttest.o
C:/Rtools/mingw_32/bin/g++ -shared -s -static-libgcc -o COHCAP.dll tmp.def RcppExports.o Rcpp_BH_ANOVA.o Rcpp_BH_ttest.o -LC:/extsoft/lib/i386 -LC:/extsoft/lib -LC:/Users/BIOCBU˜1/BBS-3˜1.9-B/R/bin/i386 -lR
installing to C:/Users/biocbuild/bbs-3.9-bioc/meat/COHCAP.buildbin-libdir/00LOCK-COHCAP/00new/COHCAP/libs/i386
** R
** inst
** byte-compile and prepare package for lazy loading
** help
*** installing help indices
converting help for package 'COHCAP'
finding HTML links ... done
COHCAP.BSSeq.preprocess html
COHCAP.BSSeq_V2.methyl.table html
COHCAP.annotate html
COHCAP.avg.by.island html
COHCAP.avg.by.site html
COHCAP.denovo html
COHCAP.integrate.avg.by.island html
COHCAP.integrate.avg.by.site html
COHCAP.qc html
COHCAP.reformatFinalReport html
COHCAP.site html
** building package indices
** installing vignettes
** testing if installed package can be loaded from temporary location
** testing if installed package can be loaded from final location
** testing if installed package keeps a record of temporary installation path
install for x64
* installing *source* package 'COHCAP' ...
** libs
C:/Rtools/mingw_64/bin/g++ -I"C:/Users/BIOCBU˜1/BBS-3˜1.9-B/R/include" -DNDEBUG -I"C:/Users/biocbuild/bbs-3.9-bioc/R/library/Rcpp/include" -I"C:/Users/biocbuild/bbs-3.9-bioc/R/library/BH/include" -I"C:/extsoft/include" -O2 -Wall -mtune=generic -c RcppExports.cpp -o RcppExports.o
C:/Rtools/mingw_64/bin/g++ -I"C:/Users/BIOCBU˜1/BBS-3˜1.9-B/R/include" -DNDEBUG -I"C:/Users/biocbuild/bbs-3.9-bioc/R/library/Rcpp/include" -I"C:/Users/biocbuild/bbs-3.9-bioc/R/library/BH/include" -I"C:/extsoft/include" -O2 -Wall -mtune=generic -c Rcpp_BH_ANOVA.cpp -o Rcpp_BH_ANOVA.o
C:/Rtools/mingw_64/bin/g++ -I"C:/Users/BIOCBU˜1/BBS-3˜1.9-B/R/include" -DNDEBUG -I"C:/Users/biocbuild/bbs-3.9-bioc/R/library/Rcpp/include" -I"C:/Users/biocbuild/bbs-3.9-bioc/R/library/BH/include" -I"C:/extsoft/include" -O2 -Wall -mtune=generic -c Rcpp_BH_ttest.cpp -o Rcpp_BH_ttest.o
C:/Rtools/mingw_64/bin/g++ -shared -s -static-libgcc -o COHCAP.dll tmp.def RcppExports.o Rcpp_BH_ANOVA.o Rcpp_BH_ttest.o -LC:/extsoft/lib/x64 -LC:/extsoft/lib -LC:/Users/BIOCBU˜1/BBS-3˜1.9-B/R/bin/x64 -lR
installing to C:/Users/biocbuild/bbs-3.9-bioc/meat/COHCAP.buildbin-libdir/COHCAP/libs/x64
** testing if installed package can be loaded
* MD5 sums
packaged installation of 'COHCAP' as COHCAP_1.29.3.zip
* DONE (COHCAP)