| Back to Multiple platform build/check report for BioC 3.9 |
|
This page was generated on 2019-04-09 12:14:22 -0400 (Tue, 09 Apr 2019).
| Package 307/1703 | Hostname | OS / Arch | INSTALL | BUILD | CHECK | BUILD BIN | ||||||
| CNVrd2 1.21.0 Hoang Tan Nguyen
| malbec2 | Linux (Ubuntu 18.04.2 LTS) / x86_64 | OK | OK | OK | |||||||
| tokay2 | Windows Server 2012 R2 Standard / x64 | [ OK ] | ERROR | skipped | skipped | |||||||
| celaya2 | OS X 10.11.6 El Capitan / x86_64 | OK | OK | OK | OK | |||||||
| merida2 | OS X 10.11.6 El Capitan / x86_64 | OK | OK | OK | OK |
| Package: CNVrd2 |
| Version: 1.21.0 |
| Command: C:\cygwin\bin\curl.exe -O https://malbec2.bioconductor.org/BBS/3.9/bioc/src/contrib/CNVrd2_1.21.0.tar.gz && rm -rf CNVrd2.buildbin-libdir && mkdir CNVrd2.buildbin-libdir && C:\Users\biocbuild\bbs-3.9-bioc\R\bin\R.exe CMD INSTALL --merge-multiarch --build --library=CNVrd2.buildbin-libdir CNVrd2_1.21.0.tar.gz && C:\Users\biocbuild\bbs-3.9-bioc\R\bin\R.exe CMD INSTALL CNVrd2_1.21.0.zip && rm CNVrd2_1.21.0.tar.gz CNVrd2_1.21.0.zip |
| StartedAt: 2019-04-08 20:14:32 -0400 (Mon, 08 Apr 2019) |
| EndedAt: 2019-04-08 20:16:54 -0400 (Mon, 08 Apr 2019) |
| EllapsedTime: 142.0 seconds |
| RetCode: 0 |
| Status: OK |
##############################################################################
##############################################################################
###
### Running command:
###
### C:\cygwin\bin\curl.exe -O https://malbec2.bioconductor.org/BBS/3.9/bioc/src/contrib/CNVrd2_1.21.0.tar.gz && rm -rf CNVrd2.buildbin-libdir && mkdir CNVrd2.buildbin-libdir && C:\Users\biocbuild\bbs-3.9-bioc\R\bin\R.exe CMD INSTALL --merge-multiarch --build --library=CNVrd2.buildbin-libdir CNVrd2_1.21.0.tar.gz && C:\Users\biocbuild\bbs-3.9-bioc\R\bin\R.exe CMD INSTALL CNVrd2_1.21.0.zip && rm CNVrd2_1.21.0.tar.gz CNVrd2_1.21.0.zip
###
##############################################################################
##############################################################################
% Total % Received % Xferd Average Speed Time Time Time Current
Dload Upload Total Spent Left Speed
0 0 0 0 0 0 0 0 --:--:-- --:--:-- --:--:-- 0
100 2261k 100 2261k 0 0 23.2M 0 --:--:-- --:--:-- --:--:-- 25.1M
install for i386
* installing *source* package 'CNVrd2' ...
** R
** data
** inst
** byte-compile and prepare package for lazy loading
** help
*** installing help indices
converting help for package 'CNVrd2'
finding HTML links ... done
CNVrd2-class html
CNVrd2-package html
calculateLDSNPandCNV html
ccl3l1data html
clusteringCNVs-class html
countReadInWindow-methods html
countReadInWindow html
emnormalCNV-methods html
emnormalCNV html
fcgr3bMXL html
groupBayesianCNVs html
groupCNVs-methods html
groupCNVs html
identifyPolymorphicRegion-methods html
identifyPolymorphicRegion html
numericOrNULL-class html
plotCNVrd2-methods html
plotCNVrd2 html
plotPolymorphicRegion-methods html
plotPolymorphicRegion html
searchGroupCNVs-methods html
searchGroupCNVs html
segmentSamples-methods html
segmentSamples html
segmentSamplesUsingPopInformation-methods
html
segmentSamplesUsingPopInformation html
vectorORfactor-class html
** building package indices
** installing vignettes
** testing if installed package can be loaded from temporary location
** testing if installed package can be loaded from final location
** testing if installed package keeps a record of temporary installation path
install for x64
* installing *source* package 'CNVrd2' ...
** testing if installed package can be loaded
* MD5 sums
packaged installation of 'CNVrd2' as CNVrd2_1.21.0.zip
* DONE (CNVrd2)
* installing to library 'C:/Users/biocbuild/bbs-3.9-bioc/R/library'
package 'CNVrd2' successfully unpacked and MD5 sums checked