| Back to Multiple platform build/check report for BioC 3.9 |
|
This page was generated on 2019-04-09 13:05:42 -0400 (Tue, 09 Apr 2019).
| Package 300/1703 | Hostname | OS / Arch | INSTALL | BUILD | CHECK | BUILD BIN | ||||||
| CNORfuzzy 1.25.0 T. Cokelaer
| malbec2 | Linux (Ubuntu 18.04.2 LTS) / x86_64 | OK | OK | OK | |||||||
| tokay2 | Windows Server 2012 R2 Standard / x64 | OK | OK | OK | OK | |||||||
| celaya2 | OS X 10.11.6 El Capitan / x86_64 | OK | OK | OK | [ OK ] | |||||||
| merida2 | OS X 10.11.6 El Capitan / x86_64 | OK | OK | OK | OK |
| Package: CNORfuzzy |
| Version: 1.25.0 |
| Command: rm -rf CNORfuzzy.buildbin-libdir && mkdir CNORfuzzy.buildbin-libdir && /Users/biocbuild/BBS/utils/build-universal.sh CNORfuzzy_1.25.0.tar.gz /Library/Frameworks/R.framework/Versions/Current/Resources/bin/R CNORfuzzy.buildbin-libdir |
| StartedAt: 2019-04-09 06:50:31 -0400 (Tue, 09 Apr 2019) |
| EndedAt: 2019-04-09 06:51:11 -0400 (Tue, 09 Apr 2019) |
| EllapsedTime: 40.2 seconds |
| RetCode: 0 |
| Status: OK |
| PackageFile: CNORfuzzy_1.25.0.tgz |
| PackageFileSize: 687 KiB |
##############################################################################
##############################################################################
###
### Running command:
###
### rm -rf CNORfuzzy.buildbin-libdir && mkdir CNORfuzzy.buildbin-libdir && /Users/biocbuild/BBS/utils/build-universal.sh CNORfuzzy_1.25.0.tar.gz /Library/Frameworks/R.framework/Versions/Current/Resources/bin/R CNORfuzzy.buildbin-libdir
###
##############################################################################
##############################################################################
>>>>>>>
>>>>>>> INSTALLATION WITH 'R CMD INSTALL --preclean --no-multiarch --library=CNORfuzzy.buildbin-libdir CNORfuzzy_1.25.0.tar.gz'
>>>>>>>
* installing *source* package ‘CNORfuzzy’ ...
** using staged installation
** libs
clang -I"/Library/Frameworks/R.framework/Resources/include" -DNDEBUG -I/usr/local/include -fPIC -Wall -g -O2 -c simulatorT1.c -o simulatorT1.o
simulatorT1.c:320:28: warning: equality comparison with extraneous parentheses [-Wparentheses-equality]
if((track_cond == nCond)) {
˜˜˜˜˜˜˜˜˜˜˜^˜˜˜˜˜˜˜
simulatorT1.c:320:28: note: remove extraneous parentheses around the comparison to silence this warning
if((track_cond == nCond)) {
˜ ^ ˜
simulatorT1.c:320:28: note: use '=' to turn this equality comparison into an assignment
if((track_cond == nCond)) {
^˜
=
1 warning generated.
clang -dynamiclib -Wl,-headerpad_max_install_names -undefined dynamic_lookup -single_module -multiply_defined suppress -L/Library/Frameworks/R.framework/Resources/lib -L/usr/local/lib -o CNORfuzzy.so simulatorT1.o -F/Library/Frameworks/R.framework/.. -framework R -Wl,-framework -Wl,CoreFoundation
installing to /Users/biocbuild/bbs-3.9-bioc/meat/CNORfuzzy.buildbin-libdir/00LOCK-CNORfuzzy/00new/CNORfuzzy/libs
** R
** inst
** byte-compile and prepare package for lazy loading
** help
*** installing help indices
** building package indices
** installing vignettes
** testing if installed package can be loaded from temporary location
** checking absolute paths in shared objects and dynamic libraries
** testing if installed package can be loaded from final location
** testing if installed package keeps a record of temporary installation path
* DONE (CNORfuzzy)
>>>>>>>
>>>>>>> FIXING LINKS FOR CNORfuzzy.buildbin-libdir/CNORfuzzy/libs//CNORfuzzy.so
>>>>>>>
install_name_tool -change "/usr/local/lib/libgcc_s.1.dylib" "/Library/Frameworks/R.framework/Versions/3.6/Resources/lib/libgcc_s.1.dylib" "CNORfuzzy.buildbin-libdir/CNORfuzzy/libs//CNORfuzzy.so"
install_name_tool -change "/usr/local/lib/libgfortran.3.dylib" "/Library/Frameworks/R.framework/Versions/3.6/Resources/lib/libgfortran.3.dylib" "CNORfuzzy.buildbin-libdir/CNORfuzzy/libs//CNORfuzzy.so"
install_name_tool -change "/usr/local/lib/libreadline.5.2.dylib" "/Library/Frameworks/R.framework/Versions/3.6/Resources/lib/libreadline.5.2.dylib" "CNORfuzzy.buildbin-libdir/CNORfuzzy/libs//CNORfuzzy.so"
install_name_tool -change "/usr/local/lib/libreadline.dylib" "/Library/Frameworks/R.framework/Versions/3.6/Resources/lib/libreadline.dylib" "CNORfuzzy.buildbin-libdir/CNORfuzzy/libs//CNORfuzzy.so"
install_name_tool -change "/usr/local/lib/libquadmath.0.dylib" "/Library/Frameworks/R.framework/Versions/3.6/Resources/lib/libquadmath.0.dylib" "CNORfuzzy.buildbin-libdir/CNORfuzzy/libs//CNORfuzzy.so"