| Back to Multiple platform build/check report for BioC 3.9 | 
  | 
This page was generated on 2019-04-09 12:45:15 -0400 (Tue, 09 Apr 2019).
| Package 246/1703 | Hostname | OS / Arch | INSTALL | BUILD | CHECK | BUILD BIN | ||||||
| CHETAH 0.99.4 Jurrian de Kanter 
  | malbec2 | Linux (Ubuntu 18.04.2 LTS) / x86_64 | OK | OK | OK | |||||||
| tokay2 | Windows Server 2012 R2 Standard / x64 | OK | OK | OK | [ OK ] | |||||||
| celaya2 | OS X 10.11.6 El Capitan / x86_64 | OK | OK | ERROR | OK | |||||||
| merida2 | OS X 10.11.6 El Capitan / x86_64 | OK | OK | ERROR | OK | 
| Package: CHETAH | 
| Version: 0.99.4 | 
| Command: rm -rf CHETAH.buildbin-libdir && mkdir CHETAH.buildbin-libdir && C:\Users\biocbuild\bbs-3.9-bioc\R\bin\R.exe CMD INSTALL --merge-multiarch --build --library=CHETAH.buildbin-libdir CHETAH_0.99.4.tar.gz | 
| StartedAt: 2019-04-09 07:36:39 -0400 (Tue, 09 Apr 2019) | 
| EndedAt: 2019-04-09 07:37:32 -0400 (Tue, 09 Apr 2019) | 
| EllapsedTime: 53.1 seconds | 
| RetCode: 0 | 
| Status: OK | 
| PackageFile: CHETAH_0.99.4.zip | 
| PackageFileSize: 10.78 MiB | 
##############################################################################
##############################################################################
###
### Running command:
###
###   rm -rf CHETAH.buildbin-libdir && mkdir CHETAH.buildbin-libdir && C:\Users\biocbuild\bbs-3.9-bioc\R\bin\R.exe CMD INSTALL --merge-multiarch --build --library=CHETAH.buildbin-libdir CHETAH_0.99.4.tar.gz
###
##############################################################################
##############################################################################
install for i386
* installing *source* package 'CHETAH' ...
** R
** data
*** moving datasets to lazyload DB
** inst
** byte-compile and prepare package for lazy loading
** help
*** installing help indices
  converting help for package 'CHETAH'
    finding HTML links ... done
    CHETAHclassifier                        html  
    CHETAHshiny                             html  
    Classify                                html  
    ClassifyReference                       html  
    CorrelateReference                      html  
    PlotCHETAH                              html  
    PlotTSNE                                html  
    PlotTree                                html  
    RenameBelowNode                         html  
    headneck_ref                            html  
    input_mel                               html  
** building package indices
** installing vignettes
** testing if installed package can be loaded from temporary location
** testing if installed package can be loaded from final location
** testing if installed package keeps a record of temporary installation path
install for x64
* installing *source* package 'CHETAH' ...
** testing if installed package can be loaded
* MD5 sums
packaged installation of 'CHETAH' as CHETAH_0.99.4.zip
* DONE (CHETAH)