| Back to Multiple platform build/check report for BioC 3.9 |
|
This page was generated on 2019-04-09 13:36:19 -0400 (Tue, 09 Apr 2019).
| Package 242/1703 | Hostname | OS / Arch | INSTALL | BUILD | CHECK | BUILD BIN | ||||||
| CHARGE 1.3.0 Benjamin Mayne
| malbec2 | Linux (Ubuntu 18.04.2 LTS) / x86_64 | OK | OK | OK | |||||||
| tokay2 | Windows Server 2012 R2 Standard / x64 | OK | OK | OK | OK | |||||||
| celaya2 | OS X 10.11.6 El Capitan / x86_64 | OK | OK | OK | OK | |||||||
| merida2 | OS X 10.11.6 El Capitan / x86_64 | OK | OK | OK | [ OK ] |
| Package: CHARGE |
| Version: 1.3.0 |
| Command: rm -rf CHARGE.buildbin-libdir && mkdir CHARGE.buildbin-libdir && /Users/biocbuild/BBS/utils/build-universal.sh CHARGE_1.3.0.tar.gz /Library/Frameworks/R.framework/Versions/Current/Resources/bin/R CHARGE.buildbin-libdir |
| StartedAt: 2019-04-09 04:56:15 -0400 (Tue, 09 Apr 2019) |
| EndedAt: 2019-04-09 04:57:34 -0400 (Tue, 09 Apr 2019) |
| EllapsedTime: 79.4 seconds |
| RetCode: 0 |
| Status: OK |
| PackageFile: CHARGE_1.3.0.tgz |
| PackageFileSize: 2.222 MiB |
############################################################################## ############################################################################## ### ### Running command: ### ### rm -rf CHARGE.buildbin-libdir && mkdir CHARGE.buildbin-libdir && /Users/biocbuild/BBS/utils/build-universal.sh CHARGE_1.3.0.tar.gz /Library/Frameworks/R.framework/Versions/Current/Resources/bin/R CHARGE.buildbin-libdir ### ############################################################################## ############################################################################## >>>>>>> >>>>>>> INSTALLATION WITH 'R CMD INSTALL --preclean --no-multiarch --library=CHARGE.buildbin-libdir CHARGE_1.3.0.tar.gz' >>>>>>> * installing *source* package ‘CHARGE’ ... ** R ** data *** moving datasets to lazyload DB ** inst ** byte-compile and prepare package for lazy loading ** help *** installing help indices ** building package indices ** installing vignettes ** testing if installed package can be loaded * DONE (CHARGE)