| Back to Multiple platform build/check report for BioC 3.9 | 
 | 
This page was generated on 2019-04-09 13:24:19 -0400 (Tue, 09 Apr 2019).
| Package 240/1703 | Hostname | OS / Arch | INSTALL | BUILD | CHECK | BUILD BIN | ||||||
| CGHregions 1.41.0 Sjoerd Vosse 
 | malbec2 | Linux (Ubuntu 18.04.2 LTS) / x86_64 | OK | OK | OK |  | ||||||
| tokay2 | Windows Server 2012 R2 Standard / x64 | OK | OK | OK | OK |  | ||||||
| celaya2 | OS X 10.11.6 El Capitan / x86_64 | OK | OK | OK | OK |  | ||||||
| merida2 | OS X 10.11.6 El Capitan / x86_64 | OK | OK | OK | [ OK ] | 
| Package: CGHregions | 
| Version: 1.41.0 | 
| Command: rm -rf CGHregions.buildbin-libdir && mkdir CGHregions.buildbin-libdir && /Users/biocbuild/BBS/utils/build-universal.sh CGHregions_1.41.0.tar.gz /Library/Frameworks/R.framework/Versions/Current/Resources/bin/R CGHregions.buildbin-libdir | 
| StartedAt: 2019-04-09 04:56:06 -0400 (Tue, 09 Apr 2019) | 
| EndedAt: 2019-04-09 04:57:25 -0400 (Tue, 09 Apr 2019) | 
| EllapsedTime: 79.6 seconds | 
| RetCode: 0 | 
| Status: OK | 
| PackageFile: CGHregions_1.41.0.tgz | 
| PackageFileSize: 183.8 KiB | 
############################################################################## ############################################################################## ### ### Running command: ### ### rm -rf CGHregions.buildbin-libdir && mkdir CGHregions.buildbin-libdir && /Users/biocbuild/BBS/utils/build-universal.sh CGHregions_1.41.0.tar.gz /Library/Frameworks/R.framework/Versions/Current/Resources/bin/R CGHregions.buildbin-libdir ### ############################################################################## ############################################################################## >>>>>>> >>>>>>> INSTALLATION WITH 'R CMD INSTALL --preclean --no-multiarch --library=CGHregions.buildbin-libdir CGHregions_1.41.0.tar.gz' >>>>>>> * installing *source* package ‘CGHregions’ ... ** R ** inst ** byte-compile and prepare package for lazy loading ** help *** installing help indices ** building package indices ** installing vignettes ** testing if installed package can be loaded * DONE (CGHregions)