| Back to Multiple platform build/check report for BioC 3.9 | 
 | 
This page was generated on 2019-04-09 12:54:05 -0400 (Tue, 09 Apr 2019).
| Package 237/1703 | Hostname | OS / Arch | INSTALL | BUILD | CHECK | BUILD BIN | ||||||
| CGHcall 2.45.0 Mark van de Wiel 
 | malbec2 | Linux (Ubuntu 18.04.2 LTS) / x86_64 | OK | OK | OK |  | ||||||
| tokay2 | Windows Server 2012 R2 Standard / x64 | OK | OK | OK | OK |  | ||||||
| celaya2 | OS X 10.11.6 El Capitan / x86_64 | OK | [ OK ] | OK | OK |  | ||||||
| merida2 | OS X 10.11.6 El Capitan / x86_64 | OK | OK | OK | OK | 
| Package: CGHcall | 
| Version: 2.45.0 | 
| Command: /Library/Frameworks/R.framework/Versions/Current/Resources/bin/R CMD build --keep-empty-dirs --no-resave-data CGHcall | 
| StartedAt: 2019-04-08 19:37:21 -0400 (Mon, 08 Apr 2019) | 
| EndedAt: 2019-04-08 19:37:58 -0400 (Mon, 08 Apr 2019) | 
| EllapsedTime: 36.7 seconds | 
| RetCode: 0 | 
| Status: OK | 
| PackageFile: CGHcall_2.45.0.tar.gz | 
| PackageFileSize: 360.1 KiB | 
############################################################################## ############################################################################## ### ### Running command: ### ### /Library/Frameworks/R.framework/Versions/Current/Resources/bin/R CMD build --keep-empty-dirs --no-resave-data CGHcall ### ############################################################################## ############################################################################## * checking for file ‘CGHcall/DESCRIPTION’ ... OK * preparing ‘CGHcall’: * checking DESCRIPTION meta-information ... OK * installing the package to build vignettes * creating vignettes ... OK * checking for LF line-endings in source and make files and shell scripts * checking for empty or unneeded directories * looking to see if a ‘data/datalist’ file should be added * building ‘CGHcall_2.45.0.tar.gz’