| Back to Multiple platform build/check report for BioC 3.9 |
|
This page was generated on 2019-04-09 11:56:27 -0400 (Tue, 09 Apr 2019).
| Package 236/1703 | Hostname | OS / Arch | INSTALL | BUILD | CHECK | BUILD BIN | ||||||
| CGHbase 1.43.0 Mark van de Wiel
| malbec2 | Linux (Ubuntu 18.04.2 LTS) / x86_64 | OK | OK | OK | |||||||
| tokay2 | Windows Server 2012 R2 Standard / x64 | OK | OK | WARNINGS | [ OK ] | |||||||
| celaya2 | OS X 10.11.6 El Capitan / x86_64 | OK | OK | OK | OK | |||||||
| merida2 | OS X 10.11.6 El Capitan / x86_64 | OK | OK | OK | OK |
| Package: CGHbase |
| Version: 1.43.0 |
| Command: rm -rf CGHbase.buildbin-libdir && mkdir CGHbase.buildbin-libdir && C:\Users\biocbuild\bbs-3.9-bioc\R\bin\R.exe CMD INSTALL --merge-multiarch --build --library=CGHbase.buildbin-libdir CGHbase_1.43.0.tar.gz |
| StartedAt: 2019-04-09 07:35:58 -0400 (Tue, 09 Apr 2019) |
| EndedAt: 2019-04-09 07:36:42 -0400 (Tue, 09 Apr 2019) |
| EllapsedTime: 43.9 seconds |
| RetCode: 0 |
| Status: OK |
| PackageFile: CGHbase_1.43.0.zip |
| PackageFileSize: 1.061 MiB |
##############################################################################
##############################################################################
###
### Running command:
###
### rm -rf CGHbase.buildbin-libdir && mkdir CGHbase.buildbin-libdir && C:\Users\biocbuild\bbs-3.9-bioc\R\bin\R.exe CMD INSTALL --merge-multiarch --build --library=CGHbase.buildbin-libdir CGHbase_1.43.0.tar.gz
###
##############################################################################
##############################################################################
install for i386
* installing *source* package 'CGHbase' ...
** R
** data
** byte-compile and prepare package for lazy loading
** help
*** installing help indices
converting help for package 'CGHbase'
finding HTML links ... done
CGHbase-package html
Wilting html
WiltingCalled html
WiltingNorm html
WiltingRaw html
WiltingRegions html
WiltingSeg html
avedist html
chromosomes html
class.cghCall html
Rd warning: C:/Users/biocbuild/bbs-3.9-bioc/tmpdir/Rtmpc3sDY6/R.INSTALL16943c9524f3/CGHbase/man/class.cghCall.Rd:42: file link 'eSet' in package 'Biobase' does not exist and so has been treated as a topic
Rd warning: C:/Users/biocbuild/bbs-3.9-bioc/tmpdir/Rtmpc3sDY6/R.INSTALL16943c9524f3/CGHbase/man/class.cghCall.Rd:56: file link 'eSet' in package 'Biobase' does not exist and so has been treated as a topic
Rd warning: C:/Users/biocbuild/bbs-3.9-bioc/tmpdir/Rtmpc3sDY6/R.INSTALL16943c9524f3/CGHbase/man/class.cghCall.Rd:95: file link 'AssayData-class' in package 'Biobase' does not exist and so has been treated as a topic
Rd warning: C:/Users/biocbuild/bbs-3.9-bioc/tmpdir/Rtmpc3sDY6/R.INSTALL16943c9524f3/CGHbase/man/class.cghCall.Rd:96: file link 'eSet' in package 'Biobase' does not exist and so has been treated as a topic
Rd warning: C:/Users/biocbuild/bbs-3.9-bioc/tmpdir/Rtmpc3sDY6/R.INSTALL16943c9524f3/CGHbase/man/class.cghCall.Rd:97: file link 'AnnotatedDataFrame' in package 'Biobase' does not exist and so has been treated as a topic
Rd warning: C:/Users/biocbuild/bbs-3.9-bioc/tmpdir/Rtmpc3sDY6/R.INSTALL16943c9524f3/CGHbase/man/class.cghCall.Rd:100: file link 'eSet' in package 'Biobase' does not exist and so has been treated as a topic
Rd warning: C:/Users/biocbuild/bbs-3.9-bioc/tmpdir/Rtmpc3sDY6/R.INSTALL16943c9524f3/CGHbase/man/class.cghCall.Rd:101: file link 'eSet' in package 'Biobase' does not exist and so has been treated as a topic
Rd warning: C:/Users/biocbuild/bbs-3.9-bioc/tmpdir/Rtmpc3sDY6/R.INSTALL16943c9524f3/CGHbase/man/class.cghCall.Rd:137: file link 'eSet' in package 'Biobase' does not exist and so has been treated as a topic
Rd warning: C:/Users/biocbuild/bbs-3.9-bioc/tmpdir/Rtmpc3sDY6/R.INSTALL16943c9524f3/CGHbase/man/class.cghCall.Rd:143: file link 'eSet-class' in package 'Biobase' does not exist and so has been treated as a topic
class.cghRaw html
Rd warning: C:/Users/biocbuild/bbs-3.9-bioc/tmpdir/Rtmpc3sDY6/R.INSTALL16943c9524f3/CGHbase/man/class.cghRaw.Rd:25: file link 'eSet' in package 'Biobase' does not exist and so has been treated as a topic
Rd warning: C:/Users/biocbuild/bbs-3.9-bioc/tmpdir/Rtmpc3sDY6/R.INSTALL16943c9524f3/CGHbase/man/class.cghRaw.Rd:30: file link 'eSet' in package 'Biobase' does not exist and so has been treated as a topic
Rd warning: C:/Users/biocbuild/bbs-3.9-bioc/tmpdir/Rtmpc3sDY6/R.INSTALL16943c9524f3/CGHbase/man/class.cghRaw.Rd:62: file link 'AssayData-class' in package 'Biobase' does not exist and so has been treated as a topic
Rd warning: C:/Users/biocbuild/bbs-3.9-bioc/tmpdir/Rtmpc3sDY6/R.INSTALL16943c9524f3/CGHbase/man/class.cghRaw.Rd:63: file link 'eSet' in package 'Biobase' does not exist and so has been treated as a topic
Rd warning: C:/Users/biocbuild/bbs-3.9-bioc/tmpdir/Rtmpc3sDY6/R.INSTALL16943c9524f3/CGHbase/man/class.cghRaw.Rd:64: file link 'AnnotatedDataFrame' in package 'Biobase' does not exist and so has been treated as a topic
Rd warning: C:/Users/biocbuild/bbs-3.9-bioc/tmpdir/Rtmpc3sDY6/R.INSTALL16943c9524f3/CGHbase/man/class.cghRaw.Rd:67: file link 'eSet' in package 'Biobase' does not exist and so has been treated as a topic
Rd warning: C:/Users/biocbuild/bbs-3.9-bioc/tmpdir/Rtmpc3sDY6/R.INSTALL16943c9524f3/CGHbase/man/class.cghRaw.Rd:68: file link 'eSet' in package 'Biobase' does not exist and so has been treated as a topic
Rd warning: C:/Users/biocbuild/bbs-3.9-bioc/tmpdir/Rtmpc3sDY6/R.INSTALL16943c9524f3/CGHbase/man/class.cghRaw.Rd:82: file link 'eSet' in package 'Biobase' does not exist and so has been treated as a topic
Rd warning: C:/Users/biocbuild/bbs-3.9-bioc/tmpdir/Rtmpc3sDY6/R.INSTALL16943c9524f3/CGHbase/man/class.cghRaw.Rd:88: file link 'eSet-class' in package 'Biobase' does not exist and so has been treated as a topic
class.cghRegions html
class.cghSeg html
Rd warning: C:/Users/biocbuild/bbs-3.9-bioc/tmpdir/Rtmpc3sDY6/R.INSTALL16943c9524f3/CGHbase/man/class.cghSeg.Rd:27: file link 'eSet' in package 'Biobase' does not exist and so has been treated as a topic
Rd warning: C:/Users/biocbuild/bbs-3.9-bioc/tmpdir/Rtmpc3sDY6/R.INSTALL16943c9524f3/CGHbase/man/class.cghSeg.Rd:33: file link 'eSet' in package 'Biobase' does not exist and so has been treated as a topic
Rd warning: C:/Users/biocbuild/bbs-3.9-bioc/tmpdir/Rtmpc3sDY6/R.INSTALL16943c9524f3/CGHbase/man/class.cghSeg.Rd:60: file link 'AssayData-class' in package 'Biobase' does not exist and so has been treated as a topic
Rd warning: C:/Users/biocbuild/bbs-3.9-bioc/tmpdir/Rtmpc3sDY6/R.INSTALL16943c9524f3/CGHbase/man/class.cghSeg.Rd:61: file link 'eSet' in package 'Biobase' does not exist and so has been treated as a topic
Rd warning: C:/Users/biocbuild/bbs-3.9-bioc/tmpdir/Rtmpc3sDY6/R.INSTALL16943c9524f3/CGHbase/man/class.cghSeg.Rd:62: file link 'AnnotatedDataFrame' in package 'Biobase' does not exist and so has been treated as a topic
Rd warning: C:/Users/biocbuild/bbs-3.9-bioc/tmpdir/Rtmpc3sDY6/R.INSTALL16943c9524f3/CGHbase/man/class.cghSeg.Rd:65: file link 'eSet' in package 'Biobase' does not exist and so has been treated as a topic
Rd warning: C:/Users/biocbuild/bbs-3.9-bioc/tmpdir/Rtmpc3sDY6/R.INSTALL16943c9524f3/CGHbase/man/class.cghSeg.Rd:66: file link 'eSet' in package 'Biobase' does not exist and so has been treated as a topic
Rd warning: C:/Users/biocbuild/bbs-3.9-bioc/tmpdir/Rtmpc3sDY6/R.INSTALL16943c9524f3/CGHbase/man/class.cghSeg.Rd:85: file link 'eSet' in package 'Biobase' does not exist and so has been treated as a topic
Rd warning: C:/Users/biocbuild/bbs-3.9-bioc/tmpdir/Rtmpc3sDY6/R.INSTALL16943c9524f3/CGHbase/man/class.cghSeg.Rd:91: file link 'eSet-class' in package 'Biobase' does not exist and so has been treated as a topic
copynumber html
frequencyPlot html
frequencyPlotCalls html
make_cghRaw html
plot html
probloss html
regions html
summaryPlot html
** building package indices
** testing if installed package can be loaded from temporary location
** testing if installed package can be loaded from final location
** testing if installed package keeps a record of temporary installation path
install for x64
* installing *source* package 'CGHbase' ...
** testing if installed package can be loaded
* MD5 sums
packaged installation of 'CGHbase' as CGHbase_1.43.0.zip
* DONE (CGHbase)