Back to Multiple platform build/check report for BioC 3.9 |
|
This page was generated on 2019-04-09 12:22:57 -0400 (Tue, 09 Apr 2019).
Package 186/1703 | Hostname | OS / Arch | INSTALL | BUILD | CHECK | BUILD BIN | ||||||
BrowserViz 2.5.13 Paul Shannon
| malbec2 | Linux (Ubuntu 18.04.2 LTS) / x86_64 | OK | OK | OK | ![]() | ||||||
tokay2 | Windows Server 2012 R2 Standard / x64 | [ OK ] | OK | OK | OK | ![]() | ||||||
celaya2 | OS X 10.11.6 El Capitan / x86_64 | OK | OK | OK | OK | ![]() | ||||||
merida2 | OS X 10.11.6 El Capitan / x86_64 | OK | OK | OK | OK |
Package: BrowserViz |
Version: 2.5.13 |
Command: C:\cygwin\bin\curl.exe -O https://malbec2.bioconductor.org/BBS/3.9/bioc/src/contrib/BrowserViz_2.5.13.tar.gz && rm -rf BrowserViz.buildbin-libdir && mkdir BrowserViz.buildbin-libdir && C:\Users\biocbuild\bbs-3.9-bioc\R\bin\R.exe CMD INSTALL --merge-multiarch --build --library=BrowserViz.buildbin-libdir BrowserViz_2.5.13.tar.gz && C:\Users\biocbuild\bbs-3.9-bioc\R\bin\R.exe CMD INSTALL BrowserViz_2.5.13.zip && rm BrowserViz_2.5.13.tar.gz BrowserViz_2.5.13.zip |
StartedAt: 2019-04-08 18:40:51 -0400 (Mon, 08 Apr 2019) |
EndedAt: 2019-04-08 18:42:02 -0400 (Mon, 08 Apr 2019) |
EllapsedTime: 71.4 seconds |
RetCode: 0 |
Status: OK |
############################################################################## ############################################################################## ### ### Running command: ### ### C:\cygwin\bin\curl.exe -O https://malbec2.bioconductor.org/BBS/3.9/bioc/src/contrib/BrowserViz_2.5.13.tar.gz && rm -rf BrowserViz.buildbin-libdir && mkdir BrowserViz.buildbin-libdir && C:\Users\biocbuild\bbs-3.9-bioc\R\bin\R.exe CMD INSTALL --merge-multiarch --build --library=BrowserViz.buildbin-libdir BrowserViz_2.5.13.tar.gz && C:\Users\biocbuild\bbs-3.9-bioc\R\bin\R.exe CMD INSTALL BrowserViz_2.5.13.zip && rm BrowserViz_2.5.13.tar.gz BrowserViz_2.5.13.zip ### ############################################################################## ############################################################################## % Total % Received % Xferd Average Speed Time Time Time Current Dload Upload Total Spent Left Speed 0 0 0 0 0 0 0 0 --:--:-- --:--:-- --:--:-- 0 100 22359 100 22359 0 0 352k 0 --:--:-- --:--:-- --:--:-- 396k install for i386 * installing *source* package 'BrowserViz' ... ** R ** inst ** byte-compile and prepare package for lazy loading ** help *** installing help indices converting help for package 'BrowserViz' finding HTML links ... done BrowserViz-class html ** building package indices ** installing vignettes ** testing if installed package can be loaded from temporary location ** testing if installed package can be loaded from final location ** testing if installed package keeps a record of temporary installation path install for x64 * installing *source* package 'BrowserViz' ... ** testing if installed package can be loaded * MD5 sums packaged installation of 'BrowserViz' as BrowserViz_2.5.13.zip * DONE (BrowserViz) * installing to library 'C:/Users/biocbuild/bbs-3.9-bioc/R/library' package 'BrowserViz' successfully unpacked and MD5 sums checked