| Back to Multiple platform build/check report for BioC 3.9 | 
 | 
This page was generated on 2019-04-09 12:21:54 -0400 (Tue, 09 Apr 2019).
| Package 185/1703 | Hostname | OS / Arch | INSTALL | BUILD | CHECK | BUILD BIN | ||||||
| BridgeDbR 1.17.5 Egon Willighagen 
 | malbec2 | Linux (Ubuntu 18.04.2 LTS) / x86_64 | OK | OK | OK |  | ||||||
| tokay2 | Windows Server 2012 R2 Standard / x64 | [ OK ] | OK | OK | OK |  | ||||||
| celaya2 | OS X 10.11.6 El Capitan / x86_64 | OK | OK | OK | OK |  | ||||||
| merida2 | OS X 10.11.6 El Capitan / x86_64 | OK | OK | OK | OK | 
| Package: BridgeDbR | 
| Version: 1.17.5 | 
| Command: C:\cygwin\bin\curl.exe -O https://malbec2.bioconductor.org/BBS/3.9/bioc/src/contrib/BridgeDbR_1.17.5.tar.gz && rm -rf BridgeDbR.buildbin-libdir && mkdir BridgeDbR.buildbin-libdir && C:\Users\biocbuild\bbs-3.9-bioc\R\bin\R.exe CMD INSTALL --merge-multiarch --build --library=BridgeDbR.buildbin-libdir BridgeDbR_1.17.5.tar.gz && C:\Users\biocbuild\bbs-3.9-bioc\R\bin\R.exe CMD INSTALL BridgeDbR_1.17.5.zip && rm BridgeDbR_1.17.5.tar.gz BridgeDbR_1.17.5.zip | 
| StartedAt: 2019-04-08 18:39:55 -0400 (Mon, 08 Apr 2019) | 
| EndedAt: 2019-04-08 18:41:40 -0400 (Mon, 08 Apr 2019) | 
| EllapsedTime: 105.0 seconds | 
| RetCode: 0 | 
| Status: OK | 
##############################################################################
##############################################################################
###
### Running command:
###
###   C:\cygwin\bin\curl.exe -O https://malbec2.bioconductor.org/BBS/3.9/bioc/src/contrib/BridgeDbR_1.17.5.tar.gz && rm -rf BridgeDbR.buildbin-libdir && mkdir BridgeDbR.buildbin-libdir && C:\Users\biocbuild\bbs-3.9-bioc\R\bin\R.exe CMD INSTALL --merge-multiarch --build --library=BridgeDbR.buildbin-libdir BridgeDbR_1.17.5.tar.gz && C:\Users\biocbuild\bbs-3.9-bioc\R\bin\R.exe CMD INSTALL BridgeDbR_1.17.5.zip && rm BridgeDbR_1.17.5.tar.gz BridgeDbR_1.17.5.zip
###
##############################################################################
##############################################################################
  % Total    % Received % Xferd  Average Speed   Time    Time     Time  Current
                                 Dload  Upload   Total   Spent    Left  Speed
  0     0    0     0    0     0      0      0 --:--:-- --:--:-- --:--:--     0
100 2406k  100 2406k    0     0  25.5M      0 --:--:-- --:--:-- --:--:-- 27.6M
install for i386
* installing *source* package 'BridgeDbR' ...
** R
** inst
** byte-compile and prepare package for lazy loading
** help
*** installing help indices
  converting help for package 'BridgeDbR'
    finding HTML links ... done
    BridgeDbR                               html  
    fullNameExists                          html  
    getAttributes                           html  
    getBridgeNames                          html  
    getDataSource                           html  
    getDatabase                             html  
    getFullName                             html  
    getMatchingSources                      html  
    getOrganismCode                         html  
    getSystemCode                           html  
    loadDatabase                            html  
    map                                     html  
    registerDataSource                      html  
    systemCodeExists                        html  
** building package indices
** installing vignettes
** testing if installed package can be loaded from temporary location
** testing if installed package can be loaded from final location
** testing if installed package keeps a record of temporary installation path
install for x64
* installing *source* package 'BridgeDbR' ...
** testing if installed package can be loaded
* MD5 sums
packaged installation of 'BridgeDbR' as BridgeDbR_1.17.5.zip
* DONE (BridgeDbR)
* installing to library 'C:/Users/biocbuild/bbs-3.9-bioc/R/library'
package 'BridgeDbR' successfully unpacked and MD5 sums checked