| Back to Multiple platform build/check report for BioC 3.9 | 
 | 
This page was generated on 2019-04-09 13:28:20 -0400 (Tue, 09 Apr 2019).
| Package 151/1703 | Hostname | OS / Arch | INSTALL | BUILD | CHECK | BUILD BIN | ||||||
| BiocStyle 2.11.0 Bioconductor Package Maintainer 
 | malbec2 | Linux (Ubuntu 18.04.2 LTS) / x86_64 | OK | OK | OK |  | ||||||
| tokay2 | Windows Server 2012 R2 Standard / x64 | OK | OK | OK | OK |  | ||||||
| celaya2 | OS X 10.11.6 El Capitan / x86_64 | OK | OK | OK | OK |  | ||||||
| merida2 | OS X 10.11.6 El Capitan / x86_64 | OK | OK | OK | [ OK ] | 
| Package: BiocStyle | 
| Version: 2.11.0 | 
| Command: rm -rf BiocStyle.buildbin-libdir && mkdir BiocStyle.buildbin-libdir && /Users/biocbuild/BBS/utils/build-universal.sh BiocStyle_2.11.0.tar.gz /Library/Frameworks/R.framework/Versions/Current/Resources/bin/R BiocStyle.buildbin-libdir | 
| StartedAt: 2019-04-09 04:49:14 -0400 (Tue, 09 Apr 2019) | 
| EndedAt: 2019-04-09 04:50:29 -0400 (Tue, 09 Apr 2019) | 
| EllapsedTime: 74.6 seconds | 
| RetCode: 0 | 
| Status: OK | 
| PackageFile: BiocStyle_2.11.0.tgz | 
| PackageFileSize: 930.5 KiB | 
############################################################################## ############################################################################## ### ### Running command: ### ### rm -rf BiocStyle.buildbin-libdir && mkdir BiocStyle.buildbin-libdir && /Users/biocbuild/BBS/utils/build-universal.sh BiocStyle_2.11.0.tar.gz /Library/Frameworks/R.framework/Versions/Current/Resources/bin/R BiocStyle.buildbin-libdir ### ############################################################################## ############################################################################## >>>>>>> >>>>>>> INSTALLATION WITH 'R CMD INSTALL --preclean --no-multiarch --library=BiocStyle.buildbin-libdir BiocStyle_2.11.0.tar.gz' >>>>>>> * installing *source* package ‘BiocStyle’ ... ** R ** inst ** byte-compile and prepare package for lazy loading ** help *** installing help indices ** building package indices ** installing vignettes ** testing if installed package can be loaded * DONE (BiocStyle)