| Back to Multiple platform build/check report for BioC 3.9 | 
 | 
This page was generated on 2019-04-09 12:30:30 -0400 (Tue, 09 Apr 2019).
| Package 141/1703 | Hostname | OS / Arch | INSTALL | BUILD | CHECK | BUILD BIN | ||||||
| BiocFileCache 1.7.7 Lori Shepherd 
 | malbec2 | Linux (Ubuntu 18.04.2 LTS) / x86_64 | OK | OK | ERROR | |||||||
| tokay2 | Windows Server 2012 R2 Standard / x64 | OK | OK | OK | [ OK ] |  | ||||||
| celaya2 | OS X 10.11.6 El Capitan / x86_64 | OK | OK | OK | OK |  | ||||||
| merida2 | OS X 10.11.6 El Capitan / x86_64 | OK | OK | OK | OK | 
| Package: BiocFileCache | 
| Version: 1.7.7 | 
| Command: rm -rf BiocFileCache.buildbin-libdir && mkdir BiocFileCache.buildbin-libdir && C:\Users\biocbuild\bbs-3.9-bioc\R\bin\R.exe CMD INSTALL --merge-multiarch --build --library=BiocFileCache.buildbin-libdir BiocFileCache_1.7.7.tar.gz | 
| StartedAt: 2019-04-09 07:30:03 -0400 (Tue, 09 Apr 2019) | 
| EndedAt: 2019-04-09 07:30:41 -0400 (Tue, 09 Apr 2019) | 
| EllapsedTime: 38.1 seconds | 
| RetCode: 0 | 
| Status: OK | 
| PackageFile: BiocFileCache_1.7.7.zip | 
| PackageFileSize: 459.9 KiB | 
##############################################################################
##############################################################################
###
### Running command:
###
###   rm -rf BiocFileCache.buildbin-libdir && mkdir BiocFileCache.buildbin-libdir && C:\Users\biocbuild\bbs-3.9-bioc\R\bin\R.exe CMD INSTALL --merge-multiarch --build --library=BiocFileCache.buildbin-libdir BiocFileCache_1.7.7.tar.gz
###
##############################################################################
##############################################################################
install for i386
* installing *source* package 'BiocFileCache' ...
** R
** inst
** byte-compile and prepare package for lazy loading
** help
*** installing help indices
  converting help for package 'BiocFileCache'
    finding HTML links ... done
    BiocFileCache-class                     html  
    makeBiocFileCacheFromDataFrame          html  
** building package indices
** installing vignettes
** testing if installed package can be loaded from temporary location
** testing if installed package can be loaded from final location
** testing if installed package keeps a record of temporary installation path
install for x64
* installing *source* package 'BiocFileCache' ...
** testing if installed package can be loaded
* MD5 sums
packaged installation of 'BiocFileCache' as BiocFileCache_1.7.7.zip
* DONE (BiocFileCache)