| Back to Multiple platform build/check report for BioC 3.9 |
|
This page was generated on 2019-04-09 13:08:25 -0400 (Tue, 09 Apr 2019).
| Package 131/1703 | Hostname | OS / Arch | INSTALL | BUILD | CHECK | BUILD BIN | ||||||
| BiGGR 1.19.0 Anand K. Gavai
| malbec2 | Linux (Ubuntu 18.04.2 LTS) / x86_64 | ERROR | ERROR | skipped | |||||||
| tokay2 | Windows Server 2012 R2 Standard / x64 | ERROR | ERROR | skipped | skipped | |||||||
| celaya2 | OS X 10.11.6 El Capitan / x86_64 | ERROR | [ ERROR ] | skipped | skipped | |||||||
| merida2 | OS X 10.11.6 El Capitan / x86_64 | ERROR | ERROR | skipped | skipped |
| Package: BiGGR |
| Version: 1.19.0 |
| Command: /Library/Frameworks/R.framework/Versions/Current/Resources/bin/R CMD build --keep-empty-dirs --no-resave-data BiGGR |
| StartedAt: 2019-04-08 20:37:59 -0400 (Mon, 08 Apr 2019) |
| EndedAt: 2019-04-08 20:38:04 -0400 (Mon, 08 Apr 2019) |
| EllapsedTime: 4.9 seconds |
| RetCode: 1 |
| Status: ERROR |
| PackageFile: None |
| PackageFileSize: NA |
##############################################################################
##############################################################################
###
### Running command:
###
### /Library/Frameworks/R.framework/Versions/Current/Resources/bin/R CMD build --keep-empty-dirs --no-resave-data BiGGR
###
##############################################################################
##############################################################################
* checking for file ‘BiGGR/DESCRIPTION’ ... OK
* preparing ‘BiGGR’:
* checking DESCRIPTION meta-information ... OK
* installing the package to build vignettes
-----------------------------------
* installing *source* package ‘BiGGR’ ...
** using staged installation
** R
** data
** inst
** byte-compile and prepare package for lazy loading
Error: object ‘species’ is not exported by 'namespace:rsbml'
Execution halted
ERROR: lazy loading failed for package ‘BiGGR’
* removing ‘/private/tmp/RtmpsPdQEN/Rinst165c93f64770c/BiGGR’
-----------------------------------
ERROR: package installation failed