| Back to Multiple platform build/check report for BioC 3.9 |
|
This page was generated on 2019-04-09 11:58:10 -0400 (Tue, 09 Apr 2019).
| Package 110/1703 | Hostname | OS / Arch | INSTALL | BUILD | CHECK | BUILD BIN | ||||||
| BayesPeak 1.35.0 Jonathan Cairns
| malbec2 | Linux (Ubuntu 18.04.2 LTS) / x86_64 | OK | OK | OK | |||||||
| tokay2 | Windows Server 2012 R2 Standard / x64 | OK | OK | WARNINGS | [ OK ] | |||||||
| celaya2 | OS X 10.11.6 El Capitan / x86_64 | OK | OK | OK | OK | |||||||
| merida2 | OS X 10.11.6 El Capitan / x86_64 | OK | OK | OK | OK |
| Package: BayesPeak |
| Version: 1.35.0 |
| Command: rm -rf BayesPeak.buildbin-libdir && mkdir BayesPeak.buildbin-libdir && C:\Users\biocbuild\bbs-3.9-bioc\R\bin\R.exe CMD INSTALL --merge-multiarch --build --library=BayesPeak.buildbin-libdir BayesPeak_1.35.0.tar.gz |
| StartedAt: 2019-04-09 07:28:23 -0400 (Tue, 09 Apr 2019) |
| EndedAt: 2019-04-09 07:28:46 -0400 (Tue, 09 Apr 2019) |
| EllapsedTime: 23.0 seconds |
| RetCode: 0 |
| Status: OK |
| PackageFile: BayesPeak_1.35.0.zip |
| PackageFileSize: 1.995 MiB |
##############################################################################
##############################################################################
###
### Running command:
###
### rm -rf BayesPeak.buildbin-libdir && mkdir BayesPeak.buildbin-libdir && C:\Users\biocbuild\bbs-3.9-bioc\R\bin\R.exe CMD INSTALL --merge-multiarch --build --library=BayesPeak.buildbin-libdir BayesPeak_1.35.0.tar.gz
###
##############################################################################
##############################################################################
install for i386
* installing *source* package 'BayesPeak' ...
** libs
C:/Rtools/mingw_32/bin/gcc -I"C:/Users/BIOCBU˜1/BBS-3˜1.9-B/R/include" -DNDEBUG -I"C:/extsoft/include" -O3 -Wall -std=gnu99 -mtune=generic -c bayespeak.c -o bayespeak.o
bayespeak.c: In function 'bayespeak':
bayespeak.c:176:27: warning: variable 'M' set but not used [-Wunused-but-set-variable]
double M1, M2, M3, M4, M, a, b;
^
C:/Rtools/mingw_32/bin/gcc -shared -s -static-libgcc -o BayesPeak.dll tmp.def bayespeak.o -LC:/extsoft/lib/i386 -LC:/extsoft/lib -LC:/Users/BIOCBU˜1/BBS-3˜1.9-B/R/bin/i386 -lR
installing to C:/Users/biocbuild/bbs-3.9-bioc/meat/BayesPeak.buildbin-libdir/00LOCK-BayesPeak/00new/BayesPeak/libs/i386
** R
** data
** inst
** byte-compile and prepare package for lazy loading
** help
*** installing help indices
converting help for package 'BayesPeak'
finding HTML links ... done
bayespeak html
finding level-2 HTML links ... done
Rd warning: C:/Users/biocbuild/bbs-3.9-bioc/tmpdir/RtmpOWtbiQ/R.INSTALL174c18256f65/BayesPeak/man/bayespeak.Rd:72: file link 'mclapply' in package 'parallel' does not exist and so has been treated as a topic
Rd warning: C:/Users/biocbuild/bbs-3.9-bioc/tmpdir/RtmpOWtbiQ/R.INSTALL174c18256f65/BayesPeak/man/bayespeak.Rd:76: file link 'mclapply' in package 'parallel' does not exist and so has been treated as a topic
overfitting html
plot.PP html
plot.bed html
plot.job html
raw.output.H3K4me3 html
raw.output html
read.bed html
summarise.peaks html
** building package indices
** installing vignettes
** testing if installed package can be loaded from temporary location
** testing if installed package can be loaded from final location
** testing if installed package keeps a record of temporary installation path
install for x64
* installing *source* package 'BayesPeak' ...
** libs
C:/Rtools/mingw_64/bin/gcc -I"C:/Users/BIOCBU˜1/BBS-3˜1.9-B/R/include" -DNDEBUG -I"C:/extsoft/include" -O2 -Wall -std=gnu99 -mtune=generic -c bayespeak.c -o bayespeak.o
bayespeak.c: In function 'bayespeak':
bayespeak.c:176:27: warning: variable 'M' set but not used [-Wunused-but-set-variable]
double M1, M2, M3, M4, M, a, b;
^
C:/Rtools/mingw_64/bin/gcc -shared -s -static-libgcc -o BayesPeak.dll tmp.def bayespeak.o -LC:/extsoft/lib/x64 -LC:/extsoft/lib -LC:/Users/BIOCBU˜1/BBS-3˜1.9-B/R/bin/x64 -lR
installing to C:/Users/biocbuild/bbs-3.9-bioc/meat/BayesPeak.buildbin-libdir/BayesPeak/libs/x64
** testing if installed package can be loaded
* MD5 sums
packaged installation of 'BayesPeak' as BayesPeak_1.35.0.zip
* DONE (BayesPeak)