| Back to Multiple platform build/check report for BioC 3.9 |
|
This page was generated on 2019-04-09 13:33:11 -0400 (Tue, 09 Apr 2019).
| Package 108/1703 | Hostname | OS / Arch | INSTALL | BUILD | CHECK | BUILD BIN | ||||||
| BatchQC 1.11.3 Solaiappan Manimaran
| malbec2 | Linux (Ubuntu 18.04.2 LTS) / x86_64 | OK | OK | OK | |||||||
| tokay2 | Windows Server 2012 R2 Standard / x64 | OK | OK | OK | OK | |||||||
| celaya2 | OS X 10.11.6 El Capitan / x86_64 | OK | OK | OK | OK | |||||||
| merida2 | OS X 10.11.6 El Capitan / x86_64 | OK | OK | OK | [ OK ] |
| Package: BatchQC |
| Version: 1.11.3 |
| Command: rm -rf BatchQC.buildbin-libdir && mkdir BatchQC.buildbin-libdir && /Users/biocbuild/BBS/utils/build-universal.sh BatchQC_1.11.3.tar.gz /Library/Frameworks/R.framework/Versions/Current/Resources/bin/R BatchQC.buildbin-libdir |
| StartedAt: 2019-04-09 04:46:00 -0400 (Tue, 09 Apr 2019) |
| EndedAt: 2019-04-09 04:47:22 -0400 (Tue, 09 Apr 2019) |
| EllapsedTime: 81.3 seconds |
| RetCode: 0 |
| Status: OK |
| PackageFile: BatchQC_1.11.3.tgz |
| PackageFileSize: 1.582 MiB |
############################################################################## ############################################################################## ### ### Running command: ### ### rm -rf BatchQC.buildbin-libdir && mkdir BatchQC.buildbin-libdir && /Users/biocbuild/BBS/utils/build-universal.sh BatchQC_1.11.3.tar.gz /Library/Frameworks/R.framework/Versions/Current/Resources/bin/R BatchQC.buildbin-libdir ### ############################################################################## ############################################################################## >>>>>>> >>>>>>> INSTALLATION WITH 'R CMD INSTALL --preclean --no-multiarch --library=BatchQC.buildbin-libdir BatchQC_1.11.3.tar.gz' >>>>>>> * installing *source* package ‘BatchQC’ ... ** R ** data ** inst ** byte-compile and prepare package for lazy loading ** help *** installing help indices ** building package indices ** installing vignettes ** testing if installed package can be loaded * DONE (BatchQC)