| Back to Multiple platform build/check report for BioC 3.9 | 
 | 
This page was generated on 2019-04-09 13:18:14 -0400 (Tue, 09 Apr 2019).
| Package 176/1703 | Hostname | OS / Arch | INSTALL | BUILD | CHECK | BUILD BIN | ||||||
| BLMA 1.7.0 Tin Nguyen 
 | malbec2 | Linux (Ubuntu 18.04.2 LTS) / x86_64 | OK | OK | OK |  | ||||||
| tokay2 | Windows Server 2012 R2 Standard / x64 | OK | OK | OK | OK |  | ||||||
| celaya2 | OS X 10.11.6 El Capitan / x86_64 | OK | OK | OK | [ OK ] |  | ||||||
| merida2 | OS X 10.11.6 El Capitan / x86_64 | OK | OK | OK | OK | 
| Package: BLMA | 
| Version: 1.7.0 | 
| Command: rm -rf BLMA.buildbin-libdir && mkdir BLMA.buildbin-libdir && /Users/biocbuild/BBS/utils/build-universal.sh BLMA_1.7.0.tar.gz /Library/Frameworks/R.framework/Versions/Current/Resources/bin/R BLMA.buildbin-libdir | 
| StartedAt: 2019-04-09 06:44:41 -0400 (Tue, 09 Apr 2019) | 
| EndedAt: 2019-04-09 06:45:08 -0400 (Tue, 09 Apr 2019) | 
| EllapsedTime: 27.2 seconds | 
| RetCode: 0 | 
| Status: OK | 
| PackageFile: BLMA_1.7.0.tgz | 
| PackageFileSize: 2.757 MiB | 
############################################################################## ############################################################################## ### ### Running command: ### ### rm -rf BLMA.buildbin-libdir && mkdir BLMA.buildbin-libdir && /Users/biocbuild/BBS/utils/build-universal.sh BLMA_1.7.0.tar.gz /Library/Frameworks/R.framework/Versions/Current/Resources/bin/R BLMA.buildbin-libdir ### ############################################################################## ############################################################################## >>>>>>> >>>>>>> INSTALLATION WITH 'R CMD INSTALL --preclean --no-multiarch --library=BLMA.buildbin-libdir BLMA_1.7.0.tar.gz' >>>>>>> * installing *source* package ‘BLMA’ ... ** using staged installation ** R ** data ** inst ** byte-compile and prepare package for lazy loading ** help *** installing help indices ** building package indices ** installing vignettes ** testing if installed package can be loaded from temporary location ** testing if installed package can be loaded from final location ** testing if installed package keeps a record of temporary installation path * DONE (BLMA)