| Back to Multiple platform build/check report for BioC 3.9 |
|
This page was generated on 2019-04-09 13:00:58 -0400 (Tue, 09 Apr 2019).
| Package 73/1703 | Hostname | OS / Arch | INSTALL | BUILD | CHECK | BUILD BIN | ||||||
| ArrayExpressHTS 1.33.1 Angela Goncalves
| malbec2 | Linux (Ubuntu 18.04.2 LTS) / x86_64 | ERROR | ERROR | skipped | |||||||
| tokay2 | Windows Server 2012 R2 Standard / x64 | ...NOT SUPPORTED... | ||||||||||
| celaya2 | OS X 10.11.6 El Capitan / x86_64 | [ ERROR ] | ERROR | skipped | skipped | |||||||
| merida2 | OS X 10.11.6 El Capitan / x86_64 | ERROR | ERROR | skipped | skipped | |||||||
| Package: ArrayExpressHTS |
| Version: 1.33.1 |
| Command: /Library/Frameworks/R.framework/Versions/Current/Resources/bin/R CMD INSTALL ArrayExpressHTS |
| StartedAt: 2019-04-08 18:47:09 -0400 (Mon, 08 Apr 2019) |
| EndedAt: 2019-04-08 18:47:11 -0400 (Mon, 08 Apr 2019) |
| EllapsedTime: 1.5 seconds |
| RetCode: 1 |
| Status: ERROR |
##############################################################################
##############################################################################
###
### Running command:
###
### /Library/Frameworks/R.framework/Versions/Current/Resources/bin/R CMD INSTALL ArrayExpressHTS
###
##############################################################################
##############################################################################
* installing to library ‘/Library/Frameworks/R.framework/Versions/3.6/Resources/library’
* installing *source* package ‘ArrayExpressHTS’ ...
** using staged installation
** libs
clang -I"/Library/Frameworks/R.framework/Resources/include" -DNDEBUG -D_USE_KNETFILE -DBGZF_CACHE -D_FILE_OFFSET_BITS=64 -D_LARGEFILE64_SOURCE -I"/Library/Frameworks/R.framework/Versions/3.6/Resources/library/Rsamtools/include" -I/usr/local/include -fPIC -Wall -g -O2 -c addXS.c -o addXS.o
addXS.c:42:5: warning: implicit declaration of function 'Rprintf' is invalid in C99 [-Wimplicit-function-declaration]
Rprintf("What?\n");
^
1 warning generated.
clang -I"/Library/Frameworks/R.framework/Resources/include" -DNDEBUG -D_USE_KNETFILE -DBGZF_CACHE -D_FILE_OFFSET_BITS=64 -D_LARGEFILE64_SOURCE -I"/Library/Frameworks/R.framework/Versions/3.6/Resources/library/Rsamtools/include" -I/usr/local/include -fPIC -Wall -g -O2 -c fltbam.c -o fltbam.o
fltbam.c:2:10: fatal error: 'samtools/sam.h' file not found
#include "samtools/sam.h"
^˜˜˜˜˜˜˜˜˜˜˜˜˜˜˜
1 error generated.
make: *** [fltbam.o] Error 1
ERROR: compilation failed for package ‘ArrayExpressHTS’
* removing ‘/Library/Frameworks/R.framework/Versions/3.6/Resources/library/ArrayExpressHTS’