| Back to Multiple platform build/check report for BioC 3.9 | 
 | 
This page was generated on 2019-04-09 13:28:04 -0400 (Tue, 09 Apr 2019).
| Package 61/1703 | Hostname | OS / Arch | INSTALL | BUILD | CHECK | BUILD BIN | ||||||
| AnnotationHub 2.15.12 Bioconductor Package Maintainer 
 | malbec2 | Linux (Ubuntu 18.04.2 LTS) / x86_64 | OK | OK | WARNINGS |  | ||||||
| tokay2 | Windows Server 2012 R2 Standard / x64 | OK | ERROR | skipped | skipped | |||||||
| celaya2 | OS X 10.11.6 El Capitan / x86_64 | OK | OK | WARNINGS | OK |  | ||||||
| merida2 | OS X 10.11.6 El Capitan / x86_64 | OK | OK | WARNINGS | [ OK ] | 
| Package: AnnotationHub | 
| Version: 2.15.12 | 
| Command: rm -rf AnnotationHub.buildbin-libdir && mkdir AnnotationHub.buildbin-libdir && /Users/biocbuild/BBS/utils/build-universal.sh AnnotationHub_2.15.12.tar.gz /Library/Frameworks/R.framework/Versions/Current/Resources/bin/R AnnotationHub.buildbin-libdir | 
| StartedAt: 2019-04-09 04:42:37 -0400 (Tue, 09 Apr 2019) | 
| EndedAt: 2019-04-09 04:43:56 -0400 (Tue, 09 Apr 2019) | 
| EllapsedTime: 78.6 seconds | 
| RetCode: 0 | 
| Status: OK | 
| PackageFile: AnnotationHub_2.15.12.tgz | 
| PackageFileSize: 1.364 MiB | 
############################################################################## ############################################################################## ### ### Running command: ### ### rm -rf AnnotationHub.buildbin-libdir && mkdir AnnotationHub.buildbin-libdir && /Users/biocbuild/BBS/utils/build-universal.sh AnnotationHub_2.15.12.tar.gz /Library/Frameworks/R.framework/Versions/Current/Resources/bin/R AnnotationHub.buildbin-libdir ### ############################################################################## ############################################################################## >>>>>>> >>>>>>> INSTALLATION WITH 'R CMD INSTALL --preclean --no-multiarch --library=AnnotationHub.buildbin-libdir AnnotationHub_2.15.12.tar.gz' >>>>>>> * installing *source* package ‘AnnotationHub’ ... ** R ** inst ** byte-compile and prepare package for lazy loading ** help *** installing help indices ** building package indices ** installing vignettes ** testing if installed package can be loaded * DONE (AnnotationHub)