| Back to Multiple platform build/check report for BioC 3.9 |
|
This page was generated on 2019-04-09 13:00:22 -0400 (Tue, 09 Apr 2019).
| Package 60/1703 | Hostname | OS / Arch | INSTALL | BUILD | CHECK | BUILD BIN | ||||||
| AnnotationFuncs 1.33.0 Stefan McKinnon Edwards
| malbec2 | Linux (Ubuntu 18.04.2 LTS) / x86_64 | OK | OK | OK | |||||||
| tokay2 | Windows Server 2012 R2 Standard / x64 | OK | OK | OK | OK | |||||||
| celaya2 | OS X 10.11.6 El Capitan / x86_64 | OK | OK | [ OK ] | OK | |||||||
| merida2 | OS X 10.11.6 El Capitan / x86_64 | OK | OK | OK | OK |
| Package: AnnotationFuncs |
| Version: 1.33.0 |
| Command: /Library/Frameworks/R.framework/Versions/Current/Resources/bin/R CMD check --install=check:AnnotationFuncs.install-out.txt --library=/Library/Frameworks/R.framework/Versions/Current/Resources/library --no-vignettes --timings AnnotationFuncs_1.33.0.tar.gz |
| StartedAt: 2019-04-08 23:51:07 -0400 (Mon, 08 Apr 2019) |
| EndedAt: 2019-04-08 23:52:37 -0400 (Mon, 08 Apr 2019) |
| EllapsedTime: 89.6 seconds |
| RetCode: 0 |
| Status: OK |
| CheckDir: AnnotationFuncs.Rcheck |
| Warnings: 0 |
##############################################################################
##############################################################################
###
### Running command:
###
### /Library/Frameworks/R.framework/Versions/Current/Resources/bin/R CMD check --install=check:AnnotationFuncs.install-out.txt --library=/Library/Frameworks/R.framework/Versions/Current/Resources/library --no-vignettes --timings AnnotationFuncs_1.33.0.tar.gz
###
##############################################################################
##############################################################################
* using log directory ‘/Users/biocbuild/bbs-3.9-bioc/meat/AnnotationFuncs.Rcheck’
* using R Under development (unstable) (2019-03-18 r76245)
* using platform: x86_64-apple-darwin15.6.0 (64-bit)
* using session charset: UTF-8
* using option ‘--no-vignettes’
* checking for file ‘AnnotationFuncs/DESCRIPTION’ ... OK
* this is package ‘AnnotationFuncs’ version ‘1.33.0’
* checking package namespace information ... OK
* checking package dependencies ... OK
* checking if this is a source package ... OK
* checking if there is a namespace ... OK
* checking for hidden files and directories ... OK
* checking for portable file names ... OK
* checking for sufficient/correct file permissions ... OK
* checking whether package ‘AnnotationFuncs’ can be installed ... OK
* checking installed package size ... OK
* checking package directory ... OK
* checking ‘build’ directory ... OK
* checking DESCRIPTION meta-information ... NOTE
BugReports field should not be empty
* checking top-level files ... OK
* checking for left-over files ... OK
* checking index information ... OK
* checking package subdirectories ... OK
* checking R files for non-ASCII characters ... OK
* checking R files for syntax errors ... OK
* checking whether the package can be loaded ... OK
* checking whether the package can be loaded with stated dependencies ... OK
* checking whether the package can be unloaded cleanly ... OK
* checking whether the namespace can be loaded with stated dependencies ... OK
* checking whether the namespace can be unloaded cleanly ... OK
* checking dependencies in R code ... NOTE
Package in Depends field not imported from: ‘AnnotationDbi’
These packages need to be imported from (in the NAMESPACE file)
for when this namespace is loaded but not attached.
* checking S3 generic/method consistency ... OK
* checking replacement functions ... OK
* checking foreign function calls ... OK
* checking R code for possible problems ... NOTE
getOrthologs: no visible global function definition for ‘dbmeta’
getOrthologs: no visible global function definition for ‘dbconn’
getOrthologs: no visible global function definition for ‘dbfile’
getOrthologs: no visible global function definition for ‘direction’
translate: no visible global function definition for ‘dbmeta’
translate: no visible global function definition for ‘dbconn’
translate: no visible global function definition for ‘stack’
Undefined global functions or variables:
dbconn dbfile dbmeta direction stack
Consider adding
importFrom("utils", "stack")
to your NAMESPACE file.
* checking Rd files ... OK
* checking Rd metadata ... OK
* checking Rd cross-references ... OK
* checking for missing documentation entries ... OK
* checking for code/documentation mismatches ... OK
* checking Rd \usage sections ... OK
* checking Rd contents ... OK
* checking for unstated dependencies in examples ... OK
* checking sizes of PDF files under ‘inst/doc’ ... OK
* checking files in ‘vignettes’ ... OK
* checking examples ... OK
* checking for unstated dependencies in vignettes ... OK
* checking package vignettes in ‘inst/doc’ ... OK
* checking running R code from vignettes ... SKIPPED
* checking re-building of vignette outputs ... SKIPPED
* checking PDF version of manual ... OK
* DONE
Status: 3 NOTEs
See
‘/Users/biocbuild/bbs-3.9-bioc/meat/AnnotationFuncs.Rcheck/00check.log’
for details.
AnnotationFuncs.Rcheck/00install.out
############################################################################## ############################################################################## ### ### Running command: ### ### /Library/Frameworks/R.framework/Versions/Current/Resources/bin/R CMD INSTALL AnnotationFuncs ### ############################################################################## ############################################################################## * installing to library ‘/Library/Frameworks/R.framework/Versions/3.6/Resources/library’ * installing *source* package ‘AnnotationFuncs’ ... ** using staged installation ** R ** inst ** byte-compile and prepare package for lazy loading ** help *** installing help indices ** building package indices ** installing vignettes ** testing if installed package can be loaded from temporary location ** testing if installed package can be loaded from final location ** testing if installed package keeps a record of temporary installation path * DONE (AnnotationFuncs)
AnnotationFuncs.Rcheck/AnnotationFuncs-Ex.timings
| name | user | system | elapsed | |
| AnnotationFuncs-package | 0.905 | 0.046 | 0.967 | |
| getEvidenceCodes | 0.001 | 0.000 | 0.001 | |
| getOrthologs | 0.790 | 0.144 | 0.967 | |
| mapLists | 0.001 | 0.001 | 0.002 | |
| pickGO | 0.102 | 0.007 | 0.140 | |
| pickRefSeq | 0.057 | 0.002 | 0.061 | |
| removeNAs | 0 | 0 | 0 | |
| translate | 0.179 | 0.009 | 0.188 | |