| Back to Multiple platform build/check report for BioC 3.9 |
|
This page was generated on 2019-04-09 12:26:03 -0400 (Tue, 09 Apr 2019).
| Package 52/1703 | Hostname | OS / Arch | INSTALL | BUILD | CHECK | BUILD BIN | ||||||
| AneuFinder 1.11.2 Aaron Taudt
| malbec2 | Linux (Ubuntu 18.04.2 LTS) / x86_64 | OK | OK | OK | |||||||
| tokay2 | Windows Server 2012 R2 Standard / x64 | OK | OK | OK | [ OK ] | |||||||
| celaya2 | OS X 10.11.6 El Capitan / x86_64 | OK | OK | OK | OK | |||||||
| merida2 | OS X 10.11.6 El Capitan / x86_64 | OK | OK | OK | OK |
| Package: AneuFinder |
| Version: 1.11.2 |
| Command: rm -rf AneuFinder.buildbin-libdir && mkdir AneuFinder.buildbin-libdir && C:\Users\biocbuild\bbs-3.9-bioc\R\bin\R.exe CMD INSTALL --merge-multiarch --build --library=AneuFinder.buildbin-libdir AneuFinder_1.11.2.tar.gz |
| StartedAt: 2019-04-09 07:25:07 -0400 (Tue, 09 Apr 2019) |
| EndedAt: 2019-04-09 07:26:42 -0400 (Tue, 09 Apr 2019) |
| EllapsedTime: 95.0 seconds |
| RetCode: 0 |
| Status: OK |
| PackageFile: AneuFinder_1.11.2.zip |
| PackageFileSize: 1.651 MiB |
##############################################################################
##############################################################################
###
### Running command:
###
### rm -rf AneuFinder.buildbin-libdir && mkdir AneuFinder.buildbin-libdir && C:\Users\biocbuild\bbs-3.9-bioc\R\bin\R.exe CMD INSTALL --merge-multiarch --build --library=AneuFinder.buildbin-libdir AneuFinder_1.11.2.tar.gz
###
##############################################################################
##############################################################################
install for i386
* installing *source* package 'AneuFinder' ...
** libs
C:/Rtools/mingw_32/bin/g++ -I"C:/Users/BIOCBU˜1/BBS-3˜1.9-B/R/include" -DNDEBUG -I"C:/extsoft/include" -O2 -Wall -mtune=generic -c R_interface.cpp -o R_interface.o
C:/Rtools/mingw_32/bin/g++ -I"C:/Users/BIOCBU˜1/BBS-3˜1.9-B/R/include" -DNDEBUG -I"C:/extsoft/include" -O2 -Wall -mtune=generic -c densities.cpp -o densities.o
C:/Rtools/mingw_32/bin/g++ -I"C:/Users/BIOCBU˜1/BBS-3˜1.9-B/R/include" -DNDEBUG -I"C:/extsoft/include" -O2 -Wall -mtune=generic -c init.cpp -o init.o
C:/Rtools/mingw_32/bin/g++ -I"C:/Users/BIOCBU˜1/BBS-3˜1.9-B/R/include" -DNDEBUG -I"C:/extsoft/include" -O2 -Wall -mtune=generic -c loghmm.cpp -o loghmm.o
loghmm.cpp:320:0: warning: ignoring #pragma omp parallel [-Wunknown-pragmas]
#pragma omp parallel for
^
loghmm.cpp:480:0: warning: ignoring #pragma omp parallel [-Wunknown-pragmas]
#pragma omp parallel for
^
loghmm.cpp:518:0: warning: ignoring #pragma omp parallel [-Wunknown-pragmas]
#pragma omp parallel for
^
loghmm.cpp:583:0: warning: ignoring #pragma omp parallel [-Wunknown-pragmas]
#pragma omp parallel for
^
C:/Rtools/mingw_32/bin/g++ -I"C:/Users/BIOCBU˜1/BBS-3˜1.9-B/R/include" -DNDEBUG -I"C:/extsoft/include" -O2 -Wall -mtune=generic -c scalehmm.cpp -o scalehmm.o
scalehmm.cpp:384:0: warning: ignoring #pragma omp parallel [-Wunknown-pragmas]
#pragma omp parallel for
^
scalehmm.cpp:400:0: warning: ignoring #pragma omp parallel [-Wunknown-pragmas]
#pragma omp parallel for
^
scalehmm.cpp:694:0: warning: ignoring #pragma omp parallel [-Wunknown-pragmas]
#pragma omp parallel for
^
scalehmm.cpp:732:0: warning: ignoring #pragma omp parallel [-Wunknown-pragmas]
#pragma omp parallel for
^
scalehmm.cpp:791:0: warning: ignoring #pragma omp parallel [-Wunknown-pragmas]
#pragma omp parallel for
^
C:/Rtools/mingw_32/bin/g++ -I"C:/Users/BIOCBU˜1/BBS-3˜1.9-B/R/include" -DNDEBUG -I"C:/extsoft/include" -O2 -Wall -mtune=generic -c utility.cpp -o utility.o
C:/Rtools/mingw_32/bin/g++ -shared -s -static-libgcc -o AneuFinder.dll tmp.def R_interface.o densities.o init.o loghmm.o scalehmm.o utility.o -LC:/extsoft/lib/i386 -LC:/extsoft/lib -LC:/Users/BIOCBU˜1/BBS-3˜1.9-B/R/bin/i386 -lR
installing to C:/Users/biocbuild/bbs-3.9-bioc/meat/AneuFinder.buildbin-libdir/00LOCK-AneuFinder/00new/AneuFinder/libs/i386
** R
** inst
** byte-compile and prepare package for lazy loading
** help
*** installing help indices
converting help for package 'AneuFinder'
finding HTML links ... done
AneuFinder-package html
Aneufinder html
finding level-2 HTML links ... done
DNAcopy.findCNVs html
HMM.findCNVs html
aneuBiHMM html
aneuHMM html
annotateBreakpoints html
bam2GRanges html
bed2GRanges html
bi.edivisive.findCNVs html
biDNAcopy.findCNVs html
biHMM.findCNVs html
binReads html
binned.data html
binning html
blacklist html
clusterByQuality html
clusterHMMs html
collapseBins html
colors html
compareMethods html
compareModels html
consensusSegments html
correctGC html
edivisive.findCNVs html
estimateComplexity html
export html
filterSegments html
findCNVs html
findCNVs.strandseq html
findHotspots html
fixedWidthBins html
getBreakpoints html
getDistinctColors html
getQC html
getSCEcoordinates html
heatmapAneuploidies html
heatmapGenomewide html
heatmapGenomewideClusters html
hotspotter html
hotspotter.variable html
importBed html
initializeStates html
karyotypeMeasures html
loadFromFiles html
mergeStrandseqFiles html
plot.GRanges html
plot.GRangesList html
plot.aneuBiHMM html
plot.aneuHMM html
plot.character html
plotHeterogeneity html
plotHistogram html
plotKaryogram html
plotProfile html
plot_pca html
print.aneuBiHMM html
print.aneuHMM html
qualityControl html
readConfig html
refineBreakpoints html
simulateReads html
subsetByCNVprofile html
transCoord html
variableWidthBins html
writeConfig html
zinbinom html
** building package indices
** installing vignettes
** testing if installed package can be loaded from temporary location
** testing if installed package can be loaded from final location
** testing if installed package keeps a record of temporary installation path
install for x64
* installing *source* package 'AneuFinder' ...
** libs
C:/Rtools/mingw_64/bin/g++ -I"C:/Users/BIOCBU˜1/BBS-3˜1.9-B/R/include" -DNDEBUG -I"C:/extsoft/include" -O2 -Wall -mtune=generic -c R_interface.cpp -o R_interface.o
C:/Rtools/mingw_64/bin/g++ -I"C:/Users/BIOCBU˜1/BBS-3˜1.9-B/R/include" -DNDEBUG -I"C:/extsoft/include" -O2 -Wall -mtune=generic -c densities.cpp -o densities.o
C:/Rtools/mingw_64/bin/g++ -I"C:/Users/BIOCBU˜1/BBS-3˜1.9-B/R/include" -DNDEBUG -I"C:/extsoft/include" -O2 -Wall -mtune=generic -c init.cpp -o init.o
C:/Rtools/mingw_64/bin/g++ -I"C:/Users/BIOCBU˜1/BBS-3˜1.9-B/R/include" -DNDEBUG -I"C:/extsoft/include" -O2 -Wall -mtune=generic -c loghmm.cpp -o loghmm.o
loghmm.cpp:320:0: warning: ignoring #pragma omp parallel [-Wunknown-pragmas]
#pragma omp parallel for
^
loghmm.cpp:480:0: warning: ignoring #pragma omp parallel [-Wunknown-pragmas]
#pragma omp parallel for
^
loghmm.cpp:518:0: warning: ignoring #pragma omp parallel [-Wunknown-pragmas]
#pragma omp parallel for
^
loghmm.cpp:583:0: warning: ignoring #pragma omp parallel [-Wunknown-pragmas]
#pragma omp parallel for
^
C:/Rtools/mingw_64/bin/g++ -I"C:/Users/BIOCBU˜1/BBS-3˜1.9-B/R/include" -DNDEBUG -I"C:/extsoft/include" -O2 -Wall -mtune=generic -c scalehmm.cpp -o scalehmm.o
scalehmm.cpp:384:0: warning: ignoring #pragma omp parallel [-Wunknown-pragmas]
#pragma omp parallel for
^
scalehmm.cpp:400:0: warning: ignoring #pragma omp parallel [-Wunknown-pragmas]
#pragma omp parallel for
^
scalehmm.cpp:694:0: warning: ignoring #pragma omp parallel [-Wunknown-pragmas]
#pragma omp parallel for
^
scalehmm.cpp:732:0: warning: ignoring #pragma omp parallel [-Wunknown-pragmas]
#pragma omp parallel for
^
scalehmm.cpp:791:0: warning: ignoring #pragma omp parallel [-Wunknown-pragmas]
#pragma omp parallel for
^
C:/Rtools/mingw_64/bin/g++ -I"C:/Users/BIOCBU˜1/BBS-3˜1.9-B/R/include" -DNDEBUG -I"C:/extsoft/include" -O2 -Wall -mtune=generic -c utility.cpp -o utility.o
C:/Rtools/mingw_64/bin/g++ -shared -s -static-libgcc -o AneuFinder.dll tmp.def R_interface.o densities.o init.o loghmm.o scalehmm.o utility.o -LC:/extsoft/lib/x64 -LC:/extsoft/lib -LC:/Users/BIOCBU˜1/BBS-3˜1.9-B/R/bin/x64 -lR
installing to C:/Users/biocbuild/bbs-3.9-bioc/meat/AneuFinder.buildbin-libdir/AneuFinder/libs/x64
** testing if installed package can be loaded
* MD5 sums
packaged installation of 'AneuFinder' as AneuFinder_1.11.2.zip
* DONE (AneuFinder)