| Back to Multiple platform build/check report for BioC 3.9 |
|
This page was generated on 2019-04-09 12:27:09 -0400 (Tue, 09 Apr 2019).
| Package 51/1703 | Hostname | OS / Arch | INSTALL | BUILD | CHECK | BUILD BIN | ||||||
| Anaquin 2.7.1 Ted Wong
| malbec2 | Linux (Ubuntu 18.04.2 LTS) / x86_64 | OK | OK | OK | |||||||
| tokay2 | Windows Server 2012 R2 Standard / x64 | OK | OK | OK | [ OK ] | |||||||
| celaya2 | OS X 10.11.6 El Capitan / x86_64 | OK | OK | OK | OK | |||||||
| merida2 | OS X 10.11.6 El Capitan / x86_64 | OK | OK | OK | OK |
| Package: Anaquin |
| Version: 2.7.1 |
| Command: rm -rf Anaquin.buildbin-libdir && mkdir Anaquin.buildbin-libdir && C:\Users\biocbuild\bbs-3.9-bioc\R\bin\R.exe CMD INSTALL --merge-multiarch --build --library=Anaquin.buildbin-libdir Anaquin_2.7.1.tar.gz |
| StartedAt: 2019-04-09 07:25:03 -0400 (Tue, 09 Apr 2019) |
| EndedAt: 2019-04-09 07:25:40 -0400 (Tue, 09 Apr 2019) |
| EllapsedTime: 36.7 seconds |
| RetCode: 0 |
| Status: OK |
| PackageFile: Anaquin_2.7.1.zip |
| PackageFileSize: 453.6 KiB |
##############################################################################
##############################################################################
###
### Running command:
###
### rm -rf Anaquin.buildbin-libdir && mkdir Anaquin.buildbin-libdir && C:\Users\biocbuild\bbs-3.9-bioc\R\bin\R.exe CMD INSTALL --merge-multiarch --build --library=Anaquin.buildbin-libdir Anaquin_2.7.1.tar.gz
###
##############################################################################
##############################################################################
install for i386
* installing *source* package 'Anaquin' ...
** R
** data
*** moving datasets to lazyload DB
** inst
** byte-compile and prepare package for lazy loading
** help
*** installing help indices
converting help for package 'Anaquin'
finding HTML links ... done
RnaQuinGeneMixture html
RnaQuinIsoformMixture html
UserGuideData_5.4.5.1 html
UserGuideData_5.4.6.3 html
UserGuideData_5.6.3 html
plotConjoint html
plotLOD html
plotLinear html
plotLogistic html
plotROC html
** building package indices
** installing vignettes
** testing if installed package can be loaded from temporary location
** testing if installed package can be loaded from final location
** testing if installed package keeps a record of temporary installation path
install for x64
* installing *source* package 'Anaquin' ...
** testing if installed package can be loaded
* MD5 sums
packaged installation of 'Anaquin' as Anaquin_2.7.1.zip
* DONE (Anaquin)